BEGIN:VCALENDAR
VERSION:2.0
PRODID:-//Mark T. Barclay | Preacher of Righteousness - ECPv6.15.20//NONSGML v1.0//EN
CALSCALE:GREGORIAN
METHOD:PUBLISH
X-WR-CALNAME:Mark T. Barclay | Preacher of Righteousness
X-ORIGINAL-URL:https://marktbarclay.com
X-WR-CALDESC:Events for Mark T. Barclay | Preacher of Righteousness
REFRESH-INTERVAL;VALUE=DURATION:PT1H
X-Robots-Tag:noindex
X-PUBLISHED-TTL:PT1H
BEGIN:VTIMEZONE
TZID:America/Detroit
BEGIN:DAYLIGHT
TZOFFSETFROM:-0500
TZOFFSETTO:-0400
TZNAME:EDT
DTSTART:20230312T070000
END:DAYLIGHT
BEGIN:STANDARD
TZOFFSETFROM:-0400
TZOFFSETTO:-0500
TZNAME:EST
DTSTART:20231105T060000
END:STANDARD
BEGIN:DAYLIGHT
TZOFFSETFROM:-0500
TZOFFSETTO:-0400
TZNAME:EDT
DTSTART:20240310T070000
END:DAYLIGHT
BEGIN:STANDARD
TZOFFSETFROM:-0400
TZOFFSETTO:-0500
TZNAME:EST
DTSTART:20241103T060000
END:STANDARD
BEGIN:DAYLIGHT
TZOFFSETFROM:-0500
TZOFFSETTO:-0400
TZNAME:EDT
DTSTART:20250309T070000
END:DAYLIGHT
BEGIN:STANDARD
TZOFFSETFROM:-0400
TZOFFSETTO:-0500
TZNAME:EST
DTSTART:20251102T060000
END:STANDARD
END:VTIMEZONE
BEGIN:VTIMEZONE
TZID:America/Chicago
BEGIN:DAYLIGHT
TZOFFSETFROM:-0600
TZOFFSETTO:-0500
TZNAME:CDT
DTSTART:20230312T080000
END:DAYLIGHT
BEGIN:STANDARD
TZOFFSETFROM:-0500
TZOFFSETTO:-0600
TZNAME:CST
DTSTART:20231105T070000
END:STANDARD
BEGIN:DAYLIGHT
TZOFFSETFROM:-0600
TZOFFSETTO:-0500
TZNAME:CDT
DTSTART:20240310T080000
END:DAYLIGHT
BEGIN:STANDARD
TZOFFSETFROM:-0500
TZOFFSETTO:-0600
TZNAME:CST
DTSTART:20241103T070000
END:STANDARD
BEGIN:DAYLIGHT
TZOFFSETFROM:-0600
TZOFFSETTO:-0500
TZNAME:CDT
DTSTART:20250309T080000
END:DAYLIGHT
BEGIN:STANDARD
TZOFFSETFROM:-0500
TZOFFSETTO:-0600
TZNAME:CST
DTSTART:20251102T070000
END:STANDARD
END:VTIMEZONE
BEGIN:VEVENT
DTSTART;TZID=America/Detroit:20240501T190000
DTEND;TZID=America/Detroit:20240501T200000
DTSTAMP:20260421T090946
CREATED:20231221T174229Z
LAST-MODIFIED:20240322T135324Z
UID:6334-1714590000-1714593600@marktbarclay.com
SUMMARY:Mark T. Barclay in Southfield\, MI
DESCRIPTION:Word of Faith’s 2024 Ministerial Leadership Conference \nno registration required
URL:https://marktbarclay.com/event/mark-t-barclay-in-southfield-mi/
LOCATION:Word of Faith Int’l Christian Center\, 20000 W. Nine Mile Rd.\, Southfield\, 48075-5597\, United States
CATEGORIES:Mark T. Barclay
END:VEVENT
BEGIN:VEVENT
DTSTART;TZID=America/Detroit:20240501T190000
DTEND;TZID=America/Detroit:20240501T200000
DTSTAMP:20260421T090946
CREATED:20231221T174229Z
LAST-MODIFIED:20240322T135324Z
UID:6334-1714590000-1714593600@marktbarclay.com
SUMMARY:Mark T. Barclay in Southfield\, MI
DESCRIPTION:Word of Faith’s 2024 Ministerial Leadership Conference \nno registration required
URL:https://marktbarclay.com/event/mark-t-barclay-in-southfield-mi/
LOCATION:Word of Faith Int’l Christian Center\, 20000 W. Nine Mile Rd.\, Southfield\, 48075-5597\, United States
CATEGORIES:Mark T. Barclay
END:VEVENT
BEGIN:VEVENT
DTSTART;TZID=America/Detroit:20240501T190000
DTEND;TZID=America/Detroit:20240501T200000
DTSTAMP:20260421T090946
CREATED:20231221T174229Z
LAST-MODIFIED:20240322T135324Z
UID:6334-1714590000-1714593600@marktbarclay.com
SUMMARY:Mark T. Barclay in Southfield\, MI
DESCRIPTION:Word of Faith’s 2024 Ministerial Leadership Conference \nno registration required
URL:https://marktbarclay.com/event/mark-t-barclay-in-southfield-mi/
LOCATION:Word of Faith Int’l Christian Center\, 20000 W. Nine Mile Rd.\, Southfield\, 48075-5597\, United States
CATEGORIES:Mark T. Barclay
END:VEVENT
BEGIN:VEVENT
DTSTART;TZID=America/Chicago:20240505T100000
DTEND;TZID=America/Chicago:20240505T120000
DTSTAMP:20260421T090946
CREATED:20240123T191147Z
LAST-MODIFIED:20240123T191147Z
UID:7408-1714903200-1714910400@marktbarclay.com
SUMMARY:Mark T. Barclay in Neligh\, NE
DESCRIPTION:
URL:https://marktbarclay.com/event/mark-t-barclay-in-neligh-ne-3/
LOCATION:Abundant Life Christian Center\, 1101 L Street\, Neligh\, NE\, 68756\, United States
CATEGORIES:Mark T. Barclay
END:VEVENT
BEGIN:VEVENT
DTSTART;TZID=America/Chicago:20240505T180000
DTEND;TZID=America/Chicago:20240505T200000
DTSTAMP:20260421T090946
CREATED:20240322T152309Z
LAST-MODIFIED:20240322T152309Z
UID:10058-1714932000-1714939200@marktbarclay.com
SUMMARY:Mark T. Barclay in Wichita\, KS
DESCRIPTION:
URL:https://marktbarclay.com/event/mark-t-barclay-in-wichita-ks-2/
LOCATION:Triumphant Faith Center\, 5103 South Seneca Street\, Wichita\, 67217
CATEGORIES:Mark T. Barclay
END:VEVENT
BEGIN:VEVENT
DTSTART;VALUE=DATE:20240530
DTEND;VALUE=DATE:20240602
DTSTAMP:20260421T090946
CREATED:20230905T200047Z
LAST-MODIFIED:20240212T160024Z
UID:2992-1717027200-1717286399@marktbarclay.com
SUMMARY:Vickie L. Barclay's Women of Righteousness Conference
DESCRIPTION:For over 20 years now\, women from across the nation (and the globe) have trekked to Midland\, MI\, for the annual Women of Righteousness conference. It’s the biggest party of the year…and we want YOU to join us! \nWe’re talking about a ladies-only weekend to recharge and refresh your faith in a really big way. You’ll leave the Women of Righteousness weekend feeling encouraged and rejuvenated. It’ll give you the push you need to face life with a new outlook. If you come with friends you’ll leave closer than you were; and if you come alone\, we’re sure you’ll meet someone fabulous along the way. \nSo c’mon and join us in Midland\, MI\, for our annual women’s conference! You’ll experience anointed worship\, encouragement from God’s Word\, and have a whole lot of fun with women just like you! \nRegistration details are soon to follow!
URL:https://marktbarclay.com/event/vickie-l-barclays-women-of-righteousness-conference-2/
LOCATION:Living Word International\, 2010 Stark Rd.\, Midland\, MI\, 48642\, United States
CATEGORIES:Conference
END:VEVENT
END:VCALENDAR