BEGIN:VCALENDAR
VERSION:2.0
PRODID:-//Mark T. Barclay | Preacher of Righteousness - ECPv6.15.20//NONSGML v1.0//EN
CALSCALE:GREGORIAN
METHOD:PUBLISH
X-ORIGINAL-URL:https://marktbarclay.com
X-WR-CALDESC:Events for Mark T. Barclay | Preacher of Righteousness
REFRESH-INTERVAL;VALUE=DURATION:PT1H
X-Robots-Tag:noindex
X-PUBLISHED-TTL:PT1H
BEGIN:VTIMEZONE
TZID:America/Detroit
BEGIN:DAYLIGHT
TZOFFSETFROM:-0500
TZOFFSETTO:-0400
TZNAME:EDT
DTSTART:20230312T070000
END:DAYLIGHT
BEGIN:STANDARD
TZOFFSETFROM:-0400
TZOFFSETTO:-0500
TZNAME:EST
DTSTART:20231105T060000
END:STANDARD
BEGIN:DAYLIGHT
TZOFFSETFROM:-0500
TZOFFSETTO:-0400
TZNAME:EDT
DTSTART:20240310T070000
END:DAYLIGHT
BEGIN:STANDARD
TZOFFSETFROM:-0400
TZOFFSETTO:-0500
TZNAME:EST
DTSTART:20241103T060000
END:STANDARD
BEGIN:DAYLIGHT
TZOFFSETFROM:-0500
TZOFFSETTO:-0400
TZNAME:EDT
DTSTART:20250309T070000
END:DAYLIGHT
BEGIN:STANDARD
TZOFFSETFROM:-0400
TZOFFSETTO:-0500
TZNAME:EST
DTSTART:20251102T060000
END:STANDARD
END:VTIMEZONE
BEGIN:VTIMEZONE
TZID:America/Chicago
BEGIN:DAYLIGHT
TZOFFSETFROM:-0600
TZOFFSETTO:-0500
TZNAME:CDT
DTSTART:20230312T080000
END:DAYLIGHT
BEGIN:STANDARD
TZOFFSETFROM:-0500
TZOFFSETTO:-0600
TZNAME:CST
DTSTART:20231105T070000
END:STANDARD
BEGIN:DAYLIGHT
TZOFFSETFROM:-0600
TZOFFSETTO:-0500
TZNAME:CDT
DTSTART:20240310T080000
END:DAYLIGHT
BEGIN:STANDARD
TZOFFSETFROM:-0500
TZOFFSETTO:-0600
TZNAME:CST
DTSTART:20241103T070000
END:STANDARD
BEGIN:DAYLIGHT
TZOFFSETFROM:-0600
TZOFFSETTO:-0500
TZNAME:CDT
DTSTART:20250309T080000
END:DAYLIGHT
BEGIN:STANDARD
TZOFFSETFROM:-0500
TZOFFSETTO:-0600
TZNAME:CST
DTSTART:20251102T070000
END:STANDARD
END:VTIMEZONE
BEGIN:VEVENT
DTSTART;TZID=America/Detroit:20240404T190000
DTEND;TZID=America/Detroit:20240404T210000
DTSTAMP:20260421T103151
CREATED:20240316T165801Z
LAST-MODIFIED:20240316T165801Z
UID:9852-1712257200-1712264400@marktbarclay.com
SUMMARY:Rev. Josh Willis in Midland\, MI
DESCRIPTION:
URL:https://marktbarclay.com/event/rev-josh-willis-in-midland-mi/
LOCATION:Living Word International\, 2010 Stark Rd.\, Midland\, MI\, 48642\, United States
CATEGORIES:Guest Minister
END:VEVENT
BEGIN:VEVENT
DTSTART;TZID=America/Detroit:20240407T104500
DTEND;TZID=America/Detroit:20240407T124500
DTSTAMP:20260421T103151
CREATED:20240119T201514Z
LAST-MODIFIED:20240119T201514Z
UID:7254-1712486700-1712493900@marktbarclay.com
SUMMARY:Mark T. Barclay in Louisville\, KY
DESCRIPTION:
URL:https://marktbarclay.com/event/mark-t-barclay-in-louisville-ky-3/
LOCATION:Life of Faith Bible Church\, 14200 Spegal Lane\, Louisville\, KY\, 40299\, United States
CATEGORIES:Mark T. Barclay
END:VEVENT
BEGIN:VEVENT
DTSTART;TZID=America/Detroit:20240407T180000
DTEND;TZID=America/Detroit:20240407T200000
DTSTAMP:20260421T103151
CREATED:20240131T203011Z
LAST-MODIFIED:20240131T203011Z
UID:8364-1712512800-1712520000@marktbarclay.com
SUMMARY:Mark T. Barclay in Radcliff\, KY
DESCRIPTION:
URL:https://marktbarclay.com/event/mark-t-barclay-in-radcliff-ky-3/
LOCATION:Abundant Life Church\, 1511 South Dixie Blvd\, Radcliff\, KY\, 40160-1139\, United States
CATEGORIES:Mark T. Barclay
END:VEVENT
BEGIN:VEVENT
DTSTART;VALUE=DATE:20240409
DTEND;VALUE=DATE:20240413
DTSTAMP:20260421T103151
CREATED:20230905T195722Z
LAST-MODIFIED:20230905T200143Z
UID:2990-1712620800-1712966399@marktbarclay.com
SUMMARY:Clarksville Holy Spirit Conference
DESCRIPTION:Tuesday 7pm\, Wednesday 10:30am & 7pm\, Thursday 10:30am & 7pm\, and Friday 10:30am & 7pm
URL:https://marktbarclay.com/event/clarksville-holy-spirit-conference-2/
LOCATION:Faith Outreach Church\, 731 Windermere Dr\, Clarksville\, TN\, 37043-8415
CATEGORIES:Conference
END:VEVENT
BEGIN:VEVENT
DTSTART;VALUE=DATE:20240419
DTEND;VALUE=DATE:20240421
DTSTAMP:20260421T103151
CREATED:20231122T190324Z
LAST-MODIFIED:20240404T153449Z
UID:4319-1713484800-1713657599@marktbarclay.com
SUMMARY:Mark T. Barclay in Muskegon\, MI
DESCRIPTION:*Men’s Meeting. Dr. Barclay will be speaking at 12:15pm on Saturday\, April 20th
URL:https://marktbarclay.com/event/mark-t-barclay-in-muskegon-mi-7/
LOCATION:Living Word Muskegon\, 1551 Wood St.\, Muskegon\, MI\, 49442\, United States
END:VEVENT
BEGIN:VEVENT
DTSTART;TZID=America/Chicago:20240421T100000
DTEND;TZID=America/Chicago:20240421T100000
DTSTAMP:20260421T103151
CREATED:20231110T202243Z
LAST-MODIFIED:20231110T202246Z
UID:3196-1713693600-1713693600@marktbarclay.com
SUMMARY:Mark T. Barclay in Benton\, AR
DESCRIPTION:
URL:https://marktbarclay.com/event/mark-t-barclay-in-benton-ar-4/
LOCATION:CenterPoint Church\, 20383 I-30\, Benton\, AR\, 72015\, United States
CATEGORIES:Mark T. Barclay
END:VEVENT
BEGIN:VEVENT
DTSTART;TZID=America/Chicago:20240421T180000
DTEND;TZID=America/Chicago:20240421T200000
DTSTAMP:20260421T103151
CREATED:20240124T184221Z
LAST-MODIFIED:20240124T184221Z
UID:7544-1713722400-1713729600@marktbarclay.com
SUMMARY:Mark T. Barclay in Bartlett\, IL
DESCRIPTION:
URL:https://marktbarclay.com/event/mark-t-barclay-in-bartlett-il-16/
LOCATION:Faith World Outreach Church\, 1280 S IL Route 59\, Bartlett\, IL\, 60103-3006\, United States
CATEGORIES:Mark T. Barclay
END:VEVENT
BEGIN:VEVENT
DTSTART;TZID=America/Chicago:20240424T190000
DTEND;TZID=America/Chicago:20240424T210000
DTSTAMP:20260421T103151
CREATED:20240110T160612Z
LAST-MODIFIED:20240110T160621Z
UID:6777-1713985200-1713992400@marktbarclay.com
SUMMARY:Mark T. Barclay in Cordova\, AL
DESCRIPTION:
URL:https://marktbarclay.com/event/mark-t-barclay-in-cordova-al-2/
LOCATION:Gathering Church\, 8090 Highway 78\, Cordova\, AL\, 35550\, United States
CATEGORIES:Mark T. Barclay
END:VEVENT
BEGIN:VEVENT
DTSTART;TZID=America/Detroit:20240425T190000
DTEND;TZID=America/Detroit:20240425T210000
DTSTAMP:20260421T103151
CREATED:20240219T192956Z
LAST-MODIFIED:20240318T165246Z
UID:9334-1714071600-1714078800@marktbarclay.com
SUMMARY:Mark T. Barclay in LaGrange\, GA
DESCRIPTION:
URL:https://marktbarclay.com/event/mark-t-barclay-in-lagrange-ga/
LOCATION:Church of the King\, 911 Murphy Ave\, LaGrange\, GA\, 30240-5236\, United States
CATEGORIES:Mark T. Barclay
END:VEVENT
BEGIN:VEVENT
DTSTART;TZID=America/Chicago:20240426T190000
DTEND;TZID=America/Chicago:20240426T210000
DTSTAMP:20260421T103151
CREATED:20240318T165013Z
LAST-MODIFIED:20240318T165207Z
UID:9908-1714158000-1714165200@marktbarclay.com
SUMMARY:Mark T. Barclay in Cookeville\, TN
DESCRIPTION:
URL:https://marktbarclay.com/event/mark-t-barclay-in-cookeville-tn-5/
LOCATION:Engrafted Word Church\, 5 W Broad St\, Cookeville\, TN\, 38501\, United States
CATEGORIES:Mark T. Barclay
END:VEVENT
BEGIN:VEVENT
DTSTART;TZID=America/Detroit:20240428T100000
DTEND;TZID=America/Detroit:20240428T120000
DTSTAMP:20260421T103151
CREATED:20240115T204650Z
LAST-MODIFIED:20240115T204657Z
UID:7152-1714298400-1714305600@marktbarclay.com
SUMMARY:Mark T. Barclay in Asheville\, NC
DESCRIPTION:
URL:https://marktbarclay.com/event/mark-t-barclay-in-asheville-nc-4/
LOCATION:Glory Tabernacle\, 1221 Sweeten Creek Rd\, Asheville\, NC\, 28803\, United States
CATEGORIES:Mark T. Barclay
END:VEVENT
BEGIN:VEVENT
DTSTART;TZID=America/Detroit:20240428T180000
DTEND;TZID=America/Detroit:20240428T200000
DTSTAMP:20260421T103151
CREATED:20240405T203334Z
LAST-MODIFIED:20240405T203334Z
UID:10621-1714327200-1714334400@marktbarclay.com
SUMMARY:Mark T. Barclay in Cuyahoga Falls\, OH
DESCRIPTION:
URL:https://marktbarclay.com/event/mark-t-barclay-in-cuyahoga-falls-oh-2/
LOCATION:Word of His Grace Church\, 110 East Steels Corner Rd\, Cuyahoga Falls\, OH\, 44224\, United States
CATEGORIES:Mark T. Barclay
END:VEVENT
END:VCALENDAR