BEGIN:VCALENDAR
VERSION:2.0
PRODID:-//Mark T. Barclay | Preacher of Righteousness - ECPv6.15.20//NONSGML v1.0//EN
CALSCALE:GREGORIAN
METHOD:PUBLISH
X-ORIGINAL-URL:https://marktbarclay.com
X-WR-CALDESC:Events for Mark T. Barclay | Preacher of Righteousness
REFRESH-INTERVAL;VALUE=DURATION:PT1H
X-Robots-Tag:noindex
X-PUBLISHED-TTL:PT1H
BEGIN:VTIMEZONE
TZID:America/Detroit
BEGIN:DAYLIGHT
TZOFFSETFROM:-0500
TZOFFSETTO:-0400
TZNAME:EDT
DTSTART:20230312T070000
END:DAYLIGHT
BEGIN:STANDARD
TZOFFSETFROM:-0400
TZOFFSETTO:-0500
TZNAME:EST
DTSTART:20231105T060000
END:STANDARD
BEGIN:DAYLIGHT
TZOFFSETFROM:-0500
TZOFFSETTO:-0400
TZNAME:EDT
DTSTART:20240310T070000
END:DAYLIGHT
BEGIN:STANDARD
TZOFFSETFROM:-0400
TZOFFSETTO:-0500
TZNAME:EST
DTSTART:20241103T060000
END:STANDARD
BEGIN:DAYLIGHT
TZOFFSETFROM:-0500
TZOFFSETTO:-0400
TZNAME:EDT
DTSTART:20250309T070000
END:DAYLIGHT
BEGIN:STANDARD
TZOFFSETFROM:-0400
TZOFFSETTO:-0500
TZNAME:EST
DTSTART:20251102T060000
END:STANDARD
END:VTIMEZONE
BEGIN:VTIMEZONE
TZID:Australia/Brisbane
BEGIN:STANDARD
TZOFFSETFROM:+1000
TZOFFSETTO:+1000
TZNAME:AEST
DTSTART:20230101T000000
END:STANDARD
END:VTIMEZONE
BEGIN:VTIMEZONE
TZID:America/Chicago
BEGIN:DAYLIGHT
TZOFFSETFROM:-0600
TZOFFSETTO:-0500
TZNAME:CDT
DTSTART:20230312T080000
END:DAYLIGHT
BEGIN:STANDARD
TZOFFSETFROM:-0500
TZOFFSETTO:-0600
TZNAME:CST
DTSTART:20231105T070000
END:STANDARD
BEGIN:DAYLIGHT
TZOFFSETFROM:-0600
TZOFFSETTO:-0500
TZNAME:CDT
DTSTART:20240310T080000
END:DAYLIGHT
BEGIN:STANDARD
TZOFFSETFROM:-0500
TZOFFSETTO:-0600
TZNAME:CST
DTSTART:20241103T070000
END:STANDARD
BEGIN:DAYLIGHT
TZOFFSETFROM:-0600
TZOFFSETTO:-0500
TZNAME:CDT
DTSTART:20250309T080000
END:DAYLIGHT
BEGIN:STANDARD
TZOFFSETFROM:-0500
TZOFFSETTO:-0600
TZNAME:CST
DTSTART:20251102T070000
END:STANDARD
END:VTIMEZONE
BEGIN:VTIMEZONE
TZID:America/Los_Angeles
BEGIN:DAYLIGHT
TZOFFSETFROM:-0800
TZOFFSETTO:-0700
TZNAME:PDT
DTSTART:20230312T100000
END:DAYLIGHT
BEGIN:STANDARD
TZOFFSETFROM:-0700
TZOFFSETTO:-0800
TZNAME:PST
DTSTART:20231105T090000
END:STANDARD
BEGIN:DAYLIGHT
TZOFFSETFROM:-0800
TZOFFSETTO:-0700
TZNAME:PDT
DTSTART:20240310T100000
END:DAYLIGHT
BEGIN:STANDARD
TZOFFSETFROM:-0700
TZOFFSETTO:-0800
TZNAME:PST
DTSTART:20241103T090000
END:STANDARD
BEGIN:DAYLIGHT
TZOFFSETFROM:-0800
TZOFFSETTO:-0700
TZNAME:PDT
DTSTART:20250309T100000
END:DAYLIGHT
BEGIN:STANDARD
TZOFFSETFROM:-0700
TZOFFSETTO:-0800
TZNAME:PST
DTSTART:20251102T090000
END:STANDARD
END:VTIMEZONE
BEGIN:VEVENT
DTSTART;VALUE=DATE:20240130
DTEND;VALUE=DATE:20240203
DTSTAMP:20260421T130616
CREATED:20230905T165349Z
LAST-MODIFIED:20230905T195331Z
UID:2985-1706572800-1706918399@marktbarclay.com
SUMMARY:Palm Coast Holy Spirit Conference
DESCRIPTION:Tuesday 7pm\, Wednesday 10:30am & 7pm\, Thursday 10:30am & 7pm\, and Friday 10:30am & 7pm
URL:https://marktbarclay.com/event/palm-coast-holy-spirit-conference-2/
LOCATION:New Way Church\, 293 Old Moody Blvd\, Palm Coast\, FL\, 32164\, United States
CATEGORIES:Conference
END:VEVENT
BEGIN:VEVENT
DTSTART;TZID=America/Detroit:20240204T090000
DTEND;TZID=America/Detroit:20240204T123000
DTSTAMP:20260421T130616
CREATED:20231027T162511Z
LAST-MODIFIED:20240115T191530Z
UID:3147-1707037200-1707049800@marktbarclay.com
SUMMARY:Mark T. Barclay in Hudson\, FL
DESCRIPTION:TWO Services 9am and 11am 
URL:https://marktbarclay.com/event/mark-t-barclay-in-hudson-fl/
LOCATION:Lakewood Church of God\, 12637 Pony Lane\, Hudson\, FL\, 34669\, United States
CATEGORIES:Mark T. Barclay
END:VEVENT
BEGIN:VEVENT
DTSTART;TZID=America/Detroit:20240207T190000
DTEND;TZID=America/Detroit:20240207T190000
DTSTAMP:20260421T130616
CREATED:20231106T155057Z
LAST-MODIFIED:20231106T155101Z
UID:3170-1707332400-1707332400@marktbarclay.com
SUMMARY:Mark T. Barclay in Muskegon\, MI
DESCRIPTION:
URL:https://marktbarclay.com/event/mark-t-barclay-in-muskegon-mi-6/
LOCATION:Living Word Muskegon\, 1551 Wood St.\, Muskegon\, MI\, 49442\, United States
CATEGORIES:Mark T. Barclay
END:VEVENT
BEGIN:VEVENT
DTSTART;TZID=Australia/Brisbane:20240211T093000
DTEND;TZID=Australia/Brisbane:20240211T123000
DTSTAMP:20260421T130616
CREATED:20240109T162415Z
LAST-MODIFIED:20240109T162426Z
UID:6768-1707643800-1707654600@marktbarclay.com
SUMMARY:Josh M. Barclay in Tanah Merah\, QLD\, Australia
DESCRIPTION:TWO services: 9:30am and 11am
URL:https://marktbarclay.com/event/josh-m-barclay-in-tanah-merah-qld-australia/
LOCATION:Dunamis Christian Centre\, 3791 Pacific Highway\, Tanah Merah\, QLD\, 4128\, Australia
CATEGORIES:Josh M. Barclay
END:VEVENT
BEGIN:VEVENT
DTSTART;TZID=America/Detroit:20240217T190000
DTEND;TZID=America/Detroit:20240217T210000
DTSTAMP:20260421T130616
CREATED:20231109T151511Z
LAST-MODIFIED:20240122T185803Z
UID:3184-1708196400-1708203600@marktbarclay.com
SUMMARY:Mark T. Barclay in Hermitage\, PA
DESCRIPTION:
URL:https://marktbarclay.com/event/mark-t-barclay-in-hermitage-pa-2/
LOCATION:Miracle Valley Church\, 2119 Valley View\, Hermitage\, PA\, 16148
CATEGORIES:Mark T. Barclay
END:VEVENT
BEGIN:VEVENT
DTSTART;TZID=America/Detroit:20240218T103000
DTEND;TZID=America/Detroit:20240218T103000
DTSTAMP:20260421T130616
CREATED:20231109T151617Z
LAST-MODIFIED:20231109T151621Z
UID:3186-1708252200-1708252200@marktbarclay.com
SUMMARY:Mark T. Barclay in Hermitage\, PA
DESCRIPTION:
URL:https://marktbarclay.com/event/mark-t-barclay-in-hermitage-pa-3/
LOCATION:Miracle Valley Church\, 2119 Valley View\, Hermitage\, PA\, 16148
CATEGORIES:Mark T. Barclay
END:VEVENT
BEGIN:VEVENT
DTSTART;TZID=America/Detroit:20240218T180000
DTEND;TZID=America/Detroit:20240218T200000
DTSTAMP:20260421T130616
CREATED:20231110T170207Z
LAST-MODIFIED:20240123T155705Z
UID:3188-1708279200-1708286400@marktbarclay.com
SUMMARY:Mark T. Barclay in Cobbs Creek\, VA
DESCRIPTION:
URL:https://marktbarclay.com/event/mark-t-barclay-in-cobbs-creek-va/
LOCATION:Cornerstone Fellowship Church\, 2243 Buckley Hall Rd.\, Cobbs Creek\, VA\, 23035\, United States
END:VEVENT
BEGIN:VEVENT
DTSTART;TZID=America/Detroit:20240219T190000
DTEND;TZID=America/Detroit:20240219T190000
DTSTAMP:20260421T130616
CREATED:20231110T170347Z
LAST-MODIFIED:20231112T011806Z
UID:3192-1708369200-1708369200@marktbarclay.com
SUMMARY:Mark T. Barclay in Cobbs Creek\, VA
DESCRIPTION:
URL:https://marktbarclay.com/event/mark-t-barclay-in-cobbs-creek-va-2/
LOCATION:Cornerstone Fellowship Church\, 2243 Buckley Hall Rd.\, Cobbs Creek\, VA\, 23035\, United States
END:VEVENT
BEGIN:VEVENT
DTSTART;TZID=America/Chicago:20240225T100000
DTEND;TZID=America/Chicago:20240225T120000
DTSTAMP:20260421T130616
CREATED:20240115T204439Z
LAST-MODIFIED:20240115T204446Z
UID:7150-1708855200-1708862400@marktbarclay.com
SUMMARY:Mark T. Barclay in Sioux City\, IA
DESCRIPTION:
URL:https://marktbarclay.com/event/mark-t-barclay-in-sioux-city-ia-4/
LOCATION:Cornerstone World Outreach\, 1625 Glen Ellen Rd\, Sioux City\, IA\, 51106\, United States
CATEGORIES:Mark T. Barclay
END:VEVENT
BEGIN:VEVENT
DTSTART;TZID=America/Los_Angeles:20240225T183000
DTEND;TZID=America/Los_Angeles:20240225T203000
DTSTAMP:20260421T130616
CREATED:20231117T194017Z
LAST-MODIFIED:20240207T172445Z
UID:3874-1708885800-1708893000@marktbarclay.com
SUMMARY:Mark T. Barclay in Hillsboro\, OR
DESCRIPTION:
URL:https://marktbarclay.com/event/mark-t-barclay-in-hillsboro-or/
LOCATION:Overflow Church\, 1400 NE 48th Ave #100\, Hillsboro\, 97125\, United States
CATEGORIES:Mark T. Barclay
END:VEVENT
BEGIN:VEVENT
DTSTART;TZID=America/Los_Angeles:20240226T190000
DTEND;TZID=America/Los_Angeles:20240226T210000
DTSTAMP:20260421T130616
CREATED:20240116T163737Z
LAST-MODIFIED:20240116T163745Z
UID:7174-1708974000-1708981200@marktbarclay.com
SUMMARY:Mark T. Barclay in Hillsboro\, OR
DESCRIPTION:
URL:https://marktbarclay.com/event/mark-t-barclay-in-hillsboro-or-2/
LOCATION:Overflow Church\, 1400 NE 48th Ave #100\, Hillsboro\, 97125\, United States
CATEGORIES:Mark T. Barclay
END:VEVENT
BEGIN:VEVENT
DTSTART;TZID=America/Los_Angeles:20240227T190000
DTEND;TZID=America/Los_Angeles:20240227T210000
DTSTAMP:20260421T130616
CREATED:20231117T204255Z
LAST-MODIFIED:20231117T204255Z
UID:3884-1709060400-1709067600@marktbarclay.com
SUMMARY:Mark T. Barclay in Redmond\, OR
DESCRIPTION:
URL:https://marktbarclay.com/event/mark-t-barclay-in-redmond-or/
LOCATION:Word of Victory\, 645 SE Salmon Ave\, Redmond\, OR\, 97756\, United States
CATEGORIES:Mark T. Barclay
END:VEVENT
BEGIN:VEVENT
DTSTART;TZID=America/Los_Angeles:20240228T183000
DTEND;TZID=America/Los_Angeles:20240228T203000
DTSTAMP:20260421T130616
CREATED:20231117T211142Z
LAST-MODIFIED:20231117T211142Z
UID:3892-1709145000-1709152200@marktbarclay.com
SUMMARY:Mark T. Barclay in Pendleton\, OR
DESCRIPTION:
URL:https://marktbarclay.com/event/mark-t-barclay-in-pendleton-or/
LOCATION:Living Word Christian Center – OR\, 401 Northgate\, Pendleton\, OR\, 59357\, United States
CATEGORIES:Mark T. Barclay
END:VEVENT
END:VCALENDAR