BEGIN:VCALENDAR
VERSION:2.0
PRODID:-//Mark T. Barclay | Preacher of Righteousness - ECPv6.15.20//NONSGML v1.0//EN
CALSCALE:GREGORIAN
METHOD:PUBLISH
X-WR-CALNAME:Mark T. Barclay | Preacher of Righteousness
X-ORIGINAL-URL:https://marktbarclay.com
X-WR-CALDESC:Events for Mark T. Barclay | Preacher of Righteousness
REFRESH-INTERVAL;VALUE=DURATION:PT1H
X-Robots-Tag:noindex
X-PUBLISHED-TTL:PT1H
BEGIN:VTIMEZONE
TZID:America/Los_Angeles
BEGIN:DAYLIGHT
TZOFFSETFROM:-0800
TZOFFSETTO:-0700
TZNAME:PDT
DTSTART:20220313T100000
END:DAYLIGHT
BEGIN:STANDARD
TZOFFSETFROM:-0700
TZOFFSETTO:-0800
TZNAME:PST
DTSTART:20221106T090000
END:STANDARD
BEGIN:DAYLIGHT
TZOFFSETFROM:-0800
TZOFFSETTO:-0700
TZNAME:PDT
DTSTART:20230312T100000
END:DAYLIGHT
BEGIN:STANDARD
TZOFFSETFROM:-0700
TZOFFSETTO:-0800
TZNAME:PST
DTSTART:20231105T090000
END:STANDARD
BEGIN:DAYLIGHT
TZOFFSETFROM:-0800
TZOFFSETTO:-0700
TZNAME:PDT
DTSTART:20240310T100000
END:DAYLIGHT
BEGIN:STANDARD
TZOFFSETFROM:-0700
TZOFFSETTO:-0800
TZNAME:PST
DTSTART:20241103T090000
END:STANDARD
END:VTIMEZONE
BEGIN:VTIMEZONE
TZID:America/Chicago
BEGIN:DAYLIGHT
TZOFFSETFROM:-0600
TZOFFSETTO:-0500
TZNAME:CDT
DTSTART:20220313T080000
END:DAYLIGHT
BEGIN:STANDARD
TZOFFSETFROM:-0500
TZOFFSETTO:-0600
TZNAME:CST
DTSTART:20221106T070000
END:STANDARD
BEGIN:DAYLIGHT
TZOFFSETFROM:-0600
TZOFFSETTO:-0500
TZNAME:CDT
DTSTART:20230312T080000
END:DAYLIGHT
BEGIN:STANDARD
TZOFFSETFROM:-0500
TZOFFSETTO:-0600
TZNAME:CST
DTSTART:20231105T070000
END:STANDARD
BEGIN:DAYLIGHT
TZOFFSETFROM:-0600
TZOFFSETTO:-0500
TZNAME:CDT
DTSTART:20240310T080000
END:DAYLIGHT
BEGIN:STANDARD
TZOFFSETFROM:-0500
TZOFFSETTO:-0600
TZNAME:CST
DTSTART:20241103T070000
END:STANDARD
END:VTIMEZONE
BEGIN:VTIMEZONE
TZID:America/Detroit
BEGIN:DAYLIGHT
TZOFFSETFROM:-0500
TZOFFSETTO:-0400
TZNAME:EDT
DTSTART:20220313T070000
END:DAYLIGHT
BEGIN:STANDARD
TZOFFSETFROM:-0400
TZOFFSETTO:-0500
TZNAME:EST
DTSTART:20221106T060000
END:STANDARD
BEGIN:DAYLIGHT
TZOFFSETFROM:-0500
TZOFFSETTO:-0400
TZNAME:EDT
DTSTART:20230312T070000
END:DAYLIGHT
BEGIN:STANDARD
TZOFFSETFROM:-0400
TZOFFSETTO:-0500
TZNAME:EST
DTSTART:20231105T060000
END:STANDARD
BEGIN:DAYLIGHT
TZOFFSETFROM:-0500
TZOFFSETTO:-0400
TZNAME:EDT
DTSTART:20240310T070000
END:DAYLIGHT
BEGIN:STANDARD
TZOFFSETFROM:-0400
TZOFFSETTO:-0500
TZNAME:EST
DTSTART:20241103T060000
END:STANDARD
END:VTIMEZONE
BEGIN:VEVENT
DTSTART;TZID=America/Los_Angeles:20230110T183000
DTEND;TZID=America/Los_Angeles:20230110T183000
DTSTAMP:20260422T053543
CREATED:20221229T195130Z
LAST-MODIFIED:20221229T195134Z
UID:2497-1673375400-1673375400@marktbarclay.com
SUMMARY:James P. Randolph in North Highlands\, CA
DESCRIPTION:
URL:https://marktbarclay.com/event/james-p-randolph-in-north-highlands-ca/
LOCATION:Family Community Church\, 6331 Watt Avenue\, North Highlands\, CA\, 95660\, United States
CATEGORIES:James Randolph
END:VEVENT
BEGIN:VEVENT
DTSTART;TZID=America/Chicago:20230115T093000
DTEND;TZID=America/Chicago:20230115T093000
DTSTAMP:20260422T053543
CREATED:20221215T172401Z
LAST-MODIFIED:20221215T172406Z
UID:2477-1673775000-1673775000@marktbarclay.com
SUMMARY:Mark T. Barclay in Eagle River\, WI
DESCRIPTION:
URL:https://marktbarclay.com/event/mark-t-barclay-in-eagle-river-wi/
LOCATION:Abundant Life Outreach Center\, 210 Capich Dr.\, Eagle River\, WI\, 54521\, United States
CATEGORIES:Mark T. Barclay
END:VEVENT
BEGIN:VEVENT
DTSTART;TZID=America/Chicago:20230115T180000
DTEND;TZID=America/Chicago:20230115T180000
DTSTAMP:20260422T053543
CREATED:20221215T184210Z
LAST-MODIFIED:20221215T184217Z
UID:2479-1673805600-1673805600@marktbarclay.com
SUMMARY:Mark T. Barclay in Bartlett\, IL
DESCRIPTION:
URL:https://marktbarclay.com/event/mark-t-barclay-in-bartlett-il-8/
LOCATION:Faith World Outreach Church\, 1280 S IL Route 59\, Bartlett\, IL\, 60103-3006\, United States
CATEGORIES:Mark T. Barclay
END:VEVENT
BEGIN:VEVENT
DTSTART;TZID=America/Chicago:20230116T190000
DTEND;TZID=America/Chicago:20230116T190000
DTSTAMP:20260422T053543
CREATED:20221109T165540Z
LAST-MODIFIED:20221109T165543Z
UID:2353-1673895600-1673895600@marktbarclay.com
SUMMARY:Mark T. Barclay in Ponder\, TX
DESCRIPTION:
URL:https://marktbarclay.com/event/mark-t-barclay-in-ponder-tx-2/
LOCATION:Christian Faith Fellowship\, 114 West James Street\, Ponder\, TX\, 76259\, United States
CATEGORIES:Mark T. Barclay
END:VEVENT
BEGIN:VEVENT
DTSTART;TZID=America/Detroit:20230122T100000
DTEND;TZID=America/Detroit:20230122T100000
DTSTAMP:20260422T053543
CREATED:20221229T180146Z
LAST-MODIFIED:20221229T180150Z
UID:2495-1674381600-1674381600@marktbarclay.com
SUMMARY:Revs. Gene & June Evans in Midland\, MI
DESCRIPTION:Both Sunday services!\n10am AND 6pm
URL:https://marktbarclay.com/event/revs-gene-june-evans-in-midland-mi/
LOCATION:MI
CATEGORIES:Guest Minister
END:VEVENT
BEGIN:VEVENT
DTSTART;TZID=America/Chicago:20230125T190000
DTEND;TZID=America/Chicago:20230125T190000
DTSTAMP:20260422T053543
CREATED:20221109T180709Z
LAST-MODIFIED:20221109T181718Z
UID:2355-1674673200-1674673200@marktbarclay.com
SUMMARY:Josh M. Barclay in Waupaca\, WI
DESCRIPTION:CAMP ALIVE – YOUTH hosted by His Church World Outreach 920-426-4596
URL:https://marktbarclay.com/event/josh-m-barclay-in-oshkosh-wi-3/
LOCATION:Spencer Lake Christian Center\, 1385 County Hwy E\, Waupaca\, 54981\, United States
CATEGORIES:Josh M. Barclay
END:VEVENT
BEGIN:VEVENT
DTSTART;TZID=America/Los_Angeles:20230127T190000
DTEND;TZID=America/Los_Angeles:20230127T190000
DTSTAMP:20260422T053543
CREATED:20221019T204721Z
LAST-MODIFIED:20221019T204726Z
UID:2326-1674846000-1674846000@marktbarclay.com
SUMMARY:Mark T. Barclay in Torrance\, CA
DESCRIPTION:
URL:https://marktbarclay.com/event/mark-t-barclay-in-torrance-ca-2/
LOCATION:Integrity Christian Center\, 3555 Lomita Blvd\, Torrance\, CA\, 90505\, United States
CATEGORIES:Mark T. Barclay
END:VEVENT
BEGIN:VEVENT
DTSTART;VALUE=DATE:20230129
DTEND;VALUE=DATE:20230130
DTSTAMP:20260422T053543
CREATED:20221220T171453Z
LAST-MODIFIED:20221220T171457Z
UID:2490-1674950400-1675036799@marktbarclay.com
SUMMARY:James P. and Dawn Randolph in Bellaire\, MI
DESCRIPTION:TWO services: \n10am and 6pm
URL:https://marktbarclay.com/event/james-p-and-dawn-randolph-in-bellaire-mi/
LOCATION:Living Word North\, 4867 Aero Park Drive\, Bellaire\, MI\, 49615\, United States
CATEGORIES:Dawn Randolph,James Randolph
END:VEVENT
BEGIN:VEVENT
DTSTART;TZID=America/Los_Angeles:20230129T100000
DTEND;TZID=America/Los_Angeles:20230129T100000
DTSTAMP:20260422T053543
CREATED:20221019T205017Z
LAST-MODIFIED:20221019T205020Z
UID:2328-1674986400-1674986400@marktbarclay.com
SUMMARY:Mark T. Barclay in Bakersfield\, CA
DESCRIPTION:
URL:https://marktbarclay.com/event/mark-t-barclay-in-bakersfield-ca-2/
LOCATION:Kern Christian Center\, 4701 Gosford Road\, Bakersfield\, CA\, 93313\, United States
CATEGORIES:Mark T. Barclay
END:VEVENT
BEGIN:VEVENT
DTSTART;TZID=America/Los_Angeles:20230129T180000
DTEND;TZID=America/Los_Angeles:20230129T180000
DTSTAMP:20260422T053543
CREATED:20221013T150502Z
LAST-MODIFIED:20221014T164146Z
UID:2301-1675015200-1675015200@marktbarclay.com
SUMMARY:Mark T. Barclay in Visalia\, CA
DESCRIPTION:
URL:https://marktbarclay.com/event/mark-t-barclay-in-visalia-ca-2/
LOCATION:West Coast Believers Center\, 3737 W Walnut Ave\, Visalia\, CA\, 93277\, United States
CATEGORIES:Mark T. Barclay
END:VEVENT
BEGIN:VEVENT
DTSTART;VALUE=DATE:20230131
DTEND;VALUE=DATE:20230204
DTSTAMP:20260422T053543
CREATED:20220830T202931Z
LAST-MODIFIED:20220831T155955Z
UID:2163-1675123200-1675468799@marktbarclay.com
SUMMARY:San Diego Holy Spirit Conference
DESCRIPTION:Tuesday 7pm\, Wednesday 10:30am & 7pm\, Thursday 10:30am & 7pm and \nFriday 10:30am and 7pm
URL:https://marktbarclay.com/event/san-diego-holy-spirit-conference/
LOCATION:Life Christian Church\, 1132 N. Melrose Dr.\, Ste 502\, Vista\, CA\, 92083\, United States
CATEGORIES:Conference
END:VEVENT
END:VCALENDAR