BEGIN:VCALENDAR
VERSION:2.0
PRODID:-//Mark T. Barclay | Preacher of Righteousness - ECPv6.15.20//NONSGML v1.0//EN
CALSCALE:GREGORIAN
METHOD:PUBLISH
X-WR-CALNAME:Mark T. Barclay | Preacher of Righteousness
X-ORIGINAL-URL:https://marktbarclay.com
X-WR-CALDESC:Events for Mark T. Barclay | Preacher of Righteousness
REFRESH-INTERVAL;VALUE=DURATION:PT1H
X-Robots-Tag:noindex
X-PUBLISHED-TTL:PT1H
BEGIN:VTIMEZONE
TZID:America/Detroit
BEGIN:DAYLIGHT
TZOFFSETFROM:-0500
TZOFFSETTO:-0400
TZNAME:EDT
DTSTART:20210314T070000
END:DAYLIGHT
BEGIN:STANDARD
TZOFFSETFROM:-0400
TZOFFSETTO:-0500
TZNAME:EST
DTSTART:20211107T060000
END:STANDARD
BEGIN:DAYLIGHT
TZOFFSETFROM:-0500
TZOFFSETTO:-0400
TZNAME:EDT
DTSTART:20220313T070000
END:DAYLIGHT
BEGIN:STANDARD
TZOFFSETFROM:-0400
TZOFFSETTO:-0500
TZNAME:EST
DTSTART:20221106T060000
END:STANDARD
BEGIN:DAYLIGHT
TZOFFSETFROM:-0500
TZOFFSETTO:-0400
TZNAME:EDT
DTSTART:20230312T070000
END:DAYLIGHT
BEGIN:STANDARD
TZOFFSETFROM:-0400
TZOFFSETTO:-0500
TZNAME:EST
DTSTART:20231105T060000
END:STANDARD
END:VTIMEZONE
BEGIN:VTIMEZONE
TZID:America/Chicago
BEGIN:DAYLIGHT
TZOFFSETFROM:-0600
TZOFFSETTO:-0500
TZNAME:CDT
DTSTART:20210314T080000
END:DAYLIGHT
BEGIN:STANDARD
TZOFFSETFROM:-0500
TZOFFSETTO:-0600
TZNAME:CST
DTSTART:20211107T070000
END:STANDARD
BEGIN:DAYLIGHT
TZOFFSETFROM:-0600
TZOFFSETTO:-0500
TZNAME:CDT
DTSTART:20220313T080000
END:DAYLIGHT
BEGIN:STANDARD
TZOFFSETFROM:-0500
TZOFFSETTO:-0600
TZNAME:CST
DTSTART:20221106T070000
END:STANDARD
BEGIN:DAYLIGHT
TZOFFSETFROM:-0600
TZOFFSETTO:-0500
TZNAME:CDT
DTSTART:20230312T080000
END:DAYLIGHT
BEGIN:STANDARD
TZOFFSETFROM:-0500
TZOFFSETTO:-0600
TZNAME:CST
DTSTART:20231105T070000
END:STANDARD
END:VTIMEZONE
BEGIN:VEVENT
DTSTART;VALUE=DATE:20221130
DTEND;VALUE=DATE:20221203
DTSTAMP:20260422T065748
CREATED:20211108T134051Z
LAST-MODIFIED:20220823T182402Z
UID:1422-1669766400-1670025599@marktbarclay.com
SUMMARY:Mark T. Barclay's National Leadership Conference
DESCRIPTION:Join us for a powerful time in Word and Spirit as Dr. Barclay deals with the practical areas of leadership which relate to all of us! \nService times (ET): \nWednesday\n7:00 p.m. \nThursday\n10:30 a.m.\n7:00 p.m. \nFriday\n10:30 a.m.\n7:00 p.m.
URL:https://marktbarclay.com/event/mark-t-barclays-national-leadership-conference/
LOCATION:MI
CATEGORIES:Mark T. Barclay
END:VEVENT
BEGIN:VEVENT
DTSTART;TZID=America/Detroit:20221204T090000
DTEND;TZID=America/Detroit:20221204T090000
DTSTAMP:20260422T065748
CREATED:20221128T213103Z
LAST-MODIFIED:20221128T213346Z
UID:2439-1670144400-1670144400@marktbarclay.com
SUMMARY:Josh M. Barclay in Owosso\, MI
DESCRIPTION:
URL:https://marktbarclay.com/event/josh-m-barclay-in-owosso-mi-2/
LOCATION:New Creation Church\, 1800 Corunna Ave\, Owosso\, MI\, 48857\, United States
CATEGORIES:Josh M. Barclay
END:VEVENT
BEGIN:VEVENT
DTSTART;TZID=America/Detroit:20221204T100000
DTEND;TZID=America/Detroit:20221204T100000
DTSTAMP:20260422T065748
CREATED:20220829T162127Z
LAST-MODIFIED:20220830T141656Z
UID:2153-1670148000-1670148000@marktbarclay.com
SUMMARY:Mark T. Barclay in Wheeler\, MI
DESCRIPTION:
URL:https://marktbarclay.com/event/mark-t-barclay-in-wheeler-mi/
LOCATION:Amazing Grace Church\, 9232 East Monroe Rd\, Wheeler\, MI\, 48662\, United States
CATEGORIES:Mark T. Barclay
END:VEVENT
BEGIN:VEVENT
DTSTART;TZID=America/Detroit:20221204T100000
DTEND;TZID=America/Detroit:20221204T100000
DTSTAMP:20260422T065748
CREATED:20221109T145722Z
LAST-MODIFIED:20221109T145726Z
UID:2350-1670148000-1670148000@marktbarclay.com
SUMMARY:Rev. David Flores in Midland\, MI
DESCRIPTION:
URL:https://marktbarclay.com/event/rev-david-flores-in-midland-mi/
LOCATION:MI
CATEGORIES:Guest Minister
END:VEVENT
BEGIN:VEVENT
DTSTART;TZID=America/Detroit:20221204T110000
DTEND;TZID=America/Detroit:20221204T110000
DTSTAMP:20260422T065748
CREATED:20221129T180715Z
LAST-MODIFIED:20221129T180719Z
UID:2442-1670151600-1670151600@marktbarclay.com
SUMMARY:Josh M. Barclay in Durand\, MI
DESCRIPTION:
URL:https://marktbarclay.com/event/josh-m-barclay-in-durand-mi/
LOCATION:New Creation Church of Durand\, 811 S. Oak Street\, Durand\, MI\, 48429\, United States
CATEGORIES:Josh M. Barclay
END:VEVENT
BEGIN:VEVENT
DTSTART;TZID=America/Chicago:20221204T180000
DTEND;TZID=America/Chicago:20221204T180000
DTSTAMP:20260422T065748
CREATED:20221116T143936Z
LAST-MODIFIED:20221116T143936Z
UID:2413-1670176800-1670176800@marktbarclay.com
SUMMARY:Mark T. Barclay in Bartlett\, IL
DESCRIPTION:
URL:https://marktbarclay.com/event/mark-t-barclay-in-bartlett-il-7/
LOCATION:Faith World Outreach Church\, 1280 S IL Route 59\, Bartlett\, IL\, 60103-3006\, United States
CATEGORIES:Mark T. Barclay
END:VEVENT
BEGIN:VEVENT
DTSTART;VALUE=DATE:20221211
DTEND;VALUE=DATE:20221212
DTSTAMP:20260422T065748
CREATED:20220929T192739Z
LAST-MODIFIED:20221116T144029Z
UID:2245-1670716800-1670803199@marktbarclay.com
SUMMARY:Mark T. Barclay in Kalamazoo\, MI
DESCRIPTION:TWO services! Morning Service 10am and Evening Service 6pm
URL:https://marktbarclay.com/event/mark-t-barclay-in-kalamazoo-mi/
LOCATION:New Life Victory Church\, 2775 South 26th St.\, Kalamazoo\, MI\, 49048\, United States
CATEGORIES:Mark T. Barclay
END:VEVENT
BEGIN:VEVENT
DTSTART;TZID=America/Detroit:20221211T083000
DTEND;TZID=America/Detroit:20221211T100000
DTSTAMP:20260422T065748
CREATED:20221012T160424Z
LAST-MODIFIED:20221012T160504Z
UID:2296-1670747400-1670752800@marktbarclay.com
SUMMARY:James P. Randolph in Lacrosse\, WI
DESCRIPTION:
URL:https://marktbarclay.com/event/james-p-randolph-in-lacrosse-wi/
LOCATION:Living Word Christian Church  – WI\, 2015 Ward Avenue\, La Crosse\, WI\, 54601
CATEGORIES:James Randolph
END:VEVENT
BEGIN:VEVENT
DTSTART;TZID=America/Detroit:20221211T103000
DTEND;TZID=America/Detroit:20221211T103000
DTSTAMP:20260422T065748
CREATED:20221014T170303Z
LAST-MODIFIED:20221014T170314Z
UID:2304-1670754600-1670754600@marktbarclay.com
SUMMARY:Josh M. Barclay in West Chester\, OH
DESCRIPTION:
URL:https://marktbarclay.com/event/josh-m-barclay-in-west-chester-oh/
LOCATION:Imago Dei Christian Fellowship\, 8928 Beckett Rd.\, West Chester\, OH\, 45069\, United States
CATEGORIES:Josh M. Barclay
END:VEVENT
BEGIN:VEVENT
DTSTART;TZID=America/Detroit:20221214T183000
DTEND;TZID=America/Detroit:20221214T183000
DTSTAMP:20260422T065748
CREATED:20221101T184148Z
LAST-MODIFIED:20221202T200532Z
UID:2345-1671042600-1671042600@marktbarclay.com
SUMMARY:Mark T. Barclay in Lapeer\, MI
DESCRIPTION:
URL:https://marktbarclay.com/event/mark-t-barclay-in-lapeer-mi/
LOCATION:Faith Christian Family Church of Lapeer\, 3440 Davison Road\, Lapeer\, MI\, 48446\, United States
CATEGORIES:Mark T. Barclay
END:VEVENT
BEGIN:VEVENT
DTSTART;TZID=America/Detroit:20221215T190000
DTEND;TZID=America/Detroit:20221215T190000
DTSTAMP:20260422T065748
CREATED:20221116T144406Z
LAST-MODIFIED:20221116T144406Z
UID:2418-1671130800-1671130800@marktbarclay.com
SUMMARY:Rev. Mark Purl in Midland\, MI
DESCRIPTION:
URL:https://marktbarclay.com/event/rev-mark-purl-in-midland-mi-2/
LOCATION:MI
CATEGORIES:Guest Minister
END:VEVENT
END:VCALENDAR