BEGIN:VCALENDAR
VERSION:2.0
PRODID:-//Mark T. Barclay | Preacher of Righteousness - ECPv6.15.20//NONSGML v1.0//EN
CALSCALE:GREGORIAN
METHOD:PUBLISH
X-WR-CALNAME:Mark T. Barclay | Preacher of Righteousness
X-ORIGINAL-URL:https://marktbarclay.com
X-WR-CALDESC:Events for Mark T. Barclay | Preacher of Righteousness
REFRESH-INTERVAL;VALUE=DURATION:PT1H
X-Robots-Tag:noindex
X-PUBLISHED-TTL:PT1H
BEGIN:VTIMEZONE
TZID:America/Detroit
BEGIN:DAYLIGHT
TZOFFSETFROM:-0500
TZOFFSETTO:-0400
TZNAME:EDT
DTSTART:20200308T070000
END:DAYLIGHT
BEGIN:STANDARD
TZOFFSETFROM:-0400
TZOFFSETTO:-0500
TZNAME:EST
DTSTART:20201101T060000
END:STANDARD
BEGIN:DAYLIGHT
TZOFFSETFROM:-0500
TZOFFSETTO:-0400
TZNAME:EDT
DTSTART:20210314T070000
END:DAYLIGHT
BEGIN:STANDARD
TZOFFSETFROM:-0400
TZOFFSETTO:-0500
TZNAME:EST
DTSTART:20211107T060000
END:STANDARD
BEGIN:DAYLIGHT
TZOFFSETFROM:-0500
TZOFFSETTO:-0400
TZNAME:EDT
DTSTART:20220313T070000
END:DAYLIGHT
BEGIN:STANDARD
TZOFFSETFROM:-0400
TZOFFSETTO:-0500
TZNAME:EST
DTSTART:20221106T060000
END:STANDARD
END:VTIMEZONE
BEGIN:VTIMEZONE
TZID:America/Los_Angeles
BEGIN:DAYLIGHT
TZOFFSETFROM:-0800
TZOFFSETTO:-0700
TZNAME:PDT
DTSTART:20200308T100000
END:DAYLIGHT
BEGIN:STANDARD
TZOFFSETFROM:-0700
TZOFFSETTO:-0800
TZNAME:PST
DTSTART:20201101T090000
END:STANDARD
BEGIN:DAYLIGHT
TZOFFSETFROM:-0800
TZOFFSETTO:-0700
TZNAME:PDT
DTSTART:20210314T100000
END:DAYLIGHT
BEGIN:STANDARD
TZOFFSETFROM:-0700
TZOFFSETTO:-0800
TZNAME:PST
DTSTART:20211107T090000
END:STANDARD
BEGIN:DAYLIGHT
TZOFFSETFROM:-0800
TZOFFSETTO:-0700
TZNAME:PDT
DTSTART:20220313T100000
END:DAYLIGHT
BEGIN:STANDARD
TZOFFSETFROM:-0700
TZOFFSETTO:-0800
TZNAME:PST
DTSTART:20221106T090000
END:STANDARD
END:VTIMEZONE
BEGIN:VTIMEZONE
TZID:America/Chicago
BEGIN:DAYLIGHT
TZOFFSETFROM:-0600
TZOFFSETTO:-0500
TZNAME:CDT
DTSTART:20200308T080000
END:DAYLIGHT
BEGIN:STANDARD
TZOFFSETFROM:-0500
TZOFFSETTO:-0600
TZNAME:CST
DTSTART:20201101T070000
END:STANDARD
BEGIN:DAYLIGHT
TZOFFSETFROM:-0600
TZOFFSETTO:-0500
TZNAME:CDT
DTSTART:20210314T080000
END:DAYLIGHT
BEGIN:STANDARD
TZOFFSETFROM:-0500
TZOFFSETTO:-0600
TZNAME:CST
DTSTART:20211107T070000
END:STANDARD
BEGIN:DAYLIGHT
TZOFFSETFROM:-0600
TZOFFSETTO:-0500
TZNAME:CDT
DTSTART:20220313T080000
END:DAYLIGHT
BEGIN:STANDARD
TZOFFSETFROM:-0500
TZOFFSETTO:-0600
TZNAME:CST
DTSTART:20221106T070000
END:STANDARD
END:VTIMEZONE
BEGIN:VEVENT
DTSTART;TZID=America/Detroit:20211101T190000
DTEND;TZID=America/Detroit:20211101T210000
DTSTAMP:20260421T135756
CREATED:20211005T205445Z
LAST-MODIFIED:20211005T205445Z
UID:1294-1635793200-1635800400@marktbarclay.com
SUMMARY:Mark T. Barclay in Eaton\, OH
DESCRIPTION:
URL:https://marktbarclay.com/event/mark-t-barclay-in-eaton-oh/
LOCATION:Covenant of Peace Church\, 4745 US 127 North\, Eaton\, OH\, 45320\, United States
CATEGORIES:Mark T. Barclay
END:VEVENT
BEGIN:VEVENT
DTSTART;TZID=America/Detroit:20211031T190000
DTEND;TZID=America/Detroit:20211031T210000
DTSTAMP:20260421T135756
CREATED:20211005T205158Z
LAST-MODIFIED:20211006T011318Z
UID:1291-1635706800-1635714000@marktbarclay.com
SUMMARY:Mark T. Barclay in Gardner\, MA
DESCRIPTION:
URL:https://marktbarclay.com/event/mark-t-barclay-in-gardner-ma-2021/
LOCATION:Higher Ground Ministries\, 186 Central St\, Gardner\, MA\, 01440\, United States
CATEGORIES:Mark T. Barclay
END:VEVENT
BEGIN:VEVENT
DTSTART;TZID=America/Detroit:20211031T110000
DTEND;TZID=America/Detroit:20211031T130000
DTSTAMP:20260421T135756
CREATED:20210927T213430Z
LAST-MODIFIED:20210927T215645Z
UID:1262-1635678000-1635685200@marktbarclay.com
SUMMARY:Mark T. Barclay in White Plains\, NY
DESCRIPTION:
URL:https://marktbarclay.com/event/mark-t-barclay-in-white-plains-ny/
LOCATION:Living Word Christian Church\, 1236 Mamaroneck Ave\, White Plains\, NY\, 10605\, United States
CATEGORIES:Mark T. Barclay
END:VEVENT
BEGIN:VEVENT
DTSTART;TZID=America/Detroit:20211028T190000
DTEND;TZID=America/Detroit:20211028T210000
DTSTAMP:20260421T135756
CREATED:20211025T191546Z
LAST-MODIFIED:20211025T192749Z
UID:1397-1635447600-1635454800@marktbarclay.com
SUMMARY:Rev. Tim Grisham at Living Word Church
DESCRIPTION:
URL:https://marktbarclay.com/event/rev-tim-grisham-at-living-word-church/
LOCATION:Living Word International\, 2010 Stark Rd.\, Midland\, MI\, 48642\, United States
CATEGORIES:Guest Minister
END:VEVENT
BEGIN:VEVENT
DTSTART;TZID=America/Detroit:20211024T100000
DTEND;TZID=America/Detroit:20211024T120000
DTSTAMP:20260421T135756
CREATED:20210927T213042Z
LAST-MODIFIED:20210927T213042Z
UID:1260-1635069600-1635076800@marktbarclay.com
SUMMARY:Josh M. Barclay in Clarksville\, IN
DESCRIPTION:
URL:https://marktbarclay.com/event/josh-m-barclay-in-clarksville-in/
LOCATION:Resurrection Life Church\, 2804 Blackiston Mill Rd.\, Clarksville\, IN\, 47129\, United States
CATEGORIES:Josh M. Barclay
END:VEVENT
BEGIN:VEVENT
DTSTART;TZID=America/Detroit:20211017T103000
DTEND;TZID=America/Detroit:20211017T123000
DTSTAMP:20260421T135756
CREATED:20210927T195254Z
LAST-MODIFIED:20210927T195254Z
UID:1256-1634466600-1634473800@marktbarclay.com
SUMMARY:Josh M. Barclay in Hermitage\, PA
DESCRIPTION:
URL:https://marktbarclay.com/event/josh-m-barclay-in-hermitage-pa/
LOCATION:Miracle Valley Church\, 2119 Valley View\, Hermitage\, PA\, 16148
CATEGORIES:Josh M. Barclay
END:VEVENT
BEGIN:VEVENT
DTSTART;TZID=America/Detroit:20211017T103000
DTEND;TZID=America/Detroit:20211017T123000
DTSTAMP:20260421T135756
CREATED:20210927T195254Z
LAST-MODIFIED:20210927T195254Z
UID:1256-1634466600-1634473800@marktbarclay.com
SUMMARY:Josh M. Barclay in Hermitage\, PA
DESCRIPTION:
URL:https://marktbarclay.com/event/josh-m-barclay-in-hermitage-pa/
LOCATION:Miracle Valley Church\, 2119 Valley View\, Hermitage\, PA\, 16148
CATEGORIES:Josh M. Barclay
END:VEVENT
BEGIN:VEVENT
DTSTART;TZID=America/Detroit:20211016T190000
DTEND;TZID=America/Detroit:20211016T210000
DTSTAMP:20260421T135756
CREATED:20210927T194439Z
LAST-MODIFIED:20210927T194603Z
UID:1249-1634410800-1634418000@marktbarclay.com
SUMMARY:Mark T. Barclay in New Castle\, DE
DESCRIPTION:
URL:https://marktbarclay.com/event/mark-t-barclay-in-new-castle-de/
LOCATION:Seeds of Greatness Church\, 828 Frenchtown Rd\, New Castle\, DE\, 19720\, United States
CATEGORIES:Mark T. Barclay
END:VEVENT
BEGIN:VEVENT
DTSTART;TZID=America/Detroit:20211016T190000
DTEND;TZID=America/Detroit:20211016T210000
DTSTAMP:20260421T135756
CREATED:20210927T194439Z
LAST-MODIFIED:20210927T194603Z
UID:1249-1634410800-1634418000@marktbarclay.com
SUMMARY:Mark T. Barclay in New Castle\, DE
DESCRIPTION:
URL:https://marktbarclay.com/event/mark-t-barclay-in-new-castle-de/
LOCATION:Seeds of Greatness Church\, 828 Frenchtown Rd\, New Castle\, DE\, 19720\, United States
CATEGORIES:Mark T. Barclay
END:VEVENT
BEGIN:VEVENT
DTSTART;TZID=America/Detroit:20211016T190000
DTEND;TZID=America/Detroit:20211016T210000
DTSTAMP:20260421T135756
CREATED:20210927T194439Z
LAST-MODIFIED:20210927T194603Z
UID:1249-1634410800-1634418000@marktbarclay.com
SUMMARY:Mark T. Barclay in New Castle\, DE
DESCRIPTION:
URL:https://marktbarclay.com/event/mark-t-barclay-in-new-castle-de/
LOCATION:Seeds of Greatness Church\, 828 Frenchtown Rd\, New Castle\, DE\, 19720\, United States
CATEGORIES:Mark T. Barclay
END:VEVENT
BEGIN:VEVENT
DTSTART;VALUE=DATE:20211012
DTEND;VALUE=DATE:20211016
DTSTAMP:20260421T135756
CREATED:20210923T222815Z
LAST-MODIFIED:20211005T204005Z
UID:1227-1633996800-1634342399@marktbarclay.com
SUMMARY:Clarksville Holy Spirit Conference
DESCRIPTION:Ministers\, register here. \nTuesday\n7 P.M. \nWednesday\n10:30 A.M.\n7 P.M. \nThursday\n10:30 A.M.\n7 P.M. \nFriday\n10:30 A.M.\n7 P.M.
URL:https://marktbarclay.com/event/clarksville-holy-spirit-conference-2021/
LOCATION:Faith Outreach Church\, 731 Windermere Dr\, Clarksville\, TN\, 37043-8415
CATEGORIES:Mark T. Barclay
END:VEVENT
BEGIN:VEVENT
DTSTART;TZID=America/Detroit:20211011T183000
DTEND;TZID=America/Detroit:20211011T200000
DTSTAMP:20260421T135756
CREATED:20211005T204701Z
LAST-MODIFIED:20211005T204701Z
UID:1286-1633977000-1633982400@marktbarclay.com
SUMMARY:Live Straight Talk for Businesspeople in the Marketplace
DESCRIPTION:Please join Dr. Mark T. Barclay for a special meeting for those who work in the business arena.\nThe importance of this meeting is to share insights and principles to help you become a greater success\, and to get God working even more on your side to be supernatural\, overcoming the evil one and the sinners who are working against you in your field of labor. Dr. Barclay will show those of you in the marketplace that you really are a minister of the gospel\, according to Ephesians 4:1. \nMonday\, October 11\, 2021\n6:30 PM CT\nClarksville\, TN \nREGISTRATION REQUIRED:\nSend an email to straighttalk@mbmmail.com\, or call Carolyn Matheson @ 989-832-7547\, x8017. \nDRESS:\nCasual (Come as you are\, for those coming from work.)
URL:https://marktbarclay.com/event/live-straight-talk-for-businesspeople-in-the-marketplace-tn-2021/
LOCATION:Clarksville\, TN\, United States
CATEGORIES:Mark T. Barclay
ATTACH;FMTTYPE=image/jpeg:https://marktbarclay.com/wp-content/uploads/image.jpeg
END:VEVENT
BEGIN:VEVENT
DTSTART;TZID=America/Detroit:20211010T180000
DTEND;TZID=America/Detroit:20211010T200000
DTSTAMP:20260421T135756
CREATED:20211005T203847Z
LAST-MODIFIED:20211005T203907Z
UID:1284-1633888800-1633896000@marktbarclay.com
SUMMARY:Mark T. Barclay in Cookeville\, TN
DESCRIPTION:
URL:https://marktbarclay.com/event/mark-t-barclay-in-cookeville-tn-2021/
LOCATION:Engrafted Word Church\, 5 W Broad St\, Cookeville\, TN\, 38501\, United States
CATEGORIES:Mark T. Barclay
END:VEVENT
BEGIN:VEVENT
DTSTART;TZID=America/Detroit:20211010T110000
DTEND;TZID=America/Detroit:20211010T130000
DTSTAMP:20260421T135756
CREATED:20210923T222147Z
LAST-MODIFIED:20210923T222147Z
UID:1221-1633863600-1633870800@marktbarclay.com
SUMMARY:Mark T. Barclay in Asheville\, NC
DESCRIPTION:Pastor Ron Pittman
URL:https://marktbarclay.com/event/mark-t-barclay-in-asheville-nc/
LOCATION:Glory Tabernacle\, 1221 Sweeten Creek Rd\, Asheville\, NC\, 28803\, United States
CATEGORIES:Mark T. Barclay
END:VEVENT
BEGIN:VEVENT
DTSTART;TZID=America/Los_Angeles:20211008T193000
DTEND;TZID=America/Los_Angeles:20211008T210000
DTSTAMP:20260421T135756
CREATED:20210923T221706Z
LAST-MODIFIED:20210923T221706Z
UID:1217-1633721400-1633726800@marktbarclay.com
SUMMARY:James Randolph in Torrance\, CA
DESCRIPTION:
URL:https://marktbarclay.com/event/james-randolph-in-torrance-ca/
LOCATION:Integrity Christian Center\, 3555 Lomita Blvd\, Torrance\, CA\, 90505\, United States
CATEGORIES:James Randolph
END:VEVENT
BEGIN:VEVENT
DTSTART;TZID=America/Los_Angeles:20211008T193000
DTEND;TZID=America/Los_Angeles:20211008T210000
DTSTAMP:20260421T135756
CREATED:20210923T221706Z
LAST-MODIFIED:20210923T221706Z
UID:1217-1633721400-1633726800@marktbarclay.com
SUMMARY:James Randolph in Torrance\, CA
DESCRIPTION:
URL:https://marktbarclay.com/event/james-randolph-in-torrance-ca/
LOCATION:Integrity Christian Center\, 3555 Lomita Blvd\, Torrance\, CA\, 90505\, United States
CATEGORIES:James Randolph
END:VEVENT
BEGIN:VEVENT
DTSTART;TZID=America/Detroit:20211008T190000
DTEND;TZID=America/Detroit:20211008T210000
DTSTAMP:20260421T135756
CREATED:20210923T220329Z
LAST-MODIFIED:20210927T195342Z
UID:1210-1633719600-1633726800@marktbarclay.com
SUMMARY:Mark T. Barclay in Chesterfield\, MI
DESCRIPTION:
URL:https://marktbarclay.com/event/mark-t-barclay-in-chesterfield-mi/
LOCATION:Faith Christian Center\, 46000 N Gratiot Ave\, Chesterfield\, MI\, 48051\, United States
CATEGORIES:Mark T. Barclay
END:VEVENT
BEGIN:VEVENT
DTSTART;VALUE=DATE:20211008
DTEND;VALUE=DATE:20211011
DTSTAMP:20260421T135756
CREATED:20210923T220804Z
LAST-MODIFIED:20211005T202011Z
UID:1213-1633651200-1633910399@marktbarclay.com
SUMMARY:Josh M. Barclay in Visalia\, CA
DESCRIPTION:MEN’S MEETING\nREGISTRATION REQUIRED \nFriday 7:00 p.m. \nSaturday 10:30 a.m.
URL:https://marktbarclay.com/event/josh-m-barclay-in-visalia-ca/
LOCATION:West Coast Believers Center\, 3737 W Walnut Ave\, Visalia\, CA\, 93277\, United States
CATEGORIES:Josh M. Barclay
END:VEVENT
BEGIN:VEVENT
DTSTART;VALUE=DATE:20211003
DTEND;VALUE=DATE:20211004
DTSTAMP:20260421T135756
CREATED:20210923T220051Z
LAST-MODIFIED:20210923T220051Z
UID:1207-1633219200-1633305599@marktbarclay.com
SUMMARY:Dr. Happy Caldwell at Living Word Church
DESCRIPTION:10 A.M. & 6 P.M.
URL:https://marktbarclay.com/event/dr-happy-caldwell-at-living-word-church/
LOCATION:Living Word International\, 2010 Stark Rd.\, Midland\, MI\, 48642\, United States
CATEGORIES:Guest Minister
END:VEVENT
BEGIN:VEVENT
DTSTART;TZID=America/Los_Angeles:20210926T100000
DTEND;TZID=America/Los_Angeles:20210926T120000
DTSTAMP:20260421T135756
CREATED:20210923T213228Z
LAST-MODIFIED:20210923T213228Z
UID:1197-1632650400-1632657600@marktbarclay.com
SUMMARY:James Randolph in Visalia\, CA
DESCRIPTION:
URL:https://marktbarclay.com/event/james-randolph-in-visalia-ca/
LOCATION:West Coast Believers Center\, 3737 W Walnut Ave\, Visalia\, CA\, 93277\, United States
CATEGORIES:James Randolph
END:VEVENT
BEGIN:VEVENT
DTSTART;TZID=America/Detroit:20210926T083000
DTEND;TZID=America/Detroit:20210926T113000
DTSTAMP:20260421T135756
CREATED:20210923T215909Z
LAST-MODIFIED:20210923T215909Z
UID:1203-1632645000-1632655800@marktbarclay.com
SUMMARY:Josh M. Barclay in Clarksville\, TN
DESCRIPTION:8:30 A.M & 10 A.M.
URL:https://marktbarclay.com/event/josh-m-barclay-in-clarksville-tn/
LOCATION:Faith Outreach Church\, 731 Windermere Dr\, Clarksville\, TN\, 37043-8415
CATEGORIES:Josh M. Barclay
END:VEVENT
BEGIN:VEVENT
DTSTART;TZID=America/Detroit:20210923T080000
DTEND;TZID=America/Detroit:20210923T170000
DTSTAMP:20260421T135756
CREATED:20210923T222403Z
LAST-MODIFIED:20210923T222403Z
UID:1224-1632384000-1632416400@marktbarclay.com
SUMMARY:Mark T. Barclay in Cookeville\, TN
DESCRIPTION:Pastor Chris McMichael
URL:https://marktbarclay.com/event/mark-t-barclay-in-cookeville-tn/
LOCATION:Engrafted Word Church\, 5 W Broad St\, Cookeville\, TN\, 38501\, United States
CATEGORIES:Mark T. Barclay
END:VEVENT
BEGIN:VEVENT
DTSTART;VALUE=DATE:20210923
DTEND;VALUE=DATE:20210924
DTSTAMP:20260421T135756
CREATED:20210920T191810Z
LAST-MODIFIED:20210923T204521Z
UID:1189-1632355200-1632441599@marktbarclay.com
SUMMARY:Dawn Randolph in Vista\, CA
DESCRIPTION:Dawn M. Randolph at Dr. Stephen Johnson’s\nLADIES’ MEETING \nThursday 7:00 p.m.\nSession 1 – Pastor Zane Johnson \nFriday 7:00 p.m.\nSession 2 – Dawn M. Randolph \nSaturday 10:00 a.m.\nSession 3 – Dawn M. Randolph
URL:https://marktbarclay.com/event/dawn-randolph-in-vista-ca/
LOCATION:Life Christian Church\, 1132 N. Melrose Dr.\, Ste 502\, Vista\, CA\, 92083\, United States
CATEGORIES:Dawn Randolph
END:VEVENT
BEGIN:VEVENT
DTSTART;TZID=America/Los_Angeles:20210922T190000
DTEND;TZID=America/Los_Angeles:20210922T210000
DTSTAMP:20260421T135756
CREATED:20210920T061719Z
LAST-MODIFIED:20210920T061719Z
UID:1182-1632337200-1632344400@marktbarclay.com
SUMMARY:Redmond\, Oregon
DESCRIPTION:Mark T. Barclay at Pastor Jerry Roberts’
URL:https://marktbarclay.com/event/redmond-oregon/
LOCATION:Word of Victory\, 645 SE Salmon Ave\, Redmond\, OR\, 97756\, United States
CATEGORIES:Mark T. Barclay
END:VEVENT
BEGIN:VEVENT
DTSTART;TZID=America/Los_Angeles:20210921T190000
DTEND;TZID=America/Los_Angeles:20210921T210000
DTSTAMP:20260421T135756
CREATED:20210920T061317Z
LAST-MODIFIED:20210920T061317Z
UID:1179-1632250800-1632258000@marktbarclay.com
SUMMARY:Pendleton\, Oregon
DESCRIPTION:Mark T. Barclay at Pastor Sharon Miller’s
URL:https://marktbarclay.com/event/pendleton-oregon/
LOCATION:Living Word Christian Center\, 401 Northgate\, Pendleton\, OR\, 97801\, United States
CATEGORIES:Mark T. Barclay
END:VEVENT
BEGIN:VEVENT
DTSTART;TZID=America/Los_Angeles:20210920T190000
DTEND;TZID=America/Los_Angeles:20210920T210000
DTSTAMP:20260421T135756
CREATED:20210920T061015Z
LAST-MODIFIED:20210920T061015Z
UID:1176-1632164400-1632171600@marktbarclay.com
SUMMARY:Salem\, Oregon
DESCRIPTION:Mark T. Barclay at Pastor Paul Young’s
URL:https://marktbarclay.com/event/salem-oregon/
LOCATION:Word of Life Fellowship Church\, 4705 Portland Rd NE\, Salem\, OR\, 97305\, United States
CATEGORIES:Mark T. Barclay
END:VEVENT
BEGIN:VEVENT
DTSTART;TZID=America/Los_Angeles:20210919T183000
DTEND;TZID=America/Los_Angeles:20210919T203000
DTSTAMP:20260421T135756
CREATED:20210917T223424Z
LAST-MODIFIED:20210917T224146Z
UID:1162-1632076200-1632083400@marktbarclay.com
SUMMARY:Hillsboro\, Oregon
DESCRIPTION:Pastor Darren & Shelley Osburn
URL:https://marktbarclay.com/event/hillsboro-oregon/
LOCATION:Rivers of Peace Church\, 20475 NW Amberwood Drive # 120\, Hillsboro\, OR\, 97006\, United States
CATEGORIES:Mark T. Barclay
END:VEVENT
BEGIN:VEVENT
DTSTART;TZID=America/Chicago:20210919T100000
DTEND;TZID=America/Chicago:20210919T120000
DTSTAMP:20260421T135756
CREATED:20210917T222937Z
LAST-MODIFIED:20210917T224357Z
UID:1159-1632045600-1632052800@marktbarclay.com
SUMMARY:Neligh\, Nebraska
DESCRIPTION:Pastor Randy & Teresa Schutt
URL:https://marktbarclay.com/event/neligh-nebraska/
LOCATION:Abundant Life Christian Center\, 1101 L Street\, Neligh\, NE\, 68756\, United States
CATEGORIES:Mark T. Barclay
END:VEVENT
BEGIN:VEVENT
DTSTART;TZID=America/Detroit:20210914T190000
DTEND;TZID=America/Detroit:20210914T220000
DTSTAMP:20260421T135756
CREATED:20210909T181228Z
LAST-MODIFIED:20210917T222512Z
UID:1041-1631646000-1631656800@marktbarclay.com
SUMMARY:National Ministry of Helps Conference
DESCRIPTION:The Ministry of Helps Conferences focus on more practical topics of everyday life and ministry which are relevant for both the minister and believer. If you are a licensed or ordained minister\, please register using the form below.
URL:https://marktbarclay.com/event/national-ministry-of-helps-conference/
LOCATION:Living Word International\, 2010 Stark Rd.\, Midland\, MI\, 48642\, United States
END:VEVENT
BEGIN:VEVENT
DTSTART;TZID=America/Detroit:20210915T103000
DTEND;TZID=America/Detroit:20210915T123000
DTSTAMP:20260421T135756
CREATED:20221007T175631Z
LAST-MODIFIED:20221007T175631Z
UID:2273-1631701800-1631709000@marktbarclay.com
SUMMARY:National Ministry of Helps Conference
DESCRIPTION:The Ministry of Helps Conferences focus on more practical topics of everyday life and ministry which are relevant for both the minister and believer. If you are a licensed or ordained minister\, please register using the form below.
URL:https://marktbarclay.com/event/national-ministry-of-helps-conference/
LOCATION:Living Word International\, 2010 Stark Rd.\, Midland\, MI\, 48642\, United States
END:VEVENT
END:VCALENDAR