BEGIN:VCALENDAR
VERSION:2.0
PRODID:-//Mark T. Barclay | Preacher of Righteousness - ECPv6.15.20//NONSGML v1.0//EN
CALSCALE:GREGORIAN
METHOD:PUBLISH
X-WR-CALNAME:Mark T. Barclay | Preacher of Righteousness
X-ORIGINAL-URL:https://marktbarclay.com
X-WR-CALDESC:Events for Mark T. Barclay | Preacher of Righteousness
REFRESH-INTERVAL;VALUE=DURATION:PT1H
X-Robots-Tag:noindex
X-PUBLISHED-TTL:PT1H
BEGIN:VTIMEZONE
TZID:America/Chicago
BEGIN:DAYLIGHT
TZOFFSETFROM:-0600
TZOFFSETTO:-0500
TZNAME:CDT
DTSTART:20200308T080000
END:DAYLIGHT
BEGIN:STANDARD
TZOFFSETFROM:-0500
TZOFFSETTO:-0600
TZNAME:CST
DTSTART:20201101T070000
END:STANDARD
BEGIN:DAYLIGHT
TZOFFSETFROM:-0600
TZOFFSETTO:-0500
TZNAME:CDT
DTSTART:20210314T080000
END:DAYLIGHT
BEGIN:STANDARD
TZOFFSETFROM:-0500
TZOFFSETTO:-0600
TZNAME:CST
DTSTART:20211107T070000
END:STANDARD
BEGIN:DAYLIGHT
TZOFFSETFROM:-0600
TZOFFSETTO:-0500
TZNAME:CDT
DTSTART:20220313T080000
END:DAYLIGHT
BEGIN:STANDARD
TZOFFSETFROM:-0500
TZOFFSETTO:-0600
TZNAME:CST
DTSTART:20221106T070000
END:STANDARD
BEGIN:DAYLIGHT
TZOFFSETFROM:-0600
TZOFFSETTO:-0500
TZNAME:CDT
DTSTART:20230312T080000
END:DAYLIGHT
BEGIN:STANDARD
TZOFFSETFROM:-0500
TZOFFSETTO:-0600
TZNAME:CST
DTSTART:20231105T070000
END:STANDARD
END:VTIMEZONE
BEGIN:VTIMEZONE
TZID:America/Detroit
BEGIN:DAYLIGHT
TZOFFSETFROM:-0500
TZOFFSETTO:-0400
TZNAME:EDT
DTSTART:20200308T070000
END:DAYLIGHT
BEGIN:STANDARD
TZOFFSETFROM:-0400
TZOFFSETTO:-0500
TZNAME:EST
DTSTART:20201101T060000
END:STANDARD
BEGIN:DAYLIGHT
TZOFFSETFROM:-0500
TZOFFSETTO:-0400
TZNAME:EDT
DTSTART:20210314T070000
END:DAYLIGHT
BEGIN:STANDARD
TZOFFSETFROM:-0400
TZOFFSETTO:-0500
TZNAME:EST
DTSTART:20211107T060000
END:STANDARD
BEGIN:DAYLIGHT
TZOFFSETFROM:-0500
TZOFFSETTO:-0400
TZNAME:EDT
DTSTART:20220313T070000
END:DAYLIGHT
BEGIN:STANDARD
TZOFFSETFROM:-0400
TZOFFSETTO:-0500
TZNAME:EST
DTSTART:20221106T060000
END:STANDARD
BEGIN:DAYLIGHT
TZOFFSETFROM:-0500
TZOFFSETTO:-0400
TZNAME:EDT
DTSTART:20230312T070000
END:DAYLIGHT
BEGIN:STANDARD
TZOFFSETFROM:-0400
TZOFFSETTO:-0500
TZNAME:EST
DTSTART:20231105T060000
END:STANDARD
END:VTIMEZONE
BEGIN:VEVENT
DTSTART;TZID=America/Chicago:20220120T093000
DTEND;TZID=America/Chicago:20220120T103000
DTSTAMP:20260419T165557
CREATED:20211006T035203Z
LAST-MODIFIED:20211216T193736Z
UID:1335-1642671000-1642674600@marktbarclay.com
SUMMARY:Mark T. Barclay in Newark\, TX
DESCRIPTION:Kenneth Copeland Ministries\nMinisters’ Conference\nBY INVITATION ONLY
URL:https://marktbarclay.com/event/mark-t-barclay-in-newark-tx/
LOCATION:Eagle Mountain International Church\, 14355 Morris Dido Newark Rd\, Newark\, TX\, 76071\, United States
CATEGORIES:Mark T. Barclay
END:VEVENT
BEGIN:VEVENT
DTSTART;TZID=America/Chicago:20220117T190000
DTEND;TZID=America/Chicago:20220117T210000
DTSTAMP:20260419T165557
CREATED:20211215T141035Z
LAST-MODIFIED:20211216T193545Z
UID:1601-1642446000-1642453200@marktbarclay.com
SUMMARY:Mark T. Barclay in Ponder\, TX
DESCRIPTION:
URL:https://marktbarclay.com/event/mark-t-barclay-in-ponder-tx/
LOCATION:Christian Faith Fellowship\, 114 West James Street\, Ponder\, TX\, 76259\, United States
CATEGORIES:Mark T. Barclay
END:VEVENT
BEGIN:VEVENT
DTSTART;TZID=America/Detroit:20220116T100000
DTEND;TZID=America/Detroit:20220116T120000
DTSTAMP:20260419T165557
CREATED:20220114T142247Z
LAST-MODIFIED:20220114T142247Z
UID:1716-1642327200-1642334400@marktbarclay.com
SUMMARY:James P. Randolph in Lake Leelanau\, MI
DESCRIPTION:
URL:https://marktbarclay.com/event/james-p-randolph-in-lake-leelanau-mi/
LOCATION:Leelanau Community Church\, 245 S. Lake Leelanau Dr.\, Lake Leelanau\, MI\, 49653\, United States
CATEGORIES:James Randolph
END:VEVENT
BEGIN:VEVENT
DTSTART;TZID=America/Detroit:20220108T190000
DTEND;TZID=America/Detroit:20220108T210000
DTSTAMP:20260419T165557
CREATED:20211115T181703Z
LAST-MODIFIED:20211204T230802Z
UID:1437-1641668400-1641675600@marktbarclay.com
SUMMARY:"The End of the World" – A Webinar with Mark T. Barclay
DESCRIPTION:Our Lord is coming SOON! Can you see it? We are in the last days. Now more than ever we need clear vision\, both in the natural and most definitely in the spirit realm\, to see and understand the dangers and blessings that are coming. \nWith each new year\, new challenges arise as well as new questions. There is uncertainty around every corner. \nHow should you prepare for 2022? \nWhat should we watch out for in 2022? \nWhat should we expect in 2022 and beyond? \nThrough all of this\, Jesus is on the throne\, and the Holy Spirit is with us to help us navigate through this age. Please join us as we uncover these prophetic insights and more during this prophetic webinar. \n			\n				Register Now
URL:https://marktbarclay.com/event/the-end-of-the-world-a-webinar-with-mark-t-barclay/
LOCATION:MI
CATEGORIES:Mark T. Barclay
ATTACH;FMTTYPE=image/jpeg:https://marktbarclay.com/wp-content/uploads/2022-EndofWorld_Webinar_FINAL.jpg
END:VEVENT
BEGIN:VEVENT
DTSTART;TZID=America/Detroit:20220108T190000
DTEND;TZID=America/Detroit:20220108T210000
DTSTAMP:20260419T165557
CREATED:20211115T181703Z
LAST-MODIFIED:20211204T230802Z
UID:1437-1641668400-1641675600@marktbarclay.com
SUMMARY:"The End of the World" – A Webinar with Mark T. Barclay
DESCRIPTION:Our Lord is coming SOON! Can you see it? We are in the last days. Now more than ever we need clear vision\, both in the natural and most definitely in the spirit realm\, to see and understand the dangers and blessings that are coming. \nWith each new year\, new challenges arise as well as new questions. There is uncertainty around every corner. \nHow should you prepare for 2022? \nWhat should we watch out for in 2022? \nWhat should we expect in 2022 and beyond? \nThrough all of this\, Jesus is on the throne\, and the Holy Spirit is with us to help us navigate through this age. Please join us as we uncover these prophetic insights and more during this prophetic webinar. \n			\n				Register Now
URL:https://marktbarclay.com/event/the-end-of-the-world-a-webinar-with-mark-t-barclay/
LOCATION:MI
CATEGORIES:Mark T. Barclay
ATTACH;FMTTYPE=image/jpeg:https://marktbarclay.com/wp-content/uploads/2022-EndofWorld_Webinar_FINAL.jpg
END:VEVENT
BEGIN:VEVENT
DTSTART;TZID=America/Detroit:20220112T180000
DTEND;TZID=America/Detroit:20220112T200000
DTSTAMP:20260419T165557
CREATED:20211215T140233Z
LAST-MODIFIED:20220110T193206Z
UID:1599-1642010400-1642017600@marktbarclay.com
SUMMARY:Canceled: Mark T. Barclay in Sault Ste. Marie\, MI
DESCRIPTION:
URL:https://marktbarclay.com/event/mark-t-barclay-in-sault-ste-marie-mi/
LOCATION:Soo Christian Fellowship Church\, 2920 Ashmun Street\, Sault St. Marie\, MI\, 49783\, United States
CATEGORIES:Mark T. Barclay
END:VEVENT
BEGIN:VEVENT
DTSTART;TZID=America/Detroit:20220108T190000
DTEND;TZID=America/Detroit:20220108T210000
DTSTAMP:20260419T165557
CREATED:20211115T181703Z
LAST-MODIFIED:20211204T230802Z
UID:1437-1641668400-1641675600@marktbarclay.com
SUMMARY:"The End of the World" – A Webinar with Mark T. Barclay
DESCRIPTION:Our Lord is coming SOON! Can you see it? We are in the last days. Now more than ever we need clear vision\, both in the natural and most definitely in the spirit realm\, to see and understand the dangers and blessings that are coming. \nWith each new year\, new challenges arise as well as new questions. There is uncertainty around every corner. \nHow should you prepare for 2022? \nWhat should we watch out for in 2022? \nWhat should we expect in 2022 and beyond? \nThrough all of this\, Jesus is on the throne\, and the Holy Spirit is with us to help us navigate through this age. Please join us as we uncover these prophetic insights and more during this prophetic webinar. \n			\n				Register Now
URL:https://marktbarclay.com/event/the-end-of-the-world-a-webinar-with-mark-t-barclay/
LOCATION:MI
CATEGORIES:Mark T. Barclay
ATTACH;FMTTYPE=image/jpeg:https://marktbarclay.com/wp-content/uploads/2022-EndofWorld_Webinar_FINAL.jpg
END:VEVENT
BEGIN:VEVENT
DTSTART;TZID=America/Detroit:20220108T190000
DTEND;TZID=America/Detroit:20220108T210000
DTSTAMP:20260419T165557
CREATED:20211115T181703Z
LAST-MODIFIED:20211204T230802Z
UID:1437-1641668400-1641675600@marktbarclay.com
SUMMARY:"The End of the World" – A Webinar with Mark T. Barclay
DESCRIPTION:Our Lord is coming SOON! Can you see it? We are in the last days. Now more than ever we need clear vision\, both in the natural and most definitely in the spirit realm\, to see and understand the dangers and blessings that are coming. \nWith each new year\, new challenges arise as well as new questions. There is uncertainty around every corner. \nHow should you prepare for 2022? \nWhat should we watch out for in 2022? \nWhat should we expect in 2022 and beyond? \nThrough all of this\, Jesus is on the throne\, and the Holy Spirit is with us to help us navigate through this age. Please join us as we uncover these prophetic insights and more during this prophetic webinar. \n			\n				Register Now
URL:https://marktbarclay.com/event/the-end-of-the-world-a-webinar-with-mark-t-barclay/
LOCATION:MI
CATEGORIES:Mark T. Barclay
ATTACH;FMTTYPE=image/jpeg:https://marktbarclay.com/wp-content/uploads/2022-EndofWorld_Webinar_FINAL.jpg
END:VEVENT
BEGIN:VEVENT
DTSTART;TZID=America/Detroit:20211216T190000
DTEND;TZID=America/Detroit:20211216T210000
DTSTAMP:20260419T165557
CREATED:20211025T192605Z
LAST-MODIFIED:20211025T192605Z
UID:1401-1639681200-1639688400@marktbarclay.com
SUMMARY:Rev. Monte Knudsen at Living Word Church
DESCRIPTION:
URL:https://marktbarclay.com/event/rev-monte-knudsen-at-living-word-church/
LOCATION:Living Word International\, 2010 Stark Rd.\, Midland\, MI\, 48642\, United States
CATEGORIES:Guest Minister
END:VEVENT
BEGIN:VEVENT
DTSTART;TZID=America/Detroit:20211208T190000
DTEND;TZID=America/Detroit:20211208T210000
DTSTAMP:20260419T165557
CREATED:20211110T184734Z
LAST-MODIFIED:20211122T192046Z
UID:1425-1638990000-1638997200@marktbarclay.com
SUMMARY:Canceled: Mark T. Barclay in Sault Ste. Marie\, MI
DESCRIPTION:
URL:https://marktbarclay.com/event/mark-t-barclay-in-cedarville-mi/
LOCATION:Soo Christian Fellowship Church\, 2920 Ashmun Street\, Sault St. Marie\, MI\, 49783\, United States
CATEGORIES:Mark T. Barclay
END:VEVENT
BEGIN:VEVENT
DTSTART;TZID=America/Detroit:20211205T100000
DTEND;TZID=America/Detroit:20211205T120000
DTSTAMP:20260419T165557
CREATED:20211006T034517Z
LAST-MODIFIED:20211006T034517Z
UID:1332-1638698400-1638705600@marktbarclay.com
SUMMARY:Josh M. Barclay in Owosso\, MI
DESCRIPTION:
URL:https://marktbarclay.com/event/josh-m-barclay-in-owosso-mi/
LOCATION:New Creation Church\, 1800 Corunna Ave\, Owosso\, MI\, 48857\, United States
CATEGORIES:Josh M. Barclay
END:VEVENT
BEGIN:VEVENT
DTSTART;TZID=America/Detroit:20211205T100000
DTEND;TZID=America/Detroit:20211205T120000
DTSTAMP:20260419T165557
CREATED:20211006T033056Z
LAST-MODIFIED:20211006T033056Z
UID:1330-1638698400-1638705600@marktbarclay.com
SUMMARY:Dr. Terry Mize at Living Word Church
DESCRIPTION:
URL:https://marktbarclay.com/event/dr-terry-mize-at-living-word-church/
LOCATION:Living Word International\, 2010 Stark Rd.\, Midland\, MI\, 48642\, United States
CATEGORIES:Guest Minister
END:VEVENT
BEGIN:VEVENT
DTSTART;VALUE=DATE:20211201
DTEND;VALUE=DATE:20211204
DTSTAMP:20260419T165557
CREATED:20211006T032916Z
LAST-MODIFIED:20211006T032955Z
UID:1327-1638316800-1638575999@marktbarclay.com
SUMMARY:National Leadership Conference
DESCRIPTION:Join us for a powerful time in Word and Spirit as Dr. Barclay deals with the practical areas of leadership which relate to all of us! \nService times (ET): \nWednesday\n7:00 p.m. \nThursday\n10:30 a.m.\n7:00 p.m. \nFriday\n10:30 a.m.\n7:00 p.m.
URL:https://marktbarclay.com/event/national-leadership-conference-2021/
LOCATION:Living Word International\, 2010 Stark Rd.\, Midland\, MI\, 48642\, United States
CATEGORIES:Conference,Mark T. Barclay
END:VEVENT
BEGIN:VEVENT
DTSTART;TZID=America/Detroit:20211128T100000
DTEND;TZID=America/Detroit:20211128T120000
DTSTAMP:20260419T165557
CREATED:20211006T032443Z
LAST-MODIFIED:20211006T032443Z
UID:1324-1638093600-1638100800@marktbarclay.com
SUMMARY:Josh M. Barclay in Muskegon\, MI
DESCRIPTION:
URL:https://marktbarclay.com/event/josh-m-barclay-in-muskegon-mi-2/
LOCATION:Living Word Muskegon\, 1551 Wood St.\, Muskegon\, MI\, 49442\, United States
CATEGORIES:Josh M. Barclay
END:VEVENT
BEGIN:VEVENT
DTSTART;TZID=America/Detroit:20211127T180000
DTEND;TZID=America/Detroit:20211127T200000
DTSTAMP:20260419T165557
CREATED:20211006T032222Z
LAST-MODIFIED:20211006T032222Z
UID:1322-1638036000-1638043200@marktbarclay.com
SUMMARY:Josh M. Barclay in Muskegon\, MI
DESCRIPTION:YOUTH MEETING
URL:https://marktbarclay.com/event/josh-m-barclay-in-muskegon-mi/
LOCATION:Living Word Muskegon\, 1551 Wood St.\, Muskegon\, MI\, 49442\, United States
CATEGORIES:Josh M. Barclay
END:VEVENT
BEGIN:VEVENT
DTSTART;TZID=America/Chicago:20211121T193000
DTEND;TZID=America/Chicago:20211121T210000
DTSTAMP:20260419T165557
CREATED:20211006T031451Z
LAST-MODIFIED:20211006T031451Z
UID:1316-1637523000-1637528400@marktbarclay.com
SUMMARY:Mark T. Barclay in Sioux City\, IA
DESCRIPTION:
URL:https://marktbarclay.com/event/mark-t-barclay-in-sioux-city-ia/
LOCATION:Cornerstone World Outreach\, 1625 Glen Ellen Rd\, Sioux City\, IA\, 51106\, United States
CATEGORIES:Mark T. Barclay
END:VEVENT
BEGIN:VEVENT
DTSTART;TZID=America/Detroit:20211121T110000
DTEND;TZID=America/Detroit:20211121T130000
DTSTAMP:20260419T165557
CREATED:20211006T032014Z
LAST-MODIFIED:20211006T032014Z
UID:1319-1637492400-1637499600@marktbarclay.com
SUMMARY:Josh M. Barclay in Cheraw\, SC
DESCRIPTION:
URL:https://marktbarclay.com/event/josh-m-barclay-in-cheraw-sc/
LOCATION:Word of Life Fellowship Church – SC\, 481 Tec Rd\, Cheraw\, SC\, 29520
CATEGORIES:Josh M. Barclay
END:VEVENT
BEGIN:VEVENT
DTSTART;TZID=America/Detroit:20211121T100000
DTEND;TZID=America/Detroit:20211121T120000
DTSTAMP:20260419T165557
CREATED:20211006T013747Z
LAST-MODIFIED:20211006T013747Z
UID:1313-1637488800-1637496000@marktbarclay.com
SUMMARY:Mark T. Barclay in Marion\, IN
DESCRIPTION:
URL:https://marktbarclay.com/event/mark-t-barclay-in-marion-in/
LOCATION:Tree of Life Church\, 2701 W 2nd St\, Marion\, IN\, 46952\, United States
CATEGORIES:Mark T. Barclay
END:VEVENT
BEGIN:VEVENT
DTSTART;TZID=America/Chicago:20211118T183000
DTEND;TZID=America/Chicago:20211118T203000
DTSTAMP:20260419T165557
CREATED:20211006T013231Z
LAST-MODIFIED:20211006T013231Z
UID:1311-1637260200-1637267400@marktbarclay.com
SUMMARY:Josh M. Barclay in Clarksville\, TN
DESCRIPTION:
URL:https://marktbarclay.com/event/josh-m-barclay-in-clarksville-tn-2021-11/
LOCATION:Faith Outreach Church\, 731 Windermere Dr\, Clarksville\, TN\, 37043-8415
CATEGORIES:Josh M. Barclay
END:VEVENT
BEGIN:VEVENT
DTSTART;TZID=America/Chicago:20211117T183000
DTEND;TZID=America/Chicago:20211117T203000
DTSTAMP:20260419T165557
CREATED:20211006T012850Z
LAST-MODIFIED:20211006T013011Z
UID:1309-1637173800-1637181000@marktbarclay.com
SUMMARY:Mark T. Barclay in Clarksville\, TN
DESCRIPTION:
URL:https://marktbarclay.com/event/mark-t-barclay-in-clarksville-tn/
LOCATION:Faith Outreach Church\, 731 Windermere Dr\, Clarksville\, TN\, 37043-8415
CATEGORIES:Mark T. Barclay
END:VEVENT
BEGIN:VEVENT
DTSTART;VALUE=DATE:20211115
DTEND;VALUE=DATE:20211117
DTSTAMP:20260419T165557
CREATED:20211006T012732Z
LAST-MODIFIED:20211006T012732Z
UID:1306-1636934400-1637107199@marktbarclay.com
SUMMARY:Live Straight Talk for Ministers
DESCRIPTION:Senior pastors and senior ministers\, here’s your opportunity to spend time with Dr. and Mrs. Barclay in Gatlinburg\, Tennessee\, November 15-16\, 2021\, for Live Straight Talk for Ministers. \nThese meetings are special two-day getaways set aside for Dr. Barclay to get into a closed room with full-time ministers to share his heart about some very deep and intimate ministry issues. The meetings are exclusive to senior ministers and their spouse only (no armorbearers\, family\, or lay/helps people are permitted). In order to provide a personal\, face-to-face atmosphere\, they are limited to a selected number of people each time by invitation only. \n\nIf you are interested in getting on the invitation list for the currently scheduled or any future Live Straight Talks\, contact Carolyn Matheson ASAP at Mark Barclay Ministries World Headquarters at 989-832-7547\, ext. 8017\, or email straighttalk@mbmmail.com.
URL:https://marktbarclay.com/event/live-straight-talk-for-ministers-tn-2021/
LOCATION:Gatlinburg\, TN\, United States
CATEGORIES:Mark T. Barclay
END:VEVENT
BEGIN:VEVENT
DTSTART;TZID=America/Detroit:20211114T110000
DTEND;TZID=America/Detroit:20211114T130000
DTSTAMP:20260419T165557
CREATED:20211006T012350Z
LAST-MODIFIED:20211006T012350Z
UID:1304-1636887600-1636894800@marktbarclay.com
SUMMARY:Josh M. Barclay in Asheville\, NC
DESCRIPTION:
URL:https://marktbarclay.com/event/josh-m-barclay-in-asheville-nc/
LOCATION:Glory Tabernacle\, 1221 Sweeten Creek Rd\, Asheville\, NC\, 28803\, United States
CATEGORIES:Josh M. Barclay
END:VEVENT
BEGIN:VEVENT
DTSTART;TZID=America/Detroit:20211114T100000
DTEND;TZID=America/Detroit:20211114T120000
DTSTAMP:20260419T165557
CREATED:20211005T235613Z
LAST-MODIFIED:20211005T235735Z
UID:1301-1636884000-1636891200@marktbarclay.com
SUMMARY:Mark T. Barclay in Benton\, AR
DESCRIPTION:
URL:https://marktbarclay.com/event/mark-t-barclay-in-benton-ar/
LOCATION:CenterPoint Church\, 20383 I-30\, Benton\, AR\, 72015\, United States
CATEGORIES:Mark T. Barclay
END:VEVENT
BEGIN:VEVENT
DTSTART;TZID=America/Detroit:20211107T100000
DTEND;TZID=America/Detroit:20211107T120000
DTSTAMP:20260419T165557
CREATED:20211020T143601Z
LAST-MODIFIED:20211020T143601Z
UID:1392-1636279200-1636286400@marktbarclay.com
SUMMARY:Rev. Kate McVeigh at Living Word Church
DESCRIPTION:
URL:https://marktbarclay.com/event/rev-kate-mcveigh-at-living-word-church/
LOCATION:Living Word International\, 2010 Stark Rd.\, Midland\, MI\, 48642\, United States
CATEGORIES:Guest Minister
END:VEVENT
BEGIN:VEVENT
DTSTART;TZID=America/Detroit:20211105T190000
DTEND;TZID=America/Detroit:20211105T210000
DTSTAMP:20260419T165557
CREATED:20211019T161658Z
LAST-MODIFIED:20211019T161658Z
UID:1386-1636138800-1636146000@marktbarclay.com
SUMMARY:Mark T. Barclay in Battle Creek\, MI
DESCRIPTION:
URL:https://marktbarclay.com/event/mark-t-barclay-in-battle-creek-mi/
LOCATION:Christ Alive Church\, 8938 Bellevue Road\, Battle Creek\, MI\, 49014\, United States
CATEGORIES:Mark T. Barclay
END:VEVENT
BEGIN:VEVENT
DTSTART;TZID=America/Detroit:20211103T190000
DTEND;TZID=America/Detroit:20211103T210000
DTSTAMP:20260419T165557
CREATED:20211005T220520Z
LAST-MODIFIED:20211005T220520Z
UID:1298-1635966000-1635973200@marktbarclay.com
SUMMARY:Mark T. Barclay in Lexington\, KY
DESCRIPTION:
URL:https://marktbarclay.com/event/mark-t-barclay-in-lexington-ky/
LOCATION:Grace Fellowship of Lexington\, 4514 Briar Hill Rd.\, Lexington\, KY\, 40516
CATEGORIES:Mark T. Barclay
END:VEVENT
BEGIN:VEVENT
DTSTART;TZID=America/Detroit:20211101T190000
DTEND;TZID=America/Detroit:20211101T210000
DTSTAMP:20260419T165557
CREATED:20211005T205445Z
LAST-MODIFIED:20211005T205445Z
UID:1294-1635793200-1635800400@marktbarclay.com
SUMMARY:Mark T. Barclay in Eaton\, OH
DESCRIPTION:
URL:https://marktbarclay.com/event/mark-t-barclay-in-eaton-oh/
LOCATION:Covenant of Peace Church\, 4745 US 127 North\, Eaton\, OH\, 45320\, United States
CATEGORIES:Mark T. Barclay
END:VEVENT
BEGIN:VEVENT
DTSTART;TZID=America/Detroit:20211101T190000
DTEND;TZID=America/Detroit:20211101T210000
DTSTAMP:20260419T165557
CREATED:20211005T205445Z
LAST-MODIFIED:20211005T205445Z
UID:1294-1635793200-1635800400@marktbarclay.com
SUMMARY:Mark T. Barclay in Eaton\, OH
DESCRIPTION:
URL:https://marktbarclay.com/event/mark-t-barclay-in-eaton-oh/
LOCATION:Covenant of Peace Church\, 4745 US 127 North\, Eaton\, OH\, 45320\, United States
CATEGORIES:Mark T. Barclay
END:VEVENT
BEGIN:VEVENT
DTSTART;TZID=America/Detroit:20211031T190000
DTEND;TZID=America/Detroit:20211031T210000
DTSTAMP:20260419T165557
CREATED:20211005T205158Z
LAST-MODIFIED:20211006T011318Z
UID:1291-1635706800-1635714000@marktbarclay.com
SUMMARY:Mark T. Barclay in Gardner\, MA
DESCRIPTION:
URL:https://marktbarclay.com/event/mark-t-barclay-in-gardner-ma-2021/
LOCATION:Higher Ground Ministries\, 186 Central St\, Gardner\, MA\, 01440\, United States
CATEGORIES:Mark T. Barclay
END:VEVENT
BEGIN:VEVENT
DTSTART;TZID=America/Detroit:20211031T110000
DTEND;TZID=America/Detroit:20211031T130000
DTSTAMP:20260419T165557
CREATED:20210927T213430Z
LAST-MODIFIED:20210927T215645Z
UID:1262-1635678000-1635685200@marktbarclay.com
SUMMARY:Mark T. Barclay in White Plains\, NY
DESCRIPTION:
URL:https://marktbarclay.com/event/mark-t-barclay-in-white-plains-ny/
LOCATION:Living Word Christian Church\, 1236 Mamaroneck Ave\, White Plains\, NY\, 10605\, United States
CATEGORIES:Mark T. Barclay
END:VEVENT
END:VCALENDAR