BEGIN:VCALENDAR
VERSION:2.0
PRODID:-//Mark T. Barclay | Preacher of Righteousness - ECPv6.15.20//NONSGML v1.0//EN
CALSCALE:GREGORIAN
METHOD:PUBLISH
X-WR-CALNAME:Mark T. Barclay | Preacher of Righteousness
X-ORIGINAL-URL:https://marktbarclay.com
X-WR-CALDESC:Events for Mark T. Barclay | Preacher of Righteousness
REFRESH-INTERVAL;VALUE=DURATION:PT1H
X-Robots-Tag:noindex
X-PUBLISHED-TTL:PT1H
BEGIN:VTIMEZONE
TZID:America/Los_Angeles
BEGIN:DAYLIGHT
TZOFFSETFROM:-0800
TZOFFSETTO:-0700
TZNAME:PDT
DTSTART:20210314T100000
END:DAYLIGHT
BEGIN:STANDARD
TZOFFSETFROM:-0700
TZOFFSETTO:-0800
TZNAME:PST
DTSTART:20211107T090000
END:STANDARD
BEGIN:DAYLIGHT
TZOFFSETFROM:-0800
TZOFFSETTO:-0700
TZNAME:PDT
DTSTART:20220313T100000
END:DAYLIGHT
BEGIN:STANDARD
TZOFFSETFROM:-0700
TZOFFSETTO:-0800
TZNAME:PST
DTSTART:20221106T090000
END:STANDARD
BEGIN:DAYLIGHT
TZOFFSETFROM:-0800
TZOFFSETTO:-0700
TZNAME:PDT
DTSTART:20230312T100000
END:DAYLIGHT
BEGIN:STANDARD
TZOFFSETFROM:-0700
TZOFFSETTO:-0800
TZNAME:PST
DTSTART:20231105T090000
END:STANDARD
END:VTIMEZONE
BEGIN:VTIMEZONE
TZID:America/Chicago
BEGIN:DAYLIGHT
TZOFFSETFROM:-0600
TZOFFSETTO:-0500
TZNAME:CDT
DTSTART:20210314T080000
END:DAYLIGHT
BEGIN:STANDARD
TZOFFSETFROM:-0500
TZOFFSETTO:-0600
TZNAME:CST
DTSTART:20211107T070000
END:STANDARD
BEGIN:DAYLIGHT
TZOFFSETFROM:-0600
TZOFFSETTO:-0500
TZNAME:CDT
DTSTART:20220313T080000
END:DAYLIGHT
BEGIN:STANDARD
TZOFFSETFROM:-0500
TZOFFSETTO:-0600
TZNAME:CST
DTSTART:20221106T070000
END:STANDARD
BEGIN:DAYLIGHT
TZOFFSETFROM:-0600
TZOFFSETTO:-0500
TZNAME:CDT
DTSTART:20230312T080000
END:DAYLIGHT
BEGIN:STANDARD
TZOFFSETFROM:-0500
TZOFFSETTO:-0600
TZNAME:CST
DTSTART:20231105T070000
END:STANDARD
END:VTIMEZONE
BEGIN:VTIMEZONE
TZID:America/Detroit
BEGIN:DAYLIGHT
TZOFFSETFROM:-0500
TZOFFSETTO:-0400
TZNAME:EDT
DTSTART:20210314T070000
END:DAYLIGHT
BEGIN:STANDARD
TZOFFSETFROM:-0400
TZOFFSETTO:-0500
TZNAME:EST
DTSTART:20211107T060000
END:STANDARD
BEGIN:DAYLIGHT
TZOFFSETFROM:-0500
TZOFFSETTO:-0400
TZNAME:EDT
DTSTART:20220313T070000
END:DAYLIGHT
BEGIN:STANDARD
TZOFFSETFROM:-0400
TZOFFSETTO:-0500
TZNAME:EST
DTSTART:20221106T060000
END:STANDARD
BEGIN:DAYLIGHT
TZOFFSETFROM:-0500
TZOFFSETTO:-0400
TZNAME:EDT
DTSTART:20230312T070000
END:DAYLIGHT
BEGIN:STANDARD
TZOFFSETFROM:-0400
TZOFFSETTO:-0500
TZNAME:EST
DTSTART:20231105T060000
END:STANDARD
END:VTIMEZONE
BEGIN:VTIMEZONE
TZID:America/Denver
BEGIN:DAYLIGHT
TZOFFSETFROM:-0700
TZOFFSETTO:-0600
TZNAME:MDT
DTSTART:20210314T090000
END:DAYLIGHT
BEGIN:STANDARD
TZOFFSETFROM:-0600
TZOFFSETTO:-0700
TZNAME:MST
DTSTART:20211107T080000
END:STANDARD
BEGIN:DAYLIGHT
TZOFFSETFROM:-0700
TZOFFSETTO:-0600
TZNAME:MDT
DTSTART:20220313T090000
END:DAYLIGHT
BEGIN:STANDARD
TZOFFSETFROM:-0600
TZOFFSETTO:-0700
TZNAME:MST
DTSTART:20221106T080000
END:STANDARD
BEGIN:DAYLIGHT
TZOFFSETFROM:-0700
TZOFFSETTO:-0600
TZNAME:MDT
DTSTART:20230312T090000
END:DAYLIGHT
BEGIN:STANDARD
TZOFFSETFROM:-0600
TZOFFSETTO:-0700
TZNAME:MST
DTSTART:20231105T080000
END:STANDARD
END:VTIMEZONE
BEGIN:VEVENT
DTSTART;TZID=America/Los_Angeles:20220710T100000
DTEND;TZID=America/Los_Angeles:20220710T120000
DTSTAMP:20260421T105014
CREATED:20220224T173521Z
LAST-MODIFIED:20220224T173521Z
UID:1810-1657447200-1657454400@marktbarclay.com
SUMMARY:James P. Randolph in Visalia\, CA
DESCRIPTION:
URL:https://marktbarclay.com/event/james-p-randolph-in-visalia-ca/
LOCATION:West Coast Believers Center\, 3737 W Walnut Ave\, Visalia\, CA\, 93277\, United States
CATEGORIES:James Randolph
END:VEVENT
BEGIN:VEVENT
DTSTART;TZID=America/Chicago:20220709T090000
DTEND;TZID=America/Chicago:20220709T120000
DTSTAMP:20260421T105014
CREATED:20220429T172034Z
LAST-MODIFIED:20220629T163027Z
UID:1963-1657357200-1657368000@marktbarclay.com
SUMMARY:Vickie Barclay in Bartlett\, IL
DESCRIPTION:
URL:https://marktbarclay.com/event/vickie-barclay-in-bartlett-il/
LOCATION:Faith World Outreach Church\, 1280 S IL Route 59\, Bartlett\, IL\, 60103-3006\, United States
CATEGORIES:Vickie Barclay
END:VEVENT
BEGIN:VEVENT
DTSTART;VALUE=DATE:20220707
DTEND;VALUE=DATE:20220710
DTSTAMP:20260421T105014
CREATED:20220224T173151Z
LAST-MODIFIED:20220629T162940Z
UID:1808-1657152000-1657411199@marktbarclay.com
SUMMARY:Dawn M. Randolph in Visalia\, CA
DESCRIPTION:July 7 @ 7pm\, July 8 @ 7pm and July 9 @ 9am \n$35 pre-registered\, $40 at the door
URL:https://marktbarclay.com/event/dawn-m-randolph-in-visalia-ca/
LOCATION:West Coast Believers Center\, 3737 W Walnut Ave\, Visalia\, CA\, 93277\, United States
CATEGORIES:Dawn Randolph
END:VEVENT
BEGIN:VEVENT
DTSTART;TZID=America/Detroit:20220703T090000
DTEND;TZID=America/Detroit:20220703T090000
DTSTAMP:20260421T105014
CREATED:20220510T203837Z
LAST-MODIFIED:20220510T203837Z
UID:1986-1656838800-1656838800@marktbarclay.com
SUMMARY:James Randolph in Oviedo\, FL
DESCRIPTION:Service Times 9:00am and 10:30am
URL:https://marktbarclay.com/event/james-randolph-in-oviedo-fl/
LOCATION:Faith Outreach Church\, 731 Windermere Dr\, Clarksville\, TN\, 37043-8415
CATEGORIES:James Randolph
END:VEVENT
BEGIN:VEVENT
DTSTART;TZID=America/Detroit:20220630T190000
DTEND;TZID=America/Detroit:20220630T190000
DTSTAMP:20260421T105014
CREATED:20220520T141613Z
LAST-MODIFIED:20220520T141613Z
UID:2005-1656615600-1656615600@marktbarclay.com
SUMMARY:Rev. Jim Crabb in Midland\, MI
DESCRIPTION:
URL:https://marktbarclay.com/event/rev-jim-crabb-in-midland-mi/
LOCATION:MI
CATEGORIES:Mark T. Barclay
END:VEVENT
BEGIN:VEVENT
DTSTART;VALUE=DATE:20220621
DTEND;VALUE=DATE:20220625
DTSTAMP:20260421T105014
CREATED:20211006T041851Z
LAST-MODIFIED:20220616T212629Z
UID:1357-1655769600-1656115199@marktbarclay.com
SUMMARY:Palm Coast Holy Spirit Conference
DESCRIPTION:Join us for a powerful time in the Holy Spirit with an outpouring which is sure to change lives! \n			\n			\n				\n				\n				\n				\n			\n				\n				\n				\n				\n				\n				\n				\n				\n				\n				\n				Service Times\n(all times ET): \nTuesday7:00 p.m. \nWednesday10:30 a.m.7:00 p.m. \nThursday10:30 a.m.7:00 p.m. \nFriday10:30 a.m.7:00 p.m. \nChildcare provided for evening services. \n			\n			\n				\n				\n				\n				\n				\n				\n				\n				\n				\n				Location\nNew Way Church293 Old Moody Blvd Palm Coast\, FL 32164 \n			\n				Get Directions\n			\n				\n				\n				\n				\n				\n				\n				New Way Church\n				\n			\n			\n			\n				\n				\n				\n				\n				\n				\n				\n				\n				\n				Ministers\nWe love ministers! If you plan to attend any of these meetings\, please allow us to save a seat for you and care for you properly by registering in advance. \n			\n				Ministers' Registration\n			\n				\n				\n				\n				\n				Promotional Resources\nWe are expecting a powerful move of God at this conference. Please partner with us to spread the word so that many will come and receive from the Lord! We’ve provided resources at the link below including printable flyers and handouts as well as a video and graphics to use in your church services. \n			\n				View Resources
URL:https://marktbarclay.com/event/palm-coast-holy-spirit-conference-2022/
LOCATION:New Way Church\, 293 Old Moody Blvd\, Palm Coast\, FL\, 32164\, United States
CATEGORIES:Conference,Mark T. Barclay
END:VEVENT
BEGIN:VEVENT
DTSTART;TZID=America/Detroit:20220619T183000
DTEND;TZID=America/Detroit:20220619T203000
DTSTAMP:20260421T105014
CREATED:20220308T161908Z
LAST-MODIFIED:20220308T161908Z
UID:1855-1655663400-1655670600@marktbarclay.com
SUMMARY:Mark T. Barclay in Oviedo\, FL
DESCRIPTION:
URL:https://marktbarclay.com/event/mark-t-barclay-in-oviedo-fl/
LOCATION:Faith Outreach Church\, 731 Windermere Dr\, Clarksville\, TN\, 37043-8415
CATEGORIES:Mark T. Barclay
END:VEVENT
BEGIN:VEVENT
DTSTART;TZID=America/Detroit:20220619T100000
DTEND;TZID=America/Detroit:20220619T120000
DTSTAMP:20260421T105014
CREATED:20211006T041021Z
LAST-MODIFIED:20211006T041043Z
UID:1351-1655632800-1655640000@marktbarclay.com
SUMMARY:James & Dawn Randolph in Clarksville\, IN
DESCRIPTION:
URL:https://marktbarclay.com/event/james-dawn-randolph-in-clarksville-in-2022/
LOCATION:Resurrection Life Church\, 2804 Blackiston Mill Rd.\, Clarksville\, IN\, 47129\, United States
CATEGORIES:Dawn Randolph,James Randolph
END:VEVENT
BEGIN:VEVENT
DTSTART;TZID=America/Detroit:20220619T100000
DTEND;TZID=America/Detroit:20220619T120000
DTSTAMP:20260421T105014
CREATED:20220308T161249Z
LAST-MODIFIED:20220308T161249Z
UID:1848-1655632800-1655640000@marktbarclay.com
SUMMARY:Mark T. Barclay in Ft. Myers\, FL
DESCRIPTION:
URL:https://marktbarclay.com/event/mark-t-barclay-in-ft-myers-fl/
LOCATION:Life Church\, 11735 Plantation Rd.\, Fort Myers\, FL\, 33966\, United States
CATEGORIES:Mark T. Barclay
END:VEVENT
BEGIN:VEVENT
DTSTART;TZID=America/Detroit:20220619T100000
DTEND;TZID=America/Detroit:20220619T120000
DTSTAMP:20260421T105014
CREATED:20211006T041021Z
LAST-MODIFIED:20211006T041043Z
UID:1351-1655632800-1655640000@marktbarclay.com
SUMMARY:James & Dawn Randolph in Clarksville\, IN
DESCRIPTION:
URL:https://marktbarclay.com/event/james-dawn-randolph-in-clarksville-in-2022/
LOCATION:Resurrection Life Church\, 2804 Blackiston Mill Rd.\, Clarksville\, IN\, 47129\, United States
CATEGORIES:Dawn Randolph,James Randolph
END:VEVENT
BEGIN:VEVENT
DTSTART;TZID=America/Detroit:20220618T180000
DTEND;TZID=America/Detroit:20220618T193000
DTSTAMP:20260421T105014
CREATED:20220615T132840Z
LAST-MODIFIED:20220615T132840Z
UID:2040-1655575200-1655580600@marktbarclay.com
SUMMARY:Mark T. Barclay in Naples\, FL
DESCRIPTION:
URL:https://marktbarclay.com/event/mark-t-barclay-in-naples-fl/
LOCATION:Faith Life Worship Center\, 1074 10th Str N\, Naples\, FL\, 34102\, United States
CATEGORIES:Mark T. Barclay
END:VEVENT
BEGIN:VEVENT
DTSTART;TZID=America/Detroit:20220617T190000
DTEND;TZID=America/Detroit:20220617T220000
DTSTAMP:20260421T105014
CREATED:20211006T040815Z
LAST-MODIFIED:20211006T040815Z
UID:1349-1655492400-1655503200@marktbarclay.com
SUMMARY:James & Dawn Randolph in Clarksville\, IN
DESCRIPTION:YOUTH MEETING
URL:https://marktbarclay.com/event/james-dawn-randolph-in-clarksville-in/
LOCATION:Resurrection Life Church\, 2804 Blackiston Mill Rd.\, Clarksville\, IN\, 47129\, United States
CATEGORIES:Dawn Randolph,James Randolph
END:VEVENT
BEGIN:VEVENT
DTSTART;TZID=America/Detroit:20220616T190000
DTEND;TZID=America/Detroit:20220616T190000
DTSTAMP:20260421T105014
CREATED:20220520T141350Z
LAST-MODIFIED:20220520T141350Z
UID:2003-1655406000-1655406000@marktbarclay.com
SUMMARY:Rev. Bernadette Smith in Midland\, MI
DESCRIPTION:
URL:https://marktbarclay.com/event/rev-bernadette-smith-in-midland-mi/
LOCATION:MI
CATEGORIES:Mark T. Barclay
END:VEVENT
BEGIN:VEVENT
DTSTART;TZID=America/Detroit:20220615T183000
DTEND;TZID=America/Detroit:20220615T203000
DTSTAMP:20260421T105014
CREATED:20220228T193939Z
LAST-MODIFIED:20220228T193939Z
UID:1841-1655317800-1655325000@marktbarclay.com
SUMMARY:Mark T. Barclay in Flint\, MI
DESCRIPTION:
URL:https://marktbarclay.com/event/mark-t-barclay-in-flint-mi/
LOCATION:Kingdom of Heaven Ministries\, 2430 Dutcher St.\, Flint\, MI\, 48532\, United States
CATEGORIES:Mark T. Barclay
END:VEVENT
BEGIN:VEVENT
DTSTART;TZID=America/Detroit:20220612T100000
DTEND;TZID=America/Detroit:20220612T120000
DTSTAMP:20260421T105014
CREATED:20220228T193206Z
LAST-MODIFIED:20220228T193206Z
UID:1838-1655028000-1655035200@marktbarclay.com
SUMMARY:Rev. Jean-Paul Enger in Midland\, MI
DESCRIPTION:
URL:https://marktbarclay.com/event/rev-jean-paul-enger-in-midland-mi/
LOCATION:Living Word International\, 2010 Stark Rd.\, Midland\, MI\, 48642\, United States
END:VEVENT
BEGIN:VEVENT
DTSTART;VALUE=DATE:20220612
DTEND;VALUE=DATE:20220614
DTSTAMP:20260421T105014
CREATED:20220228T192035Z
LAST-MODIFIED:20220418T171940Z
UID:1831-1654992000-1655164799@marktbarclay.com
SUMMARY:Mark T. Barclay in Clarksville\, IN
DESCRIPTION:June 12th @ 6:00pm EST  AND \nJune 13th @ 7:00pm EST
URL:https://marktbarclay.com/event/mark-t-barclay-in-clarksville-in/
LOCATION:Resurrection Life Church\, 2804 Blackiston Mill Rd.\, Clarksville\, IN\, 47129\, United States
CATEGORIES:Mark T. Barclay
END:VEVENT
BEGIN:VEVENT
DTSTART;VALUE=DATE:20220612
DTEND;VALUE=DATE:20220613
DTSTAMP:20260421T105014
CREATED:20220308T185254Z
LAST-MODIFIED:20220308T185254Z
UID:1861-1654992000-1655078399@marktbarclay.com
SUMMARY:Josh M. Barclay in Kalamazoo\, MI
DESCRIPTION:Service times: 10:00 a.m. & 6:00 p.m.
URL:https://marktbarclay.com/event/josh-m-barclay-in-kalamazoo-mi/
LOCATION:New Life Victory Church\, 2775 South 26th St.\, Kalamazoo\, MI\, 49048\, United States
CATEGORIES:Josh M. Barclay
END:VEVENT
BEGIN:VEVENT
DTSTART;TZID=America/Detroit:20220609T190000
DTEND;TZID=America/Detroit:20220609T190000
DTSTAMP:20260421T105014
CREATED:20220228T192851Z
LAST-MODIFIED:20220506T140517Z
UID:1835-1654801200-1654801200@marktbarclay.com
SUMMARY:Dr. Ingolf Schmidt in Midland\, MI
DESCRIPTION:
URL:https://marktbarclay.com/event/dr-ingolf-schmidt-at-living-word-church/
LOCATION:Living Word International\, 2010 Stark Rd.\, Midland\, MI\, 48642\, United States
CATEGORIES:Mark T. Barclay
END:VEVENT
BEGIN:VEVENT
DTSTART;TZID=America/Detroit:20220605T180000
DTEND;TZID=America/Detroit:20220605T200000
DTSTAMP:20260421T105014
CREATED:20220424T191851Z
LAST-MODIFIED:20220424T192041Z
UID:1947-1654452000-1654459200@marktbarclay.com
SUMMARY:Mark T. Barclay in Greenville\, NC
DESCRIPTION:
URL:https://marktbarclay.com/event/mark-t-barclay-in-greenville-nc/
LOCATION:Greenville Community Christian Church\, 1104 North Memorial Drive\, Greenville\, NC\, 27834\, United States
CATEGORIES:Mark T. Barclay
END:VEVENT
BEGIN:VEVENT
DTSTART;TZID=America/Detroit:20220605T110000
DTEND;TZID=America/Detroit:20220605T130000
DTSTAMP:20260421T105014
CREATED:20220228T191553Z
LAST-MODIFIED:20220228T191553Z
UID:1829-1654426800-1654434000@marktbarclay.com
SUMMARY:Mark T. Barclay in Asheville\, NC
DESCRIPTION:
URL:https://marktbarclay.com/event/mark-t-barclay-in-asheville-nc-2/
LOCATION:Glory Tabernacle\, 1221 Sweeten Creek Rd\, Asheville\, NC\, 28803\, United States
CATEGORIES:Mark T. Barclay
END:VEVENT
BEGIN:VEVENT
DTSTART;VALUE=DATE:20220602
DTEND;VALUE=DATE:20220606
DTSTAMP:20260421T105014
CREATED:20211006T040557Z
LAST-MODIFIED:20211006T040618Z
UID:1347-1654128000-1654473599@marktbarclay.com
SUMMARY:Women of Righteousness Conference
DESCRIPTION:For over 20 years now\, women from across the nation (and the globe) have trekked to Midland\, MI\, for the annual Women of Righteousness conference. It’s the biggest party of the year…and we want YOU to join us! \nWe’re talking about a ladies-only weekend to recharge and refresh your faith in a really big way. You’ll leave the Women of Righteousness weekend feeling encouraged and rejuvenated. It’ll give you the push you need to face life with a new outlook. If you come with friends you’ll leave closer than you were; and if you come alone\, we’re sure you’ll meet someone fabulous along the way. \nSo c’mon and join us in Midland\, MI\, for our annual women’s conference! You’ll experience anointed worship\, encouragement from God’s Word\, and have a whole lot of fun with women just like you! \nRegistration\nLadies\, age 16 and up\n$50 per person\, advance registration\, payable to Mark Barclay Ministries\nChurch-casual dress\nNo child care available \nPlease register for conference at www.womenofrighteousness.com\, or call Peggy Histed at 989.832.7547.
URL:https://marktbarclay.com/event/women-of-righteousness-conference-2022/
LOCATION:Living Word International\, 2010 Stark Rd.\, Midland\, MI\, 48642\, United States
CATEGORIES:Conference,Vickie Barclay
END:VEVENT
BEGIN:VEVENT
DTSTART;VALUE=DATE:20220602
DTEND;VALUE=DATE:20220604
DTSTAMP:20260421T105014
CREATED:20220318T160522Z
LAST-MODIFIED:20220418T171606Z
UID:1890-1654128000-1654300799@marktbarclay.com
SUMMARY:Mark T. Barclay in West Chester\, OH
DESCRIPTION:June 2nd @ 7pm AND\nJune 3rd @ 7pm
URL:https://marktbarclay.com/event/mark-t-barclay-in-west-chester-oh/
LOCATION:Imago Dei Christian Fellowship\, 8928 Beckett Rd.\, West Chester\, OH\, 45069\, United States
CATEGORIES:Mark T. Barclay
END:VEVENT
BEGIN:VEVENT
DTSTART;TZID=America/Los_Angeles:20220529T180000
DTEND;TZID=America/Los_Angeles:20220529T200000
DTSTAMP:20260421T105014
CREATED:20220318T155608Z
LAST-MODIFIED:20220318T155714Z
UID:1888-1653847200-1653854400@marktbarclay.com
SUMMARY:Mark T. Barclay in Vista\, CA
DESCRIPTION:
URL:https://marktbarclay.com/event/mark-t-barclay-in-vista-ca/
LOCATION:Life Christian Church\, 1132 N. Melrose Dr.\, Ste 502\, Vista\, CA\, 92083\, United States
CATEGORIES:Mark T. Barclay
END:VEVENT
BEGIN:VEVENT
DTSTART;TZID=America/Los_Angeles:20220529T100000
DTEND;TZID=America/Los_Angeles:20220529T100000
DTSTAMP:20260421T105014
CREATED:20220228T191337Z
LAST-MODIFIED:20220228T191337Z
UID:1827-1653818400-1653818400@marktbarclay.com
SUMMARY:Mark T. Barclay in Torrance\, CA
DESCRIPTION:
URL:https://marktbarclay.com/event/mark-t-barclay-in-torrance-ca/
LOCATION:Integrity Christian Center\, 3555 Lomita Blvd\, Torrance\, CA\, 90505\, United States
CATEGORIES:Mark T. Barclay
END:VEVENT
BEGIN:VEVENT
DTSTART;TZID=America/Los_Angeles:20220528T180000
DTEND;TZID=America/Los_Angeles:20220528T200000
DTSTAMP:20260421T105014
CREATED:20220318T163722Z
LAST-MODIFIED:20220520T174928Z
UID:1893-1653760800-1653768000@marktbarclay.com
SUMMARY:Mark T. Barclay in Yorba Linda\, CA
DESCRIPTION:
URL:https://marktbarclay.com/event/mark-t-barclay-in-whittier-ca/
LOCATION:Abundant Living Church\, 23655 Via Del Rio\, Yorba Linda\, CA\, 92887
CATEGORIES:Mark T. Barclay
END:VEVENT
BEGIN:VEVENT
DTSTART;TZID=America/Chicago:20220526T190000
DTEND;TZID=America/Chicago:20220526T210000
DTSTAMP:20260421T105014
CREATED:20220317T184427Z
LAST-MODIFIED:20220318T160138Z
UID:1886-1653591600-1653598800@marktbarclay.com
SUMMARY:Mark T. Barclay in Amarillo\, TX
DESCRIPTION:
URL:https://marktbarclay.com/event/mark-t-barclay-in-amarillo-tx/
LOCATION:Accelerate Church\, 4400 Crockett Str\, Amarillo\, 79110\, United States
CATEGORIES:Mark T. Barclay
END:VEVENT
BEGIN:VEVENT
DTSTART;TZID=America/Denver:20220525T190000
DTEND;TZID=America/Denver:20220525T210000
DTSTAMP:20260421T105014
CREATED:20220311T201439Z
LAST-MODIFIED:20220318T160038Z
UID:1873-1653505200-1653512400@marktbarclay.com
SUMMARY:Mark T. Barclay in Monte Vista\, CO
DESCRIPTION:
URL:https://marktbarclay.com/event/mark-t-barclay-in-monte-vista-co/
LOCATION:Feed Store Family Church\, 4900 E. County Rd. 2 South\, Monte Vista\, CO\, 81144\, United States
CATEGORIES:Mark T. Barclay
END:VEVENT
BEGIN:VEVENT
DTSTART;TZID=America/Los_Angeles:20220525T180000
DTEND;TZID=America/Los_Angeles:20220525T193000
DTSTAMP:20260421T105014
CREATED:20220426T185706Z
LAST-MODIFIED:20220426T185706Z
UID:1955-1653501600-1653507000@marktbarclay.com
SUMMARY:Josh M. Barclay in Pendleton\, OR
DESCRIPTION:
URL:https://marktbarclay.com/event/josh-m-barclay-in-pendleton-or/
LOCATION:Living Word Christian Center – OR\, 401 Northgate\, Pendleton\, OR\, 59357\, United States
CATEGORIES:Josh M. Barclay
END:VEVENT
BEGIN:VEVENT
DTSTART;TZID=America/Los_Angeles:20220522T180000
DTEND;TZID=America/Los_Angeles:20220522T200000
DTSTAMP:20260421T105014
CREATED:20220424T191156Z
LAST-MODIFIED:20220426T190012Z
UID:1945-1653242400-1653249600@marktbarclay.com
SUMMARY:Josh M. Barclay in Salem\, OR
DESCRIPTION:
URL:https://marktbarclay.com/event/josh-m-barclay-in-salem-or/
LOCATION:Word of Life Fellowship Church\, 4705 Portland Rd NE\, Salem\, OR\, 97305\, United States
CATEGORIES:Josh M. Barclay
END:VEVENT
BEGIN:VEVENT
DTSTART;TZID=America/Los_Angeles:20220522T110000
DTEND;TZID=America/Los_Angeles:20220522T110000
DTSTAMP:20260421T105014
CREATED:20220506T174832Z
LAST-MODIFIED:20220511T131920Z
UID:1982-1653217200-1653217200@marktbarclay.com
SUMMARY:James Randolph in North Highlands\, CA
DESCRIPTION:2 Service Times\n11am PT & 6pm PT
URL:https://marktbarclay.com/event/james-randolph-in-north-highlands-ca/
LOCATION:Family Community Church\, 6331 Watt Avenue\, North Highlands\, CA\, 95660\, United States
CATEGORIES:James Randolph
END:VEVENT
END:VCALENDAR