BEGIN:VCALENDAR
VERSION:2.0
PRODID:-//Mark T. Barclay | Preacher of Righteousness - ECPv6.15.20//NONSGML v1.0//EN
CALSCALE:GREGORIAN
METHOD:PUBLISH
X-WR-CALNAME:Mark T. Barclay | Preacher of Righteousness
X-ORIGINAL-URL:https://marktbarclay.com
X-WR-CALDESC:Events for Mark T. Barclay | Preacher of Righteousness
REFRESH-INTERVAL;VALUE=DURATION:PT1H
X-Robots-Tag:noindex
X-PUBLISHED-TTL:PT1H
BEGIN:VTIMEZONE
TZID:America/Detroit
BEGIN:DAYLIGHT
TZOFFSETFROM:-0500
TZOFFSETTO:-0400
TZNAME:EDT
DTSTART:20210314T070000
END:DAYLIGHT
BEGIN:STANDARD
TZOFFSETFROM:-0400
TZOFFSETTO:-0500
TZNAME:EST
DTSTART:20211107T060000
END:STANDARD
BEGIN:DAYLIGHT
TZOFFSETFROM:-0500
TZOFFSETTO:-0400
TZNAME:EDT
DTSTART:20220313T070000
END:DAYLIGHT
BEGIN:STANDARD
TZOFFSETFROM:-0400
TZOFFSETTO:-0500
TZNAME:EST
DTSTART:20221106T060000
END:STANDARD
BEGIN:DAYLIGHT
TZOFFSETFROM:-0500
TZOFFSETTO:-0400
TZNAME:EDT
DTSTART:20230312T070000
END:DAYLIGHT
BEGIN:STANDARD
TZOFFSETFROM:-0400
TZOFFSETTO:-0500
TZNAME:EST
DTSTART:20231105T060000
END:STANDARD
END:VTIMEZONE
BEGIN:VTIMEZONE
TZID:America/Chicago
BEGIN:DAYLIGHT
TZOFFSETFROM:-0600
TZOFFSETTO:-0500
TZNAME:CDT
DTSTART:20210314T080000
END:DAYLIGHT
BEGIN:STANDARD
TZOFFSETFROM:-0500
TZOFFSETTO:-0600
TZNAME:CST
DTSTART:20211107T070000
END:STANDARD
BEGIN:DAYLIGHT
TZOFFSETFROM:-0600
TZOFFSETTO:-0500
TZNAME:CDT
DTSTART:20220313T080000
END:DAYLIGHT
BEGIN:STANDARD
TZOFFSETFROM:-0500
TZOFFSETTO:-0600
TZNAME:CST
DTSTART:20221106T070000
END:STANDARD
BEGIN:DAYLIGHT
TZOFFSETFROM:-0600
TZOFFSETTO:-0500
TZNAME:CDT
DTSTART:20230312T080000
END:DAYLIGHT
BEGIN:STANDARD
TZOFFSETFROM:-0500
TZOFFSETTO:-0600
TZNAME:CST
DTSTART:20231105T070000
END:STANDARD
END:VTIMEZONE
BEGIN:VTIMEZONE
TZID:America/Los_Angeles
BEGIN:DAYLIGHT
TZOFFSETFROM:-0800
TZOFFSETTO:-0700
TZNAME:PDT
DTSTART:20210314T100000
END:DAYLIGHT
BEGIN:STANDARD
TZOFFSETFROM:-0700
TZOFFSETTO:-0800
TZNAME:PST
DTSTART:20211107T090000
END:STANDARD
BEGIN:DAYLIGHT
TZOFFSETFROM:-0800
TZOFFSETTO:-0700
TZNAME:PDT
DTSTART:20220313T100000
END:DAYLIGHT
BEGIN:STANDARD
TZOFFSETFROM:-0700
TZOFFSETTO:-0800
TZNAME:PST
DTSTART:20221106T090000
END:STANDARD
BEGIN:DAYLIGHT
TZOFFSETFROM:-0800
TZOFFSETTO:-0700
TZNAME:PDT
DTSTART:20230312T100000
END:DAYLIGHT
BEGIN:STANDARD
TZOFFSETFROM:-0700
TZOFFSETTO:-0800
TZNAME:PST
DTSTART:20231105T090000
END:STANDARD
END:VTIMEZONE
BEGIN:VEVENT
DTSTART;VALUE=DATE:20221009
DTEND;VALUE=DATE:20221011
DTSTAMP:20260419T142401
CREATED:20220610T132843Z
LAST-MODIFIED:20220802T151241Z
UID:2036-1665273600-1665446399@marktbarclay.com
SUMMARY:Mark T. Barclay in Radcliff\, KY
DESCRIPTION:Sunday 10am          Sunday 6pm \nand          Monday 7pm
URL:https://marktbarclay.com/event/mark-t-barclay-in-radcliff-ky/
LOCATION:Abundant Life Church\, 1511 South Dixie Blvd\, Radcliff\, KY\, 40160-1139\, United States
CATEGORIES:Mark T. Barclay
END:VEVENT
BEGIN:VEVENT
DTSTART;TZID=America/Detroit:20221002T100000
DTEND;TZID=America/Detroit:20221002T100000
DTSTAMP:20260419T142401
CREATED:20220906T200608Z
LAST-MODIFIED:20220926T173820Z
UID:2191-1664704800-1664704800@marktbarclay.com
SUMMARY:Mark T. Barclay in Palm Coast\, FL *CANCELED*
DESCRIPTION:
URL:https://marktbarclay.com/event/mark-t-barclay-in-palm-coast-fl-3/
LOCATION:New Way Church\, 293 Old Moody Blvd\, Palm Coast\, FL\, 32164\, United States
CATEGORIES:Mark T. Barclay
END:VEVENT
BEGIN:VEVENT
DTSTART;TZID=America/Detroit:20220929T190000
DTEND;TZID=America/Detroit:20220929T190000
DTSTAMP:20260419T142401
CREATED:20220909T142515Z
LAST-MODIFIED:20220909T142515Z
UID:2193-1664478000-1664478000@marktbarclay.com
SUMMARY:Rev. Alfonso Vargas in Midland\, MI
DESCRIPTION:
URL:https://marktbarclay.com/event/rev-alfonso-vargas-in-midland-mi/
LOCATION:CA
CATEGORIES:Mark T. Barclay
END:VEVENT
BEGIN:VEVENT
DTSTART;TZID=America/Chicago:20220922T190000
DTEND;TZID=America/Chicago:20220922T190000
DTSTAMP:20260419T142401
CREATED:20220920T203350Z
LAST-MODIFIED:20220920T203350Z
UID:2212-1663873200-1663873200@marktbarclay.com
SUMMARY:Mark T. Barclay in Bartlett\, IL
DESCRIPTION:
URL:https://marktbarclay.com/event/mark-t-barclay-in-bartlett-il-4/
LOCATION:Faith World Outreach Church\, 1280 S IL Route 59\, Bartlett\, IL\, 60103-3006\, United States
CATEGORIES:Mark T. Barclay
END:VEVENT
BEGIN:VEVENT
DTSTART;TZID=America/Chicago:20220918T180000
DTEND;TZID=America/Chicago:20220918T180000
DTSTAMP:20260419T142401
CREATED:20220712T225555Z
LAST-MODIFIED:20220712T225555Z
UID:2115-1663524000-1663524000@marktbarclay.com
SUMMARY:Mark T. Barclay in Neligh\, NE
DESCRIPTION:
URL:https://marktbarclay.com/event/mark-t-barclay-in-neligh-ne/
LOCATION:Abundant Life Christian Center\, 1101 L Street\, Neligh\, NE\, 68756\, United States
CATEGORIES:Mark T. Barclay
END:VEVENT
BEGIN:VEVENT
DTSTART;VALUE=DATE:20220917
DTEND;VALUE=DATE:20220919
DTSTAMP:20260419T142401
CREATED:20220809T170853Z
LAST-MODIFIED:20220809T170853Z
UID:2143-1663372800-1663545599@marktbarclay.com
SUMMARY:Mark T. Barclay in Branson West\, MO
DESCRIPTION:September 17th @ 6:30pm\nSeptember 18th @ 10am
URL:https://marktbarclay.com/event/mark-t-barclay-in-branson-west-mo/
LOCATION:Living Word Church Branson\, 50 Hope Way\, Branson West\, MO\, 65737\, United States
CATEGORIES:Mark T. Barclay
END:VEVENT
BEGIN:VEVENT
DTSTART;VALUE=DATE:20220913
DTEND;VALUE=DATE:20220917
DTSTAMP:20260419T142401
CREATED:20211108T133754Z
LAST-MODIFIED:20220901T140236Z
UID:1419-1663027200-1663372799@marktbarclay.com
SUMMARY:Mark T. Barclay's National Ministry of Helps Conference
DESCRIPTION:Tuesday\n7 P.M. \nWednesday\n10:30 A.M.\n7 P.M. \nThursday\n10:30 A.M.\n7 P.M.     **Rev. Phil Driscoll** \nFriday\n10:30 A.M.\n7 P.M.
URL:https://marktbarclay.com/event/mark-t-barclays-national-ministry-of-helps-conference/
LOCATION:CA
CATEGORIES:Mark T. Barclay
END:VEVENT
BEGIN:VEVENT
DTSTART;TZID=America/Chicago:20220911T180000
DTEND;TZID=America/Chicago:20220911T180000
DTSTAMP:20260419T142401
CREATED:20220906T180954Z
LAST-MODIFIED:20220906T180954Z
UID:2189-1662919200-1662919200@marktbarclay.com
SUMMARY:Mark T. Barclay in Bartlett\, IL
DESCRIPTION:
URL:https://marktbarclay.com/event/mark-t-barclay-in-bartlett-il-2/
LOCATION:Faith World Outreach Church\, 1280 S IL Route 59\, Bartlett\, IL\, 60103-3006\, United States
CATEGORIES:Mark T. Barclay
END:VEVENT
BEGIN:VEVENT
DTSTART;TZID=America/Detroit:20220911T100000
DTEND;TZID=America/Detroit:20220911T100000
DTSTAMP:20260419T142401
CREATED:20220525T133220Z
LAST-MODIFIED:20220525T133220Z
UID:2010-1662890400-1662890400@marktbarclay.com
SUMMARY:Mark T. Barclay in Cuyahoga Falls\, OH
DESCRIPTION:
URL:https://marktbarclay.com/event/mark-t-barclay-in-cuyahoga-falls-oh/
LOCATION:Word of His Grace Church\, 110 East Steels Corner Rd\, Cuyahoga Falls\, OH\, 44224\, United States
CATEGORIES:Mark T. Barclay
END:VEVENT
BEGIN:VEVENT
DTSTART;TZID=America/Detroit:20220825T190000
DTEND;TZID=America/Detroit:20220825T190000
DTSTAMP:20260419T142401
CREATED:20220803T151924Z
LAST-MODIFIED:20220809T165027Z
UID:2127-1661454000-1661454000@marktbarclay.com
SUMMARY:Rev. Mark Clements in Midland\, MI
DESCRIPTION:
URL:https://marktbarclay.com/event/rev-mark-clements-in-midland-mi/
LOCATION:CA
CATEGORIES:Guest Minister,Mark T. Barclay
END:VEVENT
BEGIN:VEVENT
DTSTART;VALUE=DATE:20220822
DTEND;VALUE=DATE:20220824
DTSTAMP:20260419T142401
CREATED:20220224T174129Z
LAST-MODIFIED:20220429T173456Z
UID:1812-1661126400-1661299199@marktbarclay.com
SUMMARY:Live Straight Talk for Ministers in Louisville\, KY
DESCRIPTION:By Invitation Only
URL:https://marktbarclay.com/event/live-straight-talk-for-ministers-in-louisville-ky/
LOCATION:Marriott Louisville East\, 1903 Embassy Square Blvd.\, Louisville\, KY\, 40299
CATEGORIES:Mark T. Barclay
END:VEVENT
BEGIN:VEVENT
DTSTART;TZID=America/Detroit:20220821T100000
DTEND;TZID=America/Detroit:20220821T100000
DTSTAMP:20260419T142401
CREATED:20220710T170102Z
LAST-MODIFIED:20220710T170126Z
UID:2104-1661076000-1661076000@marktbarclay.com
SUMMARY:James P. Randolph in Kalkaska\, MI
DESCRIPTION:
URL:https://marktbarclay.com/event/james-p-randolph-in-kalkaska-mi/
LOCATION:Many Rivers Church\, 2305 US-131\, Kalkaska\, MI\, 49646\, United States
CATEGORIES:James Randolph
END:VEVENT
BEGIN:VEVENT
DTSTART;VALUE=DATE:20220821
DTEND;VALUE=DATE:20220822
DTSTAMP:20260419T142401
CREATED:20220615T210010Z
LAST-MODIFIED:20220615T210111Z
UID:2046-1661040000-1661126399@marktbarclay.com
SUMMARY:Mark T. Barclay in Kissimmee\, FL
DESCRIPTION:9:30am and 11:30am\nand 6:30pm
URL:https://marktbarclay.com/event/mark-t-barclay-in-kissimmee-fl/
LOCATION:Freedom Life Church\, 1700 E Irlo Bronson Memorial Hwy\, Kissimmee\, FL\, 34744\, United States
CATEGORIES:Mark T. Barclay
END:VEVENT
BEGIN:VEVENT
DTSTART;TZID=America/Detroit:20220814T100000
DTEND;TZID=America/Detroit:20220814T100000
DTSTAMP:20260419T142401
CREATED:20220629T200310Z
LAST-MODIFIED:20220629T200310Z
UID:2101-1660471200-1660471200@marktbarclay.com
SUMMARY:Mark T. Barclay in Marion\, IN
DESCRIPTION:
URL:https://marktbarclay.com/event/mark-t-barclay-in-marion-in-2/
LOCATION:Tree of Life Church\, 2701 W 2nd St\, Marion\, IN\, 46952\, United States
CATEGORIES:Mark T. Barclay
END:VEVENT
BEGIN:VEVENT
DTSTART;VALUE=DATE:20220805
DTEND;VALUE=DATE:20220808
DTSTAMP:20260419T142401
CREATED:20220603T125649Z
LAST-MODIFIED:20220629T163141Z
UID:2026-1659657600-1659916799@marktbarclay.com
SUMMARY:Josh M. Barclay in Visalia\, CA
DESCRIPTION:Men’s Conference\nRegistration Required \nFriday\, 8/5/22 @ 7pm\nSaturday\, 8/6/22 @ 9am \nSunday Church Service\, 8/7/22 @ 10am
URL:https://marktbarclay.com/event/josh-m-barclay-in-visalia-ca-2/
LOCATION:West Coast Believers Center\, 3737 W Walnut Ave\, Visalia\, CA\, 93277\, United States
CATEGORIES:Josh M. Barclay
END:VEVENT
BEGIN:VEVENT
DTSTART;TZID=America/Detroit:20220725T190000
DTEND;TZID=America/Detroit:20220725T190000
DTSTAMP:20260419T142401
CREATED:20220506T174008Z
LAST-MODIFIED:20220506T174008Z
UID:1980-1658775600-1658775600@marktbarclay.com
SUMMARY:Mark T. Barclay in Lake Leelanau\, MI
DESCRIPTION:
URL:https://marktbarclay.com/event/mark-t-barclay-in-lake-leelanau-mi-2/
LOCATION:Leelanau Community Church\, 245 S. Lake Leelanau Dr.\, Lake Leelanau\, MI\, 49653\, United States
CATEGORIES:Mark T. Barclay
END:VEVENT
BEGIN:VEVENT
DTSTART;TZID=America/Detroit:20220720T190000
DTEND;TZID=America/Detroit:20220720T190000
DTSTAMP:20260419T142401
CREATED:20220520T143032Z
LAST-MODIFIED:20220526T181332Z
UID:2007-1658343600-1658343600@marktbarclay.com
SUMMARY:Mark T. Barclay in Durand\, MI
DESCRIPTION:
URL:https://marktbarclay.com/event/mark-t-barclay-in-owosso-mi/
LOCATION:New Creation Church of Durand\, 811 S. Oak Street\, Durand\, MI\, 48429\, United States
CATEGORIES:Mark T. Barclay
END:VEVENT
BEGIN:VEVENT
DTSTART;VALUE=DATE:20220719
DTEND;VALUE=DATE:20220723
DTSTAMP:20260419T142401
CREATED:20211006T042219Z
LAST-MODIFIED:20220710T223036Z
UID:1362-1658188800-1658534399@marktbarclay.com
SUMMARY:Invasion Conference
DESCRIPTION:YOUTH & YOUNG ADULTS CONFERENCE \nService times (ET): \nTuesday\n7:00 p.m. \nWednesday\n7:00 p.m \nThursday\n7:00 p.m. \nFriday\n7:00 p.m. \nAdditional information\, schedules\, and registration costs can be found at invasion.net.
URL:https://marktbarclay.com/event/invasion-conference-2022/
LOCATION:Living Word International\, 2010 Stark Rd.\, Midland\, MI\, 48642\, United States
CATEGORIES:Conference,Josh M. Barclay
END:VEVENT
BEGIN:VEVENT
DTSTART;TZID=America/Chicago:20220710T100000
DTEND;TZID=America/Chicago:20220710T120000
DTSTAMP:20260419T142401
CREATED:20220429T172252Z
LAST-MODIFIED:20220629T163057Z
UID:1967-1657447200-1657454400@marktbarclay.com
SUMMARY:Mark T. Barclay in Bartlett\, IL
DESCRIPTION:
URL:https://marktbarclay.com/event/mark-t-barclay-in-bartlett-il/
LOCATION:Faith World Outreach Church\, 1280 S IL Route 59\, Bartlett\, IL\, 60103-3006\, United States
CATEGORIES:Mark T. Barclay
END:VEVENT
BEGIN:VEVENT
DTSTART;TZID=America/Los_Angeles:20220710T100000
DTEND;TZID=America/Los_Angeles:20220710T120000
DTSTAMP:20260419T142401
CREATED:20220224T173521Z
LAST-MODIFIED:20220224T173521Z
UID:1810-1657447200-1657454400@marktbarclay.com
SUMMARY:James P. Randolph in Visalia\, CA
DESCRIPTION:
URL:https://marktbarclay.com/event/james-p-randolph-in-visalia-ca/
LOCATION:West Coast Believers Center\, 3737 W Walnut Ave\, Visalia\, CA\, 93277\, United States
CATEGORIES:James Randolph
END:VEVENT
BEGIN:VEVENT
DTSTART;TZID=America/Chicago:20220709T090000
DTEND;TZID=America/Chicago:20220709T120000
DTSTAMP:20260419T142401
CREATED:20220429T172034Z
LAST-MODIFIED:20220629T163027Z
UID:1963-1657357200-1657368000@marktbarclay.com
SUMMARY:Vickie Barclay in Bartlett\, IL
DESCRIPTION:
URL:https://marktbarclay.com/event/vickie-barclay-in-bartlett-il/
LOCATION:Faith World Outreach Church\, 1280 S IL Route 59\, Bartlett\, IL\, 60103-3006\, United States
CATEGORIES:Vickie Barclay
END:VEVENT
BEGIN:VEVENT
DTSTART;VALUE=DATE:20220707
DTEND;VALUE=DATE:20220710
DTSTAMP:20260419T142401
CREATED:20220224T173151Z
LAST-MODIFIED:20220629T162940Z
UID:1808-1657152000-1657411199@marktbarclay.com
SUMMARY:Dawn M. Randolph in Visalia\, CA
DESCRIPTION:July 7 @ 7pm\, July 8 @ 7pm and July 9 @ 9am \n$35 pre-registered\, $40 at the door
URL:https://marktbarclay.com/event/dawn-m-randolph-in-visalia-ca/
LOCATION:West Coast Believers Center\, 3737 W Walnut Ave\, Visalia\, CA\, 93277\, United States
CATEGORIES:Dawn Randolph
END:VEVENT
BEGIN:VEVENT
DTSTART;TZID=America/Detroit:20220703T090000
DTEND;TZID=America/Detroit:20220703T090000
DTSTAMP:20260419T142401
CREATED:20220510T203837Z
LAST-MODIFIED:20220510T203837Z
UID:1986-1656838800-1656838800@marktbarclay.com
SUMMARY:James Randolph in Oviedo\, FL
DESCRIPTION:Service Times 9:00am and 10:30am
URL:https://marktbarclay.com/event/james-randolph-in-oviedo-fl/
LOCATION:Faith Outreach Church\, 731 Windermere Dr\, Clarksville\, TN\, 37043-8415
CATEGORIES:James Randolph
END:VEVENT
BEGIN:VEVENT
DTSTART;TZID=America/Detroit:20220630T190000
DTEND;TZID=America/Detroit:20220630T190000
DTSTAMP:20260419T142401
CREATED:20220520T141613Z
LAST-MODIFIED:20220520T141613Z
UID:2005-1656615600-1656615600@marktbarclay.com
SUMMARY:Rev. Jim Crabb in Midland\, MI
DESCRIPTION:
URL:https://marktbarclay.com/event/rev-jim-crabb-in-midland-mi/
LOCATION:CA
CATEGORIES:Mark T. Barclay
END:VEVENT
BEGIN:VEVENT
DTSTART;VALUE=DATE:20220621
DTEND;VALUE=DATE:20220625
DTSTAMP:20260419T142401
CREATED:20211006T041851Z
LAST-MODIFIED:20220616T212629Z
UID:1357-1655769600-1656115199@marktbarclay.com
SUMMARY:Palm Coast Holy Spirit Conference
DESCRIPTION:Join us for a powerful time in the Holy Spirit with an outpouring which is sure to change lives! \n			\n			\n				\n				\n				\n				\n			\n				\n				\n				\n				\n				\n				\n				\n				\n				\n				\n				Service Times\n(all times ET): \nTuesday7:00 p.m. \nWednesday10:30 a.m.7:00 p.m. \nThursday10:30 a.m.7:00 p.m. \nFriday10:30 a.m.7:00 p.m. \nChildcare provided for evening services. \n			\n			\n				\n				\n				\n				\n				\n				\n				\n				\n				\n				Location\nNew Way Church293 Old Moody Blvd Palm Coast\, FL 32164 \n			\n				Get Directions\n			\n				\n				\n				\n				\n				\n				\n				New Way Church\n				\n			\n			\n			\n				\n				\n				\n				\n				\n				\n				\n				\n				\n				Ministers\nWe love ministers! If you plan to attend any of these meetings\, please allow us to save a seat for you and care for you properly by registering in advance. \n			\n				Ministers' Registration\n			\n				\n				\n				\n				\n				Promotional Resources\nWe are expecting a powerful move of God at this conference. Please partner with us to spread the word so that many will come and receive from the Lord! We’ve provided resources at the link below including printable flyers and handouts as well as a video and graphics to use in your church services. \n			\n				View Resources
URL:https://marktbarclay.com/event/palm-coast-holy-spirit-conference-2022/
LOCATION:New Way Church\, 293 Old Moody Blvd\, Palm Coast\, FL\, 32164\, United States
CATEGORIES:Conference,Mark T. Barclay
END:VEVENT
BEGIN:VEVENT
DTSTART;TZID=America/Detroit:20220619T183000
DTEND;TZID=America/Detroit:20220619T203000
DTSTAMP:20260419T142401
CREATED:20220308T161908Z
LAST-MODIFIED:20220308T161908Z
UID:1855-1655663400-1655670600@marktbarclay.com
SUMMARY:Mark T. Barclay in Oviedo\, FL
DESCRIPTION:
URL:https://marktbarclay.com/event/mark-t-barclay-in-oviedo-fl/
LOCATION:Faith Outreach Church\, 731 Windermere Dr\, Clarksville\, TN\, 37043-8415
CATEGORIES:Mark T. Barclay
END:VEVENT
BEGIN:VEVENT
DTSTART;TZID=America/Detroit:20220619T100000
DTEND;TZID=America/Detroit:20220619T120000
DTSTAMP:20260419T142401
CREATED:20211006T041021Z
LAST-MODIFIED:20211006T041043Z
UID:1351-1655632800-1655640000@marktbarclay.com
SUMMARY:James & Dawn Randolph in Clarksville\, IN
DESCRIPTION:
URL:https://marktbarclay.com/event/james-dawn-randolph-in-clarksville-in-2022/
LOCATION:Resurrection Life Church\, 2804 Blackiston Mill Rd.\, Clarksville\, IN\, 47129\, United States
CATEGORIES:Dawn Randolph,James Randolph
END:VEVENT
BEGIN:VEVENT
DTSTART;TZID=America/Detroit:20220619T100000
DTEND;TZID=America/Detroit:20220619T120000
DTSTAMP:20260419T142401
CREATED:20220308T161249Z
LAST-MODIFIED:20220308T161249Z
UID:1848-1655632800-1655640000@marktbarclay.com
SUMMARY:Mark T. Barclay in Ft. Myers\, FL
DESCRIPTION:
URL:https://marktbarclay.com/event/mark-t-barclay-in-ft-myers-fl/
LOCATION:Life Church\, 11735 Plantation Rd.\, Fort Myers\, FL\, 33966\, United States
CATEGORIES:Mark T. Barclay
END:VEVENT
BEGIN:VEVENT
DTSTART;TZID=America/Detroit:20220619T100000
DTEND;TZID=America/Detroit:20220619T120000
DTSTAMP:20260419T142401
CREATED:20211006T041021Z
LAST-MODIFIED:20211006T041043Z
UID:1351-1655632800-1655640000@marktbarclay.com
SUMMARY:James & Dawn Randolph in Clarksville\, IN
DESCRIPTION:
URL:https://marktbarclay.com/event/james-dawn-randolph-in-clarksville-in-2022/
LOCATION:Resurrection Life Church\, 2804 Blackiston Mill Rd.\, Clarksville\, IN\, 47129\, United States
CATEGORIES:Dawn Randolph,James Randolph
END:VEVENT
BEGIN:VEVENT
DTSTART;TZID=America/Detroit:20220618T180000
DTEND;TZID=America/Detroit:20220618T193000
DTSTAMP:20260419T142401
CREATED:20220615T132840Z
LAST-MODIFIED:20220615T132840Z
UID:2040-1655575200-1655580600@marktbarclay.com
SUMMARY:Mark T. Barclay in Naples\, FL
DESCRIPTION:
URL:https://marktbarclay.com/event/mark-t-barclay-in-naples-fl/
LOCATION:Faith Life Worship Center\, 1074 10th Str N\, Naples\, FL\, 34102\, United States
CATEGORIES:Mark T. Barclay
END:VEVENT
END:VCALENDAR