BEGIN:VCALENDAR
VERSION:2.0
PRODID:-//Mark T. Barclay | Preacher of Righteousness - ECPv6.15.20//NONSGML v1.0//EN
CALSCALE:GREGORIAN
METHOD:PUBLISH
X-WR-CALNAME:Mark T. Barclay | Preacher of Righteousness
X-ORIGINAL-URL:https://marktbarclay.com
X-WR-CALDESC:Events for Mark T. Barclay | Preacher of Righteousness
REFRESH-INTERVAL;VALUE=DURATION:PT1H
X-Robots-Tag:noindex
X-PUBLISHED-TTL:PT1H
BEGIN:VTIMEZONE
TZID:America/Chicago
BEGIN:DAYLIGHT
TZOFFSETFROM:-0600
TZOFFSETTO:-0500
TZNAME:CDT
DTSTART:20210314T080000
END:DAYLIGHT
BEGIN:STANDARD
TZOFFSETFROM:-0500
TZOFFSETTO:-0600
TZNAME:CST
DTSTART:20211107T070000
END:STANDARD
BEGIN:DAYLIGHT
TZOFFSETFROM:-0600
TZOFFSETTO:-0500
TZNAME:CDT
DTSTART:20220313T080000
END:DAYLIGHT
BEGIN:STANDARD
TZOFFSETFROM:-0500
TZOFFSETTO:-0600
TZNAME:CST
DTSTART:20221106T070000
END:STANDARD
BEGIN:DAYLIGHT
TZOFFSETFROM:-0600
TZOFFSETTO:-0500
TZNAME:CDT
DTSTART:20230312T080000
END:DAYLIGHT
BEGIN:STANDARD
TZOFFSETFROM:-0500
TZOFFSETTO:-0600
TZNAME:CST
DTSTART:20231105T070000
END:STANDARD
END:VTIMEZONE
BEGIN:VTIMEZONE
TZID:America/Detroit
BEGIN:DAYLIGHT
TZOFFSETFROM:-0500
TZOFFSETTO:-0400
TZNAME:EDT
DTSTART:20210314T070000
END:DAYLIGHT
BEGIN:STANDARD
TZOFFSETFROM:-0400
TZOFFSETTO:-0500
TZNAME:EST
DTSTART:20211107T060000
END:STANDARD
BEGIN:DAYLIGHT
TZOFFSETFROM:-0500
TZOFFSETTO:-0400
TZNAME:EDT
DTSTART:20220313T070000
END:DAYLIGHT
BEGIN:STANDARD
TZOFFSETFROM:-0400
TZOFFSETTO:-0500
TZNAME:EST
DTSTART:20221106T060000
END:STANDARD
BEGIN:DAYLIGHT
TZOFFSETFROM:-0500
TZOFFSETTO:-0400
TZNAME:EDT
DTSTART:20230312T070000
END:DAYLIGHT
BEGIN:STANDARD
TZOFFSETFROM:-0400
TZOFFSETTO:-0500
TZNAME:EST
DTSTART:20231105T060000
END:STANDARD
END:VTIMEZONE
BEGIN:VEVENT
DTSTART;TZID=America/Chicago:20220504T190000
DTEND;TZID=America/Chicago:20220504T190000
DTSTAMP:20260421T201752
CREATED:20220217T140509Z
LAST-MODIFIED:20220224T172810Z
UID:1784-1651690800-1651690800@marktbarclay.com
SUMMARY:James P. Randolph in Amarillo\, TX
DESCRIPTION:
URL:https://marktbarclay.com/event/james-p-randolph-in-amarillo-tx/
LOCATION:Accelerate Church\, 4400 Crockett Str\, Amarillo\, 79110\, United States
CATEGORIES:James Randolph
END:VEVENT
BEGIN:VEVENT
DTSTART;TZID=America/Detroit:20220501T193000
DTEND;TZID=America/Detroit:20220501T213000
DTSTAMP:20260421T201752
CREATED:20220301T212630Z
LAST-MODIFIED:20220328T165404Z
UID:1844-1651433400-1651440600@marktbarclay.com
SUMMARY:Mark T. Barclay in Lebanon\, OH
DESCRIPTION:
URL:https://marktbarclay.com/event/mark-t-barclay-in-lebanon-oh/
LOCATION:Solid Rock Church\, 903 Union Rd.\, Lebanon\, OH\, 45036\, United States
CATEGORIES:Mark T. Barclay
END:VEVENT
BEGIN:VEVENT
DTSTART;TZID=America/Detroit:20220501T100000
DTEND;TZID=America/Detroit:20220501T110000
DTSTAMP:20260421T201752
CREATED:20220228T191012Z
LAST-MODIFIED:20220228T191012Z
UID:1822-1651399200-1651402800@marktbarclay.com
SUMMARY:Mark T. Barclay in Greendale\, IN
DESCRIPTION:
URL:https://marktbarclay.com/event/mark-t-barclay-in-greendale-in/
LOCATION:Grace Church of the Valley\, 1709 Nowlin Ave.\, Greendale\, IN\, 47025\, United States
CATEGORIES:Mark T. Barclay
END:VEVENT
BEGIN:VEVENT
DTSTART;TZID=America/Detroit:20220430T113000
DTEND;TZID=America/Detroit:20220430T123000
DTSTAMP:20260421T201752
CREATED:20220317T184047Z
LAST-MODIFIED:20220429T164413Z
UID:1884-1651318200-1651321800@marktbarclay.com
SUMMARY:Mark T. Barclay in Muskegon\, MI
DESCRIPTION:Men’s Meeting
URL:https://marktbarclay.com/event/mark-t-barclay-in-muskegon-mi-3/
LOCATION:Living Word Muskegon\, 1551 Wood St.\, Muskegon\, MI\, 49442\, United States
CATEGORIES:Mark T. Barclay
END:VEVENT
BEGIN:VEVENT
DTSTART;TZID=America/Detroit:20220429T190000
DTEND;TZID=America/Detroit:20220429T210000
DTSTAMP:20260421T201752
CREATED:20220228T190510Z
LAST-MODIFIED:20220228T190510Z
UID:1819-1651258800-1651266000@marktbarclay.com
SUMMARY:Mark T. Barclay in Macomb\, MI
DESCRIPTION:
URL:https://marktbarclay.com/event/mark-t-barclay-in-macomb-mi/
LOCATION:Christian Life Church\, 24877 21 Mile Rd\, Macomb\, MI\, 48042\, United States
CATEGORIES:Mark T. Barclay
END:VEVENT
BEGIN:VEVENT
DTSTART;TZID=America/Detroit:20220413T070000
DTEND;TZID=America/Detroit:20220413T210000
DTSTAMP:20260421T201752
CREATED:20220128T155048Z
LAST-MODIFIED:20220128T155048Z
UID:1764-1649833200-1649883600@marktbarclay.com
SUMMARY:Mark T. Barclay in Holt\, MI
DESCRIPTION:
URL:https://marktbarclay.com/event/mark-t-barclay-in-holt-mi/
LOCATION:Community Faith Church\, 4801 E. Willoughby Rd.\, Holt\, MI\, 48842\, United States
END:VEVENT
BEGIN:VEVENT
DTSTART;TZID=America/Detroit:20220411T190000
DTEND;TZID=America/Detroit:20220411T210000
DTSTAMP:20260421T201752
CREATED:20220128T154725Z
LAST-MODIFIED:20220128T154725Z
UID:1762-1649703600-1649710800@marktbarclay.com
SUMMARY:Mark T. Barclay in Gardner\, MA
DESCRIPTION:
URL:https://marktbarclay.com/event/mark-t-barclay-in-gardner-ma/
LOCATION:Higher Ground Ministries\, 186 Central St\, Gardner\, MA\, 01440\, United States
CATEGORIES:Mark T. Barclay
END:VEVENT
BEGIN:VEVENT
DTSTART;TZID=America/Detroit:20220410T190000
DTEND;TZID=America/Detroit:20220410T210000
DTSTAMP:20260421T201752
CREATED:20220128T154334Z
LAST-MODIFIED:20220128T154334Z
UID:1759-1649617200-1649624400@marktbarclay.com
SUMMARY:Mark T. Barclay in Batavia\, NY
DESCRIPTION:
URL:https://marktbarclay.com/event/mark-t-barclay-in-batavia-ny/
LOCATION:EverPresent Church\, 4 Batavia City Ctr.\, Batavia\, NY\, 14020\, United States
CATEGORIES:Mark T. Barclay
END:VEVENT
BEGIN:VEVENT
DTSTART;TZID=America/Detroit:20220410T080000
DTEND;TZID=America/Detroit:20220410T120000
DTSTAMP:20260421T201752
CREATED:20220128T153458Z
LAST-MODIFIED:20220128T153458Z
UID:1757-1649577600-1649592000@marktbarclay.com
SUMMARY:Mark T. Barclay in New Castle\, DE
DESCRIPTION:
URL:https://marktbarclay.com/event/mark-t-barclay-in-new-castle-de-2/
LOCATION:Seeds of Greatness Church\, 828 Frenchtown Rd\, New Castle\, DE\, 19720\, United States
CATEGORIES:Mark T. Barclay
END:VEVENT
BEGIN:VEVENT
DTSTART;TZID=America/Detroit:20220403T190000
DTEND;TZID=America/Detroit:20220403T210000
DTSTAMP:20260421T201752
CREATED:20220221T212134Z
LAST-MODIFIED:20220321T195238Z
UID:1804-1649012400-1649019600@marktbarclay.com
SUMMARY:Canceled: James P. Randolph in Stockbridge\, GA
DESCRIPTION:
URL:https://marktbarclay.com/event/james-p-randolph-in-stockbridge-ga/
LOCATION:The Life Church\, 747 Davis Rd\, Ste 700\, Stockbridge\, GA\, 30281\, United States
CATEGORIES:James Randolph
END:VEVENT
BEGIN:VEVENT
DTSTART;TZID=America/Detroit:20220403T090000
DTEND;TZID=America/Detroit:20220403T110000
DTSTAMP:20260421T201752
CREATED:20220221T211524Z
LAST-MODIFIED:20220221T211524Z
UID:1801-1648976400-1648983600@marktbarclay.com
SUMMARY:James P. Randolph in Phenix City\, AL
DESCRIPTION:
URL:https://marktbarclay.com/event/james-p-randolph-in-phenix-city-al/
LOCATION:Oasis Church International\, 800 Highway 431 South\, Phenix City\, AL\, 31709\, United States
CATEGORIES:James Randolph
END:VEVENT
BEGIN:VEVENT
DTSTART;TZID=America/Chicago:20220330T190000
DTEND;TZID=America/Chicago:20220330T210000
DTSTAMP:20260421T201752
CREATED:20220414T162831Z
LAST-MODIFIED:20220414T162831Z
UID:1925-1648666800-1648674000@marktbarclay.com
SUMMARY:Cancelled: Mark T. Barclay in La Crosse\, WI
DESCRIPTION:
URL:https://marktbarclay.com/event/cancelled-mark-t-barclay-in-la-crosse-wi/
LOCATION:Living Word Christian Church  – WI\, 2015 Ward Avenue\, La Crosse\, WI\, 54601
CATEGORIES:Mark T. Barclay
END:VEVENT
BEGIN:VEVENT
DTSTART;TZID=America/Detroit:20220327T180000
DTEND;TZID=America/Detroit:20220327T200000
DTSTAMP:20260421T201752
CREATED:20220311T154248Z
LAST-MODIFIED:20220311T154248Z
UID:1870-1648404000-1648411200@marktbarclay.com
SUMMARY:James P. Randolph in Central City\, KY
DESCRIPTION:
URL:https://marktbarclay.com/event/james-p-randolph-in-central-city-ky/
LOCATION:Home Clarity Church\, 115 South 2nd St.\, Central City\, KY\, 42330\, United States
CATEGORIES:James Randolph
END:VEVENT
BEGIN:VEVENT
DTSTART;TZID=America/Detroit:20220327T180000
DTEND;TZID=America/Detroit:20220327T200000
DTSTAMP:20260421T201752
CREATED:20211215T153953Z
LAST-MODIFIED:20211215T153953Z
UID:1626-1648404000-1648411200@marktbarclay.com
SUMMARY:Mark T. Barclay in Marietta\, GA
DESCRIPTION:
URL:https://marktbarclay.com/event/mark-t-barclay-in-marietta-ga/
LOCATION:Hope Worship Center\, 2958 Powder Springs Rd.\, Marietta\, GA\, 30064\, United States
END:VEVENT
BEGIN:VEVENT
DTSTART;TZID=America/Detroit:20220327T103000
DTEND;TZID=America/Detroit:20220327T123000
DTSTAMP:20260421T201752
CREATED:20211215T153422Z
LAST-MODIFIED:20220321T193511Z
UID:1623-1648377000-1648384200@marktbarclay.com
SUMMARY:Mark T. Barclay in Stockbridge\, GA
DESCRIPTION:
URL:https://marktbarclay.com/event/mark-t-barclay-in-stockbridge-ga/
LOCATION:The Life Church\, 747 Davis Rd\, Ste 700\, Stockbridge\, GA\, 30281\, United States
CATEGORIES:Mark T. Barclay
END:VEVENT
BEGIN:VEVENT
DTSTART;TZID=America/Detroit:20220327T090000
DTEND;TZID=America/Detroit:20220327T130000
DTSTAMP:20260421T201752
CREATED:20220308T165646Z
LAST-MODIFIED:20220308T165646Z
UID:1858-1648371600-1648386000@marktbarclay.com
SUMMARY:James P. Randolph in Radcliff\, KY
DESCRIPTION:Service times: 9 a.m. & 11 a.m.
URL:https://marktbarclay.com/event/james-p-randolph-in-radcliff-ky/
LOCATION:Abundant Life Church\, 1511 South Dixie Blvd\, Radcliff\, KY\, 40160-1139\, United States
CATEGORIES:James Randolph
END:VEVENT
BEGIN:VEVENT
DTSTART;TZID=America/Detroit:20220326T190000
DTEND;TZID=America/Detroit:20220326T210000
DTSTAMP:20260421T201752
CREATED:20211215T151604Z
LAST-MODIFIED:20220321T193126Z
UID:1620-1648321200-1648328400@marktbarclay.com
SUMMARY:Mark T. Barclay in Cordova\, AL
DESCRIPTION:
URL:https://marktbarclay.com/event/mark-t-barclay-in-cordova-al/
LOCATION:Gathering Church\, 8090 Highway 78\, Cordova\, AL\, 35550\, United States
CATEGORIES:Mark T. Barclay
END:VEVENT
BEGIN:VEVENT
DTSTART;TZID=America/Detroit:20220323T180000
DTEND;TZID=America/Detroit:20220323T200000
DTSTAMP:20260421T201752
CREATED:20220209T175848Z
LAST-MODIFIED:20220209T175848Z
UID:1776-1648058400-1648065600@marktbarclay.com
SUMMARY:Mark T. Barclay in Sault Ste. Marie\, MI
DESCRIPTION:
URL:https://marktbarclay.com/event/mark-t-barclay-in-sault-ste-marie-mi-2/
LOCATION:Soo Christian Fellowship Church\, 2920 Ashmun Street\, Sault St. Marie\, MI\, 49783\, United States
CATEGORIES:Mark T. Barclay
END:VEVENT
BEGIN:VEVENT
DTSTART;VALUE=DATE:20220320
DTEND;VALUE=DATE:20220322
DTSTAMP:20260421T201752
CREATED:20220128T153240Z
LAST-MODIFIED:20220314T143828Z
UID:1754-1647734400-1647907199@marktbarclay.com
SUMMARY:Mark T. Barclay in Indianapolis\, IN
DESCRIPTION:Service times:  Sunday 10:00 a.m. & 6:00 p.m.  |   Monday 7:00 p.m. \n  \n  \n 
URL:https://marktbarclay.com/event/mark-t-barclay-in-indianapolis-in/
LOCATION:The Father’s House\, 1551 South Franklin Rd.\, Indianapolis\, IN\, 46239\, United States
CATEGORIES:Mark T. Barclay
END:VEVENT
BEGIN:VEVENT
DTSTART;TZID=America/Detroit:20220313T100000
DTEND;TZID=America/Detroit:20220313T120000
DTSTAMP:20260421T201752
CREATED:20211124T183712Z
LAST-MODIFIED:20211208T214621Z
UID:1543-1647165600-1647172800@marktbarclay.com
SUMMARY:Canceled: Mark T. Barclay in Elkhorn\, WI
DESCRIPTION:
URL:https://marktbarclay.com/event/mark-t-barclay-in-elkhorn-wi/
LOCATION:Christian Life Church\, 24877 21 Mile Rd\, Macomb\, MI\, 48042\, United States
CATEGORIES:Mark T. Barclay
END:VEVENT
BEGIN:VEVENT
DTSTART;VALUE=DATE:20220313
DTEND;VALUE=DATE:20220314
DTSTAMP:20260421T201752
CREATED:20220217T140220Z
LAST-MODIFIED:20220217T140220Z
UID:1782-1647129600-1647215999@marktbarclay.com
SUMMARY:James P. Randolph in Eaton\, OH
DESCRIPTION:
URL:https://marktbarclay.com/event/james-p-randolph-in-eaton-oh/
LOCATION:Covenant of Peace Church\, 4745 US 127 North\, Eaton\, OH\, 45320\, United States
CATEGORIES:James Randolph
END:VEVENT
BEGIN:VEVENT
DTSTART;VALUE=DATE:20220310
DTEND;VALUE=DATE:20220313
DTSTAMP:20260421T201752
CREATED:20211124T183109Z
LAST-MODIFIED:20220128T170343Z
UID:1539-1646870400-1647129599@marktbarclay.com
SUMMARY:Mark T. Barclay in Lake Geneva\, WI
DESCRIPTION:2022 Men of the Word Conference \nThursday  7:00 PM \nFriday  10 AM & 7 PM \nSaturday  10:00 AM \n  \n 
URL:https://marktbarclay.com/event/mark-t-barclay-in-lake-geneva-wi/
LOCATION:Grand Geneva Resort\, 7036 Grand Geneva Way\, Lake Geneva\, WI\, 53147\, United States
CATEGORIES:Mark T. Barclay
END:VEVENT
BEGIN:VEVENT
DTSTART;TZID=America/Detroit:20220309T190000
DTEND;TZID=America/Detroit:20220309T210000
DTSTAMP:20260421T201752
CREATED:20220106T191103Z
LAST-MODIFIED:20220106T191103Z
UID:1653-1646852400-1646859600@marktbarclay.com
SUMMARY:Mark T. Barclay in Muskegon\, MI
DESCRIPTION:
URL:https://marktbarclay.com/event/mark-t-barclay-in-muskegon-mi-2/
LOCATION:Living Word Muskegon\, 1551 Wood St.\, Muskegon\, MI\, 49442\, United States
CATEGORIES:Mark T. Barclay
END:VEVENT
BEGIN:VEVENT
DTSTART;VALUE=DATE:20220307
DTEND;VALUE=DATE:20220309
DTSTAMP:20260421T201752
CREATED:20220128T152525Z
LAST-MODIFIED:20220128T152525Z
UID:1752-1646611200-1646783999@marktbarclay.com
SUMMARY:Mark T. Barclay in Palm Coast\, FL
DESCRIPTION:
URL:https://marktbarclay.com/event/mark-t-barclay-in-palm-coast-fl-2/
LOCATION:New Way Church\, 293 Old Moody Blvd\, Palm Coast\, FL\, 32164\, United States
CATEGORIES:Mark T. Barclay
END:VEVENT
BEGIN:VEVENT
DTSTART;TZID=America/Detroit:20220306T183000
DTEND;TZID=America/Detroit:20220306T203000
DTSTAMP:20260421T201752
CREATED:20211215T150846Z
LAST-MODIFIED:20220306T215104Z
UID:1617-1646591400-1646598600@marktbarclay.com
SUMMARY:Mark T. Barclay in Apopka\, FL
DESCRIPTION:
URL:https://marktbarclay.com/event/mark-t-barclay-in-apopka-fl/
LOCATION:Victory Church World Outreach Center\, 509 South Park Avenue\, Apopka\, FL\, 32703\, United States
CATEGORIES:Mark T. Barclay
END:VEVENT
BEGIN:VEVENT
DTSTART;TZID=America/Detroit:20220306T100000
DTEND;TZID=America/Detroit:20220306T120000
DTSTAMP:20260421T201752
CREATED:20220214T135702Z
LAST-MODIFIED:20220214T135702Z
UID:1778-1646560800-1646568000@marktbarclay.com
SUMMARY:Rev. David Flores at Living Word Church
DESCRIPTION:
URL:https://marktbarclay.com/event/rev-david-flores-at-living-word-church/
LOCATION:CA
CATEGORIES:Mark T. Barclay
END:VEVENT
BEGIN:VEVENT
DTSTART;TZID=America/Detroit:20220306T100000
DTEND;TZID=America/Detroit:20220306T120000
DTSTAMP:20260421T201752
CREATED:20211215T150046Z
LAST-MODIFIED:20211215T150046Z
UID:1613-1646560800-1646568000@marktbarclay.com
SUMMARY:Mark T. Barclay in Palm Coast\, FL
DESCRIPTION:
URL:https://marktbarclay.com/event/mark-t-barclay-in-palm-coast-fl/
LOCATION:New Way Church\, 293 Old Moody Blvd\, Palm Coast\, FL\, 32164\, United States
CATEGORIES:Mark T. Barclay
END:VEVENT
BEGIN:VEVENT
DTSTART;VALUE=DATE:20220301
DTEND;VALUE=DATE:20220305
DTSTAMP:20260421T201752
CREATED:20211006T040325Z
LAST-MODIFIED:20211006T040325Z
UID:1345-1646092800-1646438399@marktbarclay.com
SUMMARY:National Holy Spirit Conference
DESCRIPTION:Join us for a powerful time in the Holy Spirit as we charge into the year with an outpouring which is sure to change lives! \nService times (ET): \nTuesday\n7:00 p.m. \nWednesday\n10:30 a.m.\n7:00 p.m. \nThursday\n10:30 a.m.\n7:00 p.m. \nFriday\n10:30 a.m.\n7:00 p.m.
URL:https://marktbarclay.com/event/national-holy-spirit-conference-2022/
LOCATION:Living Word International\, 2010 Stark Rd.\, Midland\, MI\, 48642\, United States
CATEGORIES:Conference,Mark T. Barclay
END:VEVENT
BEGIN:VEVENT
DTSTART;TZID=America/Chicago:20220226T170000
DTEND;TZID=America/Chicago:20220226T183000
DTSTAMP:20260421T201752
CREATED:20211006T040051Z
LAST-MODIFIED:20211216T194459Z
UID:1342-1645894800-1645900200@marktbarclay.com
SUMMARY:Mark T. Barclay in Brooklyn Park\, MN
DESCRIPTION:
URL:https://marktbarclay.com/event/mark-t-barclay-in-brooklyn-park-mn/
LOCATION:Living Word Christian Center – MN\, 9201 75th Ave N\, Brooklyn Park\, MN\, 55428
CATEGORIES:Mark T. Barclay
END:VEVENT
BEGIN:VEVENT
DTSTART;TZID=America/Chicago:20220226T170000
DTEND;TZID=America/Chicago:20220226T183000
DTSTAMP:20260421T201752
CREATED:20211006T040051Z
LAST-MODIFIED:20211216T194459Z
UID:1342-1645894800-1645900200@marktbarclay.com
SUMMARY:Mark T. Barclay in Brooklyn Park\, MN
DESCRIPTION:
URL:https://marktbarclay.com/event/mark-t-barclay-in-brooklyn-park-mn/
LOCATION:Living Word Christian Center – MN\, 9201 75th Ave N\, Brooklyn Park\, MN\, 55428
CATEGORIES:Mark T. Barclay
END:VEVENT
END:VCALENDAR