BEGIN:VCALENDAR
VERSION:2.0
PRODID:-//Mark T. Barclay | Preacher of Righteousness - ECPv6.15.20//NONSGML v1.0//EN
CALSCALE:GREGORIAN
METHOD:PUBLISH
X-WR-CALNAME:Mark T. Barclay | Preacher of Righteousness
X-ORIGINAL-URL:https://marktbarclay.com
X-WR-CALDESC:Events for Mark T. Barclay | Preacher of Righteousness
REFRESH-INTERVAL;VALUE=DURATION:PT1H
X-Robots-Tag:noindex
X-PUBLISHED-TTL:PT1H
BEGIN:VTIMEZONE
TZID:America/Detroit
BEGIN:DAYLIGHT
TZOFFSETFROM:-0500
TZOFFSETTO:-0400
TZNAME:EDT
DTSTART:20240310T070000
END:DAYLIGHT
BEGIN:STANDARD
TZOFFSETFROM:-0400
TZOFFSETTO:-0500
TZNAME:EST
DTSTART:20241103T060000
END:STANDARD
BEGIN:DAYLIGHT
TZOFFSETFROM:-0500
TZOFFSETTO:-0400
TZNAME:EDT
DTSTART:20250309T070000
END:DAYLIGHT
BEGIN:STANDARD
TZOFFSETFROM:-0400
TZOFFSETTO:-0500
TZNAME:EST
DTSTART:20251102T060000
END:STANDARD
BEGIN:DAYLIGHT
TZOFFSETFROM:-0500
TZOFFSETTO:-0400
TZNAME:EDT
DTSTART:20260308T070000
END:DAYLIGHT
BEGIN:STANDARD
TZOFFSETFROM:-0400
TZOFFSETTO:-0500
TZNAME:EST
DTSTART:20261101T060000
END:STANDARD
END:VTIMEZONE
BEGIN:VTIMEZONE
TZID:America/Chicago
BEGIN:DAYLIGHT
TZOFFSETFROM:-0600
TZOFFSETTO:-0500
TZNAME:CDT
DTSTART:20240310T080000
END:DAYLIGHT
BEGIN:STANDARD
TZOFFSETFROM:-0500
TZOFFSETTO:-0600
TZNAME:CST
DTSTART:20241103T070000
END:STANDARD
BEGIN:DAYLIGHT
TZOFFSETFROM:-0600
TZOFFSETTO:-0500
TZNAME:CDT
DTSTART:20250309T080000
END:DAYLIGHT
BEGIN:STANDARD
TZOFFSETFROM:-0500
TZOFFSETTO:-0600
TZNAME:CST
DTSTART:20251102T070000
END:STANDARD
BEGIN:DAYLIGHT
TZOFFSETFROM:-0600
TZOFFSETTO:-0500
TZNAME:CDT
DTSTART:20260308T080000
END:DAYLIGHT
BEGIN:STANDARD
TZOFFSETFROM:-0500
TZOFFSETTO:-0600
TZNAME:CST
DTSTART:20261101T070000
END:STANDARD
BEGIN:DAYLIGHT
TZOFFSETFROM:-0600
TZOFFSETTO:-0500
TZNAME:CDT
DTSTART:20270314T080000
END:DAYLIGHT
BEGIN:STANDARD
TZOFFSETFROM:-0500
TZOFFSETTO:-0600
TZNAME:CST
DTSTART:20271107T070000
END:STANDARD
END:VTIMEZONE
BEGIN:VEVENT
DTSTART;TZID=America/Detroit:20251005T100000
DTEND;TZID=America/Detroit:20251005T120000
DTSTAMP:20260421T144808
CREATED:20250609T154537Z
LAST-MODIFIED:20250609T154537Z
UID:17198-1759658400-1759665600@marktbarclay.com
SUMMARY:Rev. John George in Midland\, MI
DESCRIPTION:
URL:https://marktbarclay.com/event/rev-john-george-in-midland-mi-5/
LOCATION:Living Word International\, 2010 Stark Rd.\, Midland\, MI\, 48642\, United States
CATEGORIES:Guest Minister
END:VEVENT
BEGIN:VEVENT
DTSTART;TZID=America/Detroit:20251008T190000
DTEND;TZID=America/Detroit:20251008T210000
DTSTAMP:20260421T144808
CREATED:20250604T180038Z
LAST-MODIFIED:20250604T180038Z
UID:17189-1759950000-1759957200@marktbarclay.com
SUMMARY:Mark T. Barclay in Chesterfield\, MI
DESCRIPTION:
URL:https://marktbarclay.com/event/mark-t-barclay-in-chesterfield-mi-6/
LOCATION:Faith Christian Center\, 46000 N Gratiot Ave\, Chesterfield\, MI\, 48051\, United States
CATEGORIES:Mark T. Barclay
END:VEVENT
BEGIN:VEVENT
DTSTART;TZID=America/Chicago:20251012T100000
DTEND;TZID=America/Chicago:20251012T120000
DTSTAMP:20260421T144808
CREATED:20250604T165943Z
LAST-MODIFIED:20250604T165943Z
UID:17187-1760263200-1760270400@marktbarclay.com
SUMMARY:Mark T. Barclay in Tulsa\, OK
DESCRIPTION:
URL:https://marktbarclay.com/event/mark-t-barclay-in-tulsa-ok-3/
LOCATION:World Outreach Church of Tulsa\, 8863 E. 91st Str.\, Tulsa\, OK\, 74133-5519\, United States
CATEGORIES:Mark T. Barclay
END:VEVENT
BEGIN:VEVENT
DTSTART;VALUE=DATE:20251014
DTEND;VALUE=DATE:20251018
DTSTAMP:20260421T144808
CREATED:20240808T192434Z
LAST-MODIFIED:20250905T163822Z
UID:13236-1760400000-1760745599@marktbarclay.com
SUMMARY:**POSTPONED**Mark T. Barclay's Amarillo Holy Spirit Conference
DESCRIPTION:Conference Postponed
URL:https://marktbarclay.com/event/mark-t-barclays-amarillo-holy-spirit-conference/
LOCATION:Accelerate Church\, 4400 Crockett Str\, Amarillo\, 79110\, United States
CATEGORIES:Mark T. Barclay
END:VEVENT
BEGIN:VEVENT
DTSTART;TZID=America/Detroit:20251022T190000
DTEND;TZID=America/Detroit:20251022T210000
DTSTAMP:20260421T144808
CREATED:20250604T191601Z
LAST-MODIFIED:20250604T191601Z
UID:17191-1761159600-1761166800@marktbarclay.com
SUMMARY:Mark T. Barclay in Macomb\, MI
DESCRIPTION:
URL:https://marktbarclay.com/event/mark-t-barclay-in-macomb-mi-3/
LOCATION:Christian Life Church\, 24877 21 Mile Rd\, Macomb\, MI\, 48042\, United States
CATEGORIES:Mark T. Barclay
END:VEVENT
BEGIN:VEVENT
DTSTART;VALUE=DATE:20251025
DTEND;VALUE=DATE:20251026
DTSTAMP:20260421T144808
CREATED:20250213T160318Z
LAST-MODIFIED:20250213T160318Z
UID:15964-1761350400-1761436799@marktbarclay.com
SUMMARY:Josh M. Barclay in Muskegon\, MI
DESCRIPTION:*Youth Event*  Details to follow.
URL:https://marktbarclay.com/event/josh-m-barclay-in-muskegon-mi-7/
LOCATION:Living Word Muskegon\, 1551 Wood St.\, Muskegon\, MI\, 49442\, United States
CATEGORIES:Josh M. Barclay
END:VEVENT
BEGIN:VEVENT
DTSTART;TZID=America/Detroit:20251026T090000
DTEND;TZID=America/Detroit:20251026T103000
DTSTAMP:20260421T144808
CREATED:20250213T160522Z
LAST-MODIFIED:20250213T160522Z
UID:15976-1761469200-1761474600@marktbarclay.com
SUMMARY:Josh M. Barclay in Muskegon\, MI
DESCRIPTION:2 services~ 9am and 11am
URL:https://marktbarclay.com/event/josh-m-barclay-in-muskegon-mi-8/
LOCATION:Living Word Muskegon\, 1551 Wood St.\, Muskegon\, MI\, 49442\, United States
CATEGORIES:Josh M. Barclay
END:VEVENT
BEGIN:VEVENT
DTSTART;TZID=America/Chicago:20251026T093000
DTEND;TZID=America/Chicago:20251026T113000
DTSTAMP:20260421T144808
CREATED:20250611T193415Z
LAST-MODIFIED:20250611T193415Z
UID:17208-1761471000-1761478200@marktbarclay.com
SUMMARY:Mark T. Barclay in Eagle River\, WI
DESCRIPTION:
URL:https://marktbarclay.com/event/mark-t-barclay-in-eagle-river-wi-2/
LOCATION:Abundant Life Outreach Center\, 210 Capich Dr.\, Eagle River\, WI\, 54521\, United States
CATEGORIES:Mark T. Barclay
END:VEVENT
BEGIN:VEVENT
DTSTART;TZID=America/Detroit:20251026T090000
DTEND;TZID=America/Detroit:20251026T103000
DTSTAMP:20260421T144808
CREATED:20250213T160522Z
LAST-MODIFIED:20250213T160522Z
UID:15976-1761469200-1761474600@marktbarclay.com
SUMMARY:Josh M. Barclay in Muskegon\, MI
DESCRIPTION:2 services~ 9am and 11am
URL:https://marktbarclay.com/event/josh-m-barclay-in-muskegon-mi-8/
LOCATION:Living Word Muskegon\, 1551 Wood St.\, Muskegon\, MI\, 49442\, United States
CATEGORIES:Josh M. Barclay
END:VEVENT
BEGIN:VEVENT
DTSTART;TZID=America/Detroit:20251026T180000
DTEND;TZID=America/Detroit:20251026T200000
DTSTAMP:20260421T144808
CREATED:20250611T194630Z
LAST-MODIFIED:20250611T194630Z
UID:17210-1761501600-1761508800@marktbarclay.com
SUMMARY:Mark T. Barclay in Marion\, IN
DESCRIPTION:
URL:https://marktbarclay.com/event/mark-t-barclay-in-marion-in-6/
LOCATION:Tree of Life Church\, 2701 W 2nd St\, Marion\, IN\, 46952\, United States
CATEGORIES:Mark T. Barclay
END:VEVENT
BEGIN:VEVENT
DTSTART;VALUE=DATE:20251027
DTEND;VALUE=DATE:20251029
DTSTAMP:20260421T144808
CREATED:20250612T122219Z
LAST-MODIFIED:20250612T122219Z
UID:17314-1761523200-1761695999@marktbarclay.com
SUMMARY:Mark T. Barclay in Eaton\, OH
DESCRIPTION:FALL MISSIONS CONFERENCE\n**Registration will be available on August 1st**
URL:https://marktbarclay.com/event/mark-t-barclay-in-eaton-oh-6/
LOCATION:Covenant of Peace Church\, 4745 US 127 North\, Eaton\, OH\, 45320\, United States
CATEGORIES:Mark T. Barclay
END:VEVENT
BEGIN:VEVENT
DTSTART;TZID=America/Detroit:20251102T110000
DTEND;TZID=America/Detroit:20251102T130000
DTSTAMP:20260421T144808
CREATED:20250427T220814Z
LAST-MODIFIED:20250427T220814Z
UID:16652-1762081200-1762088400@marktbarclay.com
SUMMARY:Josh M. Barclay in Asheville\, NC
DESCRIPTION:
URL:https://marktbarclay.com/event/josh-m-barclay-in-asheville-nc-3/
LOCATION:Glory Tabernacle\, 1221 Sweeten Creek Rd\, Asheville\, NC\, 28803\, United States
CATEGORIES:Josh M. Barclay
END:VEVENT
BEGIN:VEVENT
DTSTART;TZID=America/Detroit:20251109T083000
DTEND;TZID=America/Detroit:20251109T100000
DTSTAMP:20260421T144808
CREATED:20250310T172621Z
LAST-MODIFIED:20250310T172621Z
UID:16180-1762677000-1762682400@marktbarclay.com
SUMMARY:Josh M. Barclay in Lexington\, KY
DESCRIPTION:*Two Morning Services*
URL:https://marktbarclay.com/event/josh-m-barclay-in-lexington-ky/
LOCATION:Grace Fellowship of Lexington\, 4514 Briar Hill Rd.\, Lexington\, KY\, 40516
CATEGORIES:Josh M. Barclay
END:VEVENT
BEGIN:VEVENT
DTSTART;TZID=America/Detroit:20251109T100000
DTEND;TZID=America/Detroit:20251109T120000
DTSTAMP:20260421T144808
CREATED:20250807T155749Z
LAST-MODIFIED:20250807T155749Z
UID:17941-1762682400-1762689600@marktbarclay.com
SUMMARY:Mark T. Barclay in Greendale\, IN
DESCRIPTION:
URL:https://marktbarclay.com/event/mark-t-barclay-in-greendale-in-3/
LOCATION:Grace Church of the Valley\, 1709 Nowlin Ave.\, Greendale\, IN\, 47025\, United States
CATEGORIES:Mark T. Barclay
END:VEVENT
BEGIN:VEVENT
DTSTART;TZID=America/Detroit:20251109T083000
DTEND;TZID=America/Detroit:20251109T100000
DTSTAMP:20260421T144808
CREATED:20250310T172621Z
LAST-MODIFIED:20250310T172621Z
UID:16180-1762677000-1762682400@marktbarclay.com
SUMMARY:Josh M. Barclay in Lexington\, KY
DESCRIPTION:*Two Morning Services*
URL:https://marktbarclay.com/event/josh-m-barclay-in-lexington-ky/
LOCATION:Grace Fellowship of Lexington\, 4514 Briar Hill Rd.\, Lexington\, KY\, 40516
CATEGORIES:Josh M. Barclay
END:VEVENT
BEGIN:VEVENT
DTSTART;TZID=America/Detroit:20251109T180000
DTEND;TZID=America/Detroit:20251109T200000
DTSTAMP:20260421T144808
CREATED:20250807T180449Z
LAST-MODIFIED:20250807T180449Z
UID:17943-1762711200-1762718400@marktbarclay.com
SUMMARY:Mark T. Barclay in Albemarle\, NC
DESCRIPTION:
URL:https://marktbarclay.com/event/mark-t-barclay-in-albemarle-nc/
LOCATION:Boomerang Church\, North Carolina 73\, Albemarle\, NC\, 28001\, United States
CATEGORIES:Mark T. Barclay
END:VEVENT
BEGIN:VEVENT
DTSTART;VALUE=DATE:20251110
DTEND;VALUE=DATE:20251112
DTSTAMP:20260421T144808
CREATED:20240731T165216Z
LAST-MODIFIED:20240731T165216Z
UID:13208-1762732800-1762905599@marktbarclay.com
SUMMARY:Mark T. Barclay in Gatlinburg\, TN
DESCRIPTION:Live Straight Talk for Ministers By invitation only
URL:https://marktbarclay.com/event/mark-t-barclay-in-gatlinburg-tn-4/
LOCATION:Courtyard by Marriott Gatlinburg Downtown\, 315 Historic Nature Trail\, Gatlinburg\, TN\, 37738\, United States
CATEGORIES:Mark T. Barclay
END:VEVENT
BEGIN:VEVENT
DTSTART;TZID=America/Chicago:20251112T190000
DTEND;TZID=America/Chicago:20251112T210000
DTSTAMP:20260421T144808
CREATED:20250714T224540Z
LAST-MODIFIED:20250714T224540Z
UID:17479-1762974000-1762981200@marktbarclay.com
SUMMARY:Josh M. Barclay in Cordova\, AL
DESCRIPTION:
URL:https://marktbarclay.com/event/josh-m-barclay-in-cordova-al-2/
LOCATION:Gathering Church\, 8090 Highway 78\, Cordova\, AL\, 35550\, United States
CATEGORIES:Josh M. Barclay
END:VEVENT
BEGIN:VEVENT
DTSTART;TZID=America/Detroit:20251114T190000
DTEND;TZID=America/Detroit:20251114T210000
DTSTAMP:20260421T144808
CREATED:20250401T162846Z
LAST-MODIFIED:20250401T162846Z
UID:16417-1763146800-1763154000@marktbarclay.com
SUMMARY:Josh M. Barclay in Clarksville\, IN
DESCRIPTION:WORSHIP NIGHT WITH JOSH SMITH
URL:https://marktbarclay.com/event/josh-m-barclay-in-clarksville-in-5/
LOCATION:Resurrection Life Church\, 2804 Blackiston Mill Rd.\, Clarksville\, IN\, 47129\, United States
CATEGORIES:Josh M. Barclay
END:VEVENT
BEGIN:VEVENT
DTSTART;TZID=America/Detroit:20251114T190000
DTEND;TZID=America/Detroit:20251114T210000
DTSTAMP:20260421T144808
CREATED:20250714T224021Z
LAST-MODIFIED:20250714T224021Z
UID:17477-1763146800-1763154000@marktbarclay.com
SUMMARY:Mark T. Barclay in Adrian\, MI
DESCRIPTION:
URL:https://marktbarclay.com/event/mark-t-barclay-in-adrian-mi-2/
LOCATION:Cornerstone Church\, 1055 West US-223\, Adrian\, MI\, 49221\, United States
CATEGORIES:Mark T. Barclay
END:VEVENT
BEGIN:VEVENT
DTSTART;TZID=America/Detroit:20251116T100000
DTEND;TZID=America/Detroit:20251116T120000
DTSTAMP:20260421T144808
CREATED:20250401T163003Z
LAST-MODIFIED:20250401T163003Z
UID:16419-1763287200-1763294400@marktbarclay.com
SUMMARY:Josh M. Barclay in Clarksville\, IN
DESCRIPTION:
URL:https://marktbarclay.com/event/josh-m-barclay-in-clarksville-in-6/
LOCATION:Resurrection Life Church\, 2804 Blackiston Mill Rd.\, Clarksville\, IN\, 47129\, United States
CATEGORIES:Josh M. Barclay
END:VEVENT
BEGIN:VEVENT
DTSTART;TZID=America/Detroit:20251202T190000
DTEND;TZID=America/Detroit:20251202T203000
DTSTAMP:20260421T144808
CREATED:20250102T193849Z
LAST-MODIFIED:20250102T193849Z
UID:15263-1764702000-1764707400@marktbarclay.com
SUMMARY:An Invasion Worship Experience with Josh M. Barclay
DESCRIPTION:
URL:https://marktbarclay.com/event/an-invasion-worship-experience-with-josh-m-barclay-5/
LOCATION:Living Word International\, 2010 Stark Rd.\, Midland\, MI\, 48642\, United States
CATEGORIES:Josh M. Barclay
END:VEVENT
BEGIN:VEVENT
DTSTART;VALUE=DATE:20251203
DTEND;VALUE=DATE:20251206
DTSTAMP:20260421T144808
CREATED:20240731T165426Z
LAST-MODIFIED:20260213T183249Z
UID:13210-1764720000-1764979199@marktbarclay.com
SUMMARY:Mark T. Barclay's National Leadership Conference
DESCRIPTION:
URL:https://marktbarclay.com/event/mark-t-barclays-national-leadership-conference-4/
LOCATION:Living Word International\, 2010 Stark Rd.\, Midland\, MI\, 48642\, United States
CATEGORIES:Mark T. Barclay
END:VEVENT
BEGIN:VEVENT
DTSTART;TZID=America/Chicago:20251214T083000
DTEND;TZID=America/Chicago:20251214T103000
DTSTAMP:20260421T144808
CREATED:20250808T154523Z
LAST-MODIFIED:20250808T154523Z
UID:17945-1765701000-1765708200@marktbarclay.com
SUMMARY:Mark T. Barclay in La Crosse\, WI
DESCRIPTION:
URL:https://marktbarclay.com/event/mark-t-barclay-in-la-crosse-wi-6/
LOCATION:Living Word Christian Church  – WI\, 2015 Ward Avenue\, La Crosse\, WI\, 54601
CATEGORIES:Mark T. Barclay
END:VEVENT
BEGIN:VEVENT
DTSTART;TZID=America/Chicago:20260318T190000
DTEND;TZID=America/Chicago:20260318T210000
DTSTAMP:20260421T144808
CREATED:20250714T220812Z
LAST-MODIFIED:20250714T220812Z
UID:17473-1773860400-1773867600@marktbarclay.com
SUMMARY:Mark T. Barclay in La Crosse\, WI
DESCRIPTION:
URL:https://marktbarclay.com/event/mark-t-barclay-in-la-crosse-wi-5/
LOCATION:Living Word Christian Church  – WI\, 2015 Ward Avenue\, La Crosse\, WI\, 54601
CATEGORIES:Mark T. Barclay
END:VEVENT
BEGIN:VEVENT
DTSTART;VALUE=DATE:20260319
DTEND;VALUE=DATE:20260322
DTSTAMP:20260421T144808
CREATED:20250714T221333Z
LAST-MODIFIED:20250714T221333Z
UID:17475-1773878400-1774137599@marktbarclay.com
SUMMARY:Mark T. Barclay in Onalaska\, WI
DESCRIPTION:*Living Word Christian Church hosting 2026 Men’s Conference*\nFor registration information\, please contact the church directly
URL:https://marktbarclay.com/event/mark-t-barclay-in-onalaska-wi/
LOCATION:Stoney Creek Hotel\, 3060 S Kinney Coulee Rd\, Onalaska\, 54650\, United States
CATEGORIES:Mark T. Barclay
END:VEVENT
END:VCALENDAR