BEGIN:VCALENDAR
VERSION:2.0
PRODID:-//Mark T. Barclay | Preacher of Righteousness - ECPv6.15.20//NONSGML v1.0//EN
CALSCALE:GREGORIAN
METHOD:PUBLISH
X-WR-CALNAME:Mark T. Barclay | Preacher of Righteousness
X-ORIGINAL-URL:https://marktbarclay.com
X-WR-CALDESC:Events for Mark T. Barclay | Preacher of Righteousness
REFRESH-INTERVAL;VALUE=DURATION:PT1H
X-Robots-Tag:noindex
X-PUBLISHED-TTL:PT1H
BEGIN:VTIMEZONE
TZID:America/Detroit
BEGIN:DAYLIGHT
TZOFFSETFROM:-0500
TZOFFSETTO:-0400
TZNAME:EDT
DTSTART:20220313T070000
END:DAYLIGHT
BEGIN:STANDARD
TZOFFSETFROM:-0400
TZOFFSETTO:-0500
TZNAME:EST
DTSTART:20221106T060000
END:STANDARD
BEGIN:DAYLIGHT
TZOFFSETFROM:-0500
TZOFFSETTO:-0400
TZNAME:EDT
DTSTART:20230312T070000
END:DAYLIGHT
BEGIN:STANDARD
TZOFFSETFROM:-0400
TZOFFSETTO:-0500
TZNAME:EST
DTSTART:20231105T060000
END:STANDARD
BEGIN:DAYLIGHT
TZOFFSETFROM:-0500
TZOFFSETTO:-0400
TZNAME:EDT
DTSTART:20240310T070000
END:DAYLIGHT
BEGIN:STANDARD
TZOFFSETFROM:-0400
TZOFFSETTO:-0500
TZNAME:EST
DTSTART:20241103T060000
END:STANDARD
END:VTIMEZONE
BEGIN:VTIMEZONE
TZID:America/Chicago
BEGIN:DAYLIGHT
TZOFFSETFROM:-0600
TZOFFSETTO:-0500
TZNAME:CDT
DTSTART:20220313T080000
END:DAYLIGHT
BEGIN:STANDARD
TZOFFSETFROM:-0500
TZOFFSETTO:-0600
TZNAME:CST
DTSTART:20221106T070000
END:STANDARD
BEGIN:DAYLIGHT
TZOFFSETFROM:-0600
TZOFFSETTO:-0500
TZNAME:CDT
DTSTART:20230312T080000
END:DAYLIGHT
BEGIN:STANDARD
TZOFFSETFROM:-0500
TZOFFSETTO:-0600
TZNAME:CST
DTSTART:20231105T070000
END:STANDARD
BEGIN:DAYLIGHT
TZOFFSETFROM:-0600
TZOFFSETTO:-0500
TZNAME:CDT
DTSTART:20240310T080000
END:DAYLIGHT
BEGIN:STANDARD
TZOFFSETFROM:-0500
TZOFFSETTO:-0600
TZNAME:CST
DTSTART:20241103T070000
END:STANDARD
END:VTIMEZONE
BEGIN:VTIMEZONE
TZID:Europe/Helsinki
BEGIN:DAYLIGHT
TZOFFSETFROM:+0200
TZOFFSETTO:+0300
TZNAME:EEST
DTSTART:20220327T010000
END:DAYLIGHT
BEGIN:STANDARD
TZOFFSETFROM:+0300
TZOFFSETTO:+0200
TZNAME:EET
DTSTART:20221030T010000
END:STANDARD
BEGIN:DAYLIGHT
TZOFFSETFROM:+0200
TZOFFSETTO:+0300
TZNAME:EEST
DTSTART:20230326T010000
END:DAYLIGHT
BEGIN:STANDARD
TZOFFSETFROM:+0300
TZOFFSETTO:+0200
TZNAME:EET
DTSTART:20231029T010000
END:STANDARD
BEGIN:DAYLIGHT
TZOFFSETFROM:+0200
TZOFFSETTO:+0300
TZNAME:EEST
DTSTART:20240331T010000
END:DAYLIGHT
BEGIN:STANDARD
TZOFFSETFROM:+0300
TZOFFSETTO:+0200
TZNAME:EET
DTSTART:20241027T010000
END:STANDARD
END:VTIMEZONE
BEGIN:VEVENT
DTSTART;TZID=America/Detroit:20230920T190000
DTEND;TZID=America/Detroit:20230920T190000
DTSTAMP:20260421T072834
CREATED:20230502T184102Z
LAST-MODIFIED:20230502T184106Z
UID:2778-1695236400-1695236400@marktbarclay.com
SUMMARY:Mark T. Barclay in Holt\, MI
DESCRIPTION:
URL:https://marktbarclay.com/event/mark-t-barclay-in-holt-mi-2/
LOCATION:Community Faith Church\, 4801 E. Willoughby Rd.\, Holt\, MI\, 48842\, United States
CATEGORIES:Mark T. Barclay
END:VEVENT
BEGIN:VEVENT
DTSTART;TZID=America/Chicago:20230917T100000
DTEND;TZID=America/Chicago:20230917T100000
DTSTAMP:20260421T072834
CREATED:20230725T171115Z
LAST-MODIFIED:20230725T171118Z
UID:2884-1694944800-1694944800@marktbarclay.com
SUMMARY:Mark T. Barclay in Ponder\, TX
DESCRIPTION:
URL:https://marktbarclay.com/event/mark-t-barclay-in-ponder-tx-4/
LOCATION:Christian Faith Fellowship\, 114 West James Street\, Ponder\, TX\, 76259\, United States
CATEGORIES:Mark T. Barclay
END:VEVENT
BEGIN:VEVENT
DTSTART;TZID=Europe/Helsinki:20230917T100000
DTEND;TZID=Europe/Helsinki:20230917T100000
DTSTAMP:20260421T072834
CREATED:20230711T182727Z
LAST-MODIFIED:20230711T182731Z
UID:2868-1694944800-1694944800@marktbarclay.com
SUMMARY:Josh M. Barclay in Le Blanc-Mesnil\, France
DESCRIPTION:
URL:https://marktbarclay.com/event/josh-m-barclay-in-le-blanc-mesnil-france/
LOCATION:Charisma Christian Church\, 7 Rue Isaac Newton\, Le Blanc-Mesnil\, 93150\, France
CATEGORIES:Josh M. Barclay
END:VEVENT
BEGIN:VEVENT
DTSTART;TZID=America/Detroit:20230917T100000
DTEND;TZID=America/Detroit:20230917T100000
DTSTAMP:20260421T072834
CREATED:20230421T175735Z
LAST-MODIFIED:20230421T175741Z
UID:2728-1694944800-1694944800@marktbarclay.com
SUMMARY:Rev. Kenny Gatlin in Midland\, MI
DESCRIPTION:*Both morning service at 10am and evening service at 6pm*
URL:https://marktbarclay.com/event/rev-kenny-gatlin-in-midland-mi-3/
LOCATION:Living Word International\, 2010 Stark Rd.\, Midland\, MI\, 48642\, United States
CATEGORIES:Guest Minister
END:VEVENT
BEGIN:VEVENT
DTSTART;VALUE=DATE:20230912
DTEND;VALUE=DATE:20230916
DTSTAMP:20260421T072834
CREATED:20220830T205823Z
LAST-MODIFIED:20220830T205823Z
UID:2174-1694476800-1694822399@marktbarclay.com
SUMMARY:Mark T. Barclay's National Ministry of Helps Conference
DESCRIPTION:Tuesday 7pm\, Wednesday 10:30am & 7pm\, Thursday 10:30am & 7pm\, and \nFriday 10:30am & 7pm
URL:https://marktbarclay.com/event/mark-t-barclays-national-ministry-of-helps-conference-2/
LOCATION:MI
CATEGORIES:Conference
END:VEVENT
BEGIN:VEVENT
DTSTART;TZID=America/Detroit:20230910T100000
DTEND;TZID=America/Detroit:20230910T100000
DTSTAMP:20260421T072834
CREATED:20230802T143130Z
LAST-MODIFIED:20230802T143134Z
UID:2900-1694340000-1694340000@marktbarclay.com
SUMMARY:Rev. Richard Roberts in Midland\, MI
DESCRIPTION:
URL:https://marktbarclay.com/event/rev-richard-roberts-in-midland-mi-2/
LOCATION:Living Word International\, 2010 Stark Rd.\, Midland\, MI\, 48642\, United States
CATEGORIES:Guest Minister
END:VEVENT
BEGIN:VEVENT
DTSTART;TZID=America/Detroit:20230910T100000
DTEND;TZID=America/Detroit:20230910T100000
DTSTAMP:20260421T072834
CREATED:20230420T140848Z
LAST-MODIFIED:20230420T140852Z
UID:2712-1694340000-1694340000@marktbarclay.com
SUMMARY:Vickie L. Barclay in Gardner\, MA
DESCRIPTION:
URL:https://marktbarclay.com/event/vickie-l-barclay-in-gardner-ma-2/
LOCATION:Higher Ground Ministries\, 186 Central St\, Gardner\, MA\, 01440\, United States
CATEGORIES:Vickie Barclay
END:VEVENT
BEGIN:VEVENT
DTSTART;TZID=America/Detroit:20230909T190000
DTEND;TZID=America/Detroit:20230909T190000
DTSTAMP:20260421T072834
CREATED:20230802T143041Z
LAST-MODIFIED:20230802T143044Z
UID:2898-1694286000-1694286000@marktbarclay.com
SUMMARY:Rev. Richard Roberts in Midland\, MI
DESCRIPTION:
URL:https://marktbarclay.com/event/rev-richard-roberts-in-midland-mi/
LOCATION:Living Word International\, 2010 Stark Rd.\, Midland\, MI\, 48642\, United States
CATEGORIES:Guest Minister
END:VEVENT
BEGIN:VEVENT
DTSTART;TZID=America/Detroit:20230909T103000
DTEND;TZID=America/Detroit:20230909T103000
DTSTAMP:20260421T072834
CREATED:20230822T164841Z
LAST-MODIFIED:20230822T164845Z
UID:2951-1694255400-1694255400@marktbarclay.com
SUMMARY:Vickie L. Barclay in Gardner\, MA
DESCRIPTION:**Ladies Meeting**
URL:https://marktbarclay.com/event/vickie-l-barclay-in-gardner-ma-3/
LOCATION:Higher Ground Ministries\, 186 Central St\, Gardner\, MA\, 01440\, United States
CATEGORIES:Vickie Barclay
END:VEVENT
BEGIN:VEVENT
DTSTART;TZID=America/Detroit:20230827T100000
DTEND;TZID=America/Detroit:20230827T100000
DTSTAMP:20260421T072834
CREATED:20230121T125757Z
LAST-MODIFIED:20230822T164356Z
UID:2591-1693130400-1693130400@marktbarclay.com
SUMMARY:James P. and Dawn M. Randolph in Gardner\, MA
DESCRIPTION:
URL:https://marktbarclay.com/event/james-p-and-dawn-m-randolph-in-gardner-ma/
LOCATION:Higher Ground Ministries\, 186 Central St\, Gardner\, MA\, 01440\, United States
CATEGORIES:Dawn Randolph,James Randolph
END:VEVENT
BEGIN:VEVENT
DTSTART;VALUE=DATE:20230821
DTEND;VALUE=DATE:20230823
DTSTAMP:20260421T072834
CREATED:20230112T195901Z
LAST-MODIFIED:20230210T145654Z
UID:2574-1692576000-1692748799@marktbarclay.com
SUMMARY:Mark T. Barclay in Louisville\, KY
DESCRIPTION:Live Straight Talk for Ministers by Invitation Only
URL:https://marktbarclay.com/event/mark-t-barclay-in-louisville-ky/
LOCATION:Marriott Louisville East\, 1903 Embassy Square Blvd.\, Louisville\, KY\, 40299
CATEGORIES:Mark T. Barclay
END:VEVENT
BEGIN:VEVENT
DTSTART;TZID=America/Detroit:20230820T180000
DTEND;TZID=America/Detroit:20230820T180000
DTSTAMP:20260421T072834
CREATED:20230522T200854Z
LAST-MODIFIED:20230522T200858Z
UID:2800-1692554400-1692554400@marktbarclay.com
SUMMARY:Mark T. Barclay in Clarksville\, IN
DESCRIPTION:
URL:https://marktbarclay.com/event/mark-t-barclay-in-clarksville-in-4/
LOCATION:Resurrection Life Church\, 2804 Blackiston Mill Rd.\, Clarksville\, IN\, 47129\, United States
CATEGORIES:Mark T. Barclay
END:VEVENT
BEGIN:VEVENT
DTSTART;TZID=America/Detroit:20230820T103000
DTEND;TZID=America/Detroit:20230820T103000
DTSTAMP:20260421T072834
CREATED:20230803T211341Z
LAST-MODIFIED:20230803T211345Z
UID:2907-1692527400-1692527400@marktbarclay.com
SUMMARY:James P. Randolph in Eaton\, OH
DESCRIPTION:
URL:https://marktbarclay.com/event/james-p-randolph-in-eaton-oh-2/
LOCATION:Covenant of Peace Church\, 4745 US 127 North\, Eaton\, OH\, 45320\, United States
CATEGORIES:James Randolph
END:VEVENT
BEGIN:VEVENT
DTSTART;TZID=America/Detroit:20230820T100000
DTEND;TZID=America/Detroit:20230820T100000
DTSTAMP:20260421T072834
CREATED:20230508T152117Z
LAST-MODIFIED:20230508T152121Z
UID:2785-1692525600-1692525600@marktbarclay.com
SUMMARY:Mark T. Barclay in Marion\, IN
DESCRIPTION:
URL:https://marktbarclay.com/event/mark-t-barclay-in-marion-in-4/
LOCATION:Tree of Life Church\, 2701 W 2nd St\, Marion\, IN\, 46952\, United States
CATEGORIES:Mark T. Barclay
END:VEVENT
BEGIN:VEVENT
DTSTART;TZID=America/Chicago:20230813T180000
DTEND;TZID=America/Chicago:20230813T180000
DTSTAMP:20260421T072834
CREATED:20230420T191345Z
LAST-MODIFIED:20230420T191348Z
UID:2724-1691949600-1691949600@marktbarclay.com
SUMMARY:Josh M. Barclay in Oshkosh\, WI
DESCRIPTION:
URL:https://marktbarclay.com/event/josh-m-barclay-in-oshkosh-wi-5/
LOCATION:His Church World Outreach Center\, 2704 Jackson Street\, Oshkosh\, WI\, 54901\, United States
CATEGORIES:Josh M. Barclay
END:VEVENT
BEGIN:VEVENT
DTSTART;TZID=America/Chicago:20230813T100000
DTEND;TZID=America/Chicago:20230813T100000
DTSTAMP:20260421T072834
CREATED:20230420T191203Z
LAST-MODIFIED:20230420T191206Z
UID:2722-1691920800-1691920800@marktbarclay.com
SUMMARY:Josh M. Barclay in Oshkosh\, WI
DESCRIPTION:
URL:https://marktbarclay.com/event/josh-m-barclay-in-oshkosh-wi-4/
LOCATION:His Church World Outreach Center\, 2704 Jackson Street\, Oshkosh\, WI\, 54901\, United States
CATEGORIES:Josh M. Barclay
END:VEVENT
BEGIN:VEVENT
DTSTART;TZID=America/Detroit:20230810T190000
DTEND;TZID=America/Detroit:20230810T190000
DTSTAMP:20260421T072834
CREATED:20230322T151748Z
LAST-MODIFIED:20230322T151753Z
UID:2663-1691694000-1691694000@marktbarclay.com
SUMMARY:Rev. Darlene Bishop Driscoll in Midland\, MI
DESCRIPTION:
URL:https://marktbarclay.com/event/rev-darlene-bishop-driscoll-in-midland-mi/
LOCATION:MI
CATEGORIES:Guest Minister
END:VEVENT
BEGIN:VEVENT
DTSTART;TZID=America/Detroit:20230809T190000
DTEND;TZID=America/Detroit:20230809T190000
DTSTAMP:20260421T072834
CREATED:20230602T181128Z
LAST-MODIFIED:20230602T181132Z
UID:2818-1691607600-1691607600@marktbarclay.com
SUMMARY:Mark T. Barclay in Owosso\, MI
DESCRIPTION:
URL:https://marktbarclay.com/event/mark-t-barclay-in-owosso-mi-2/
LOCATION:New Creation Church\, 1800 Corunna Ave\, Owosso\, MI\, 48857\, United States
CATEGORIES:Mark T. Barclay
END:VEVENT
BEGIN:VEVENT
DTSTART;TZID=America/Chicago:20230806T103000
DTEND;TZID=America/Chicago:20230806T103000
DTSTAMP:20260421T072834
CREATED:20230706T184246Z
LAST-MODIFIED:20230719T181540Z
UID:2857-1691317800-1691317800@marktbarclay.com
SUMMARY:Mark T. Barclay in Bartlett\, IL
DESCRIPTION:TWO services: 10:30am and 6pm
URL:https://marktbarclay.com/event/mark-t-barclay-in-bartlett-il-11/
LOCATION:Faith World Outreach Church\, 1280 S IL Route 59\, Bartlett\, IL\, 60103-3006\, United States
CATEGORIES:Mark T. Barclay
END:VEVENT
BEGIN:VEVENT
DTSTART;TZID=America/Detroit:20230806T100000
DTEND;TZID=America/Detroit:20230806T100000
DTSTAMP:20260421T072834
CREATED:20230717T150504Z
LAST-MODIFIED:20230801T161344Z
UID:2877-1691316000-1691316000@marktbarclay.com
SUMMARY:Rev. Natalia Walsh in Midland\, MI
DESCRIPTION:
URL:https://marktbarclay.com/event/rev-natalia-walsh-in-midland-mi/
LOCATION:Living Word International\, 2010 Stark Rd.\, Midland\, MI\, 48642\, United States
CATEGORIES:Guest Minister
END:VEVENT
BEGIN:VEVENT
DTSTART;TZID=America/Chicago:20230805T090000
DTEND;TZID=America/Chicago:20230805T090000
DTSTAMP:20260421T072834
CREATED:20230706T184130Z
LAST-MODIFIED:20230706T184133Z
UID:2855-1691226000-1691226000@marktbarclay.com
SUMMARY:Vickie L. Barclay in Bartlett\, IL
DESCRIPTION:**Ladies Meeting**\nSpecific Time TBD.
URL:https://marktbarclay.com/event/vickie-l-barclay-in-bartlett-il/
LOCATION:Faith World Outreach Church\, 1280 S IL Route 59\, Bartlett\, IL\, 60103-3006\, United States
CATEGORIES:Vickie Barclay
END:VEVENT
BEGIN:VEVENT
DTSTART;VALUE=DATE:20230725
DTEND;VALUE=DATE:20230729
DTSTAMP:20260421T072834
CREATED:20220830T205334Z
LAST-MODIFIED:20221212T142212Z
UID:2172-1690243200-1690588799@marktbarclay.com
SUMMARY:Josh M. Barclay's Invasion 2023 Conference
DESCRIPTION:
URL:https://marktbarclay.com/event/josh-m-barclays-invasion-2023-conference/
LOCATION:MI
CATEGORIES:Conference
END:VEVENT
BEGIN:VEVENT
DTSTART;TZID=America/Chicago:20230724T190000
DTEND;TZID=America/Chicago:20230724T190000
DTSTAMP:20260421T072834
CREATED:20230323T194443Z
LAST-MODIFIED:20230323T194447Z
UID:2672-1690225200-1690225200@marktbarclay.com
SUMMARY:Mark T. Barclay in Mount Pleasant\, IA
DESCRIPTION:
URL:https://marktbarclay.com/event/mark-t-barclay-in-mount-pleasant-ia/
LOCATION:Faith Christian Outreach Center\, 1302 E. Washington\, Mount Pleasant\, IA\, 52641
CATEGORIES:Mark T. Barclay
END:VEVENT
BEGIN:VEVENT
DTSTART;TZID=America/Chicago:20230723T180000
DTEND;TZID=America/Chicago:20230723T180000
DTSTAMP:20260421T072834
CREATED:20230515T161118Z
LAST-MODIFIED:20230515T161122Z
UID:2787-1690135200-1690135200@marktbarclay.com
SUMMARY:Mark T. Barclay in Panora\, IA
DESCRIPTION:
URL:https://marktbarclay.com/event/mark-t-barclay-in-panora-ia/
LOCATION:Fountain of Life Church\, 2322 Wagon Rd.\, Panora\, IA\, 50216\, United States
CATEGORIES:Mark T. Barclay
END:VEVENT
BEGIN:VEVENT
DTSTART;TZID=America/Chicago:20230723T093000
DTEND;TZID=America/Chicago:20230723T093000
DTSTAMP:20260421T072834
CREATED:20230406T142819Z
LAST-MODIFIED:20230406T142823Z
UID:2694-1690104600-1690104600@marktbarclay.com
SUMMARY:Mark T. Barclay in Sioux Falls\, SD
DESCRIPTION:
URL:https://marktbarclay.com/event/mark-t-barclay-in-sioux-falls-sd/
LOCATION:Faith Family Church\, 127 North Spring Avenue\, Sioux Falls\, SD\, 57104\, United States
CATEGORIES:Mark T. Barclay
END:VEVENT
BEGIN:VEVENT
DTSTART;TZID=America/Detroit:20230709T180000
DTEND;TZID=America/Detroit:20230709T180000
DTSTAMP:20260421T072834
CREATED:20230424T142221Z
LAST-MODIFIED:20230424T142225Z
UID:2736-1688925600-1688925600@marktbarclay.com
SUMMARY:Josh M. Barclay in Clarksville\, IN
DESCRIPTION:
URL:https://marktbarclay.com/event/josh-m-barclay-in-clarksville-in-3/
LOCATION:Resurrection Life Church\, 2804 Blackiston Mill Rd.\, Clarksville\, IN\, 47129\, United States
CATEGORIES:Josh M. Barclay
END:VEVENT
BEGIN:VEVENT
DTSTART;TZID=America/Detroit:20230709T100000
DTEND;TZID=America/Detroit:20230709T100000
DTSTAMP:20260421T072834
CREATED:20230424T142007Z
LAST-MODIFIED:20230424T142011Z
UID:2734-1688896800-1688896800@marktbarclay.com
SUMMARY:Josh M. Barclay in Clarksville\, IN
DESCRIPTION:
URL:https://marktbarclay.com/event/josh-m-barclay-in-clarksville-in-2/
LOCATION:Resurrection Life Church\, 2804 Blackiston Mill Rd.\, Clarksville\, IN\, 47129\, United States
CATEGORIES:Josh M. Barclay
END:VEVENT
BEGIN:VEVENT
DTSTART;TZID=America/Detroit:20230625T100000
DTEND;TZID=America/Detroit:20230625T100000
DTSTAMP:20260421T072834
CREATED:20230322T151554Z
LAST-MODIFIED:20230421T172752Z
UID:2661-1687687200-1687687200@marktbarclay.com
SUMMARY:Rev. Kenny Gatlin in Midland\, MI
DESCRIPTION:
URL:https://marktbarclay.com/event/rev-kenny-gatlin-in-midland-mi-2/
LOCATION:Living Word International\, 2010 Stark Rd.\, Midland\, MI\, 48642\, United States
CATEGORIES:Guest Minister
END:VEVENT
BEGIN:VEVENT
DTSTART;VALUE=DATE:20230620
DTEND;VALUE=DATE:20230624
DTSTAMP:20260421T072834
CREATED:20220830T205029Z
LAST-MODIFIED:20220830T205029Z
UID:2170-1687219200-1687564799@marktbarclay.com
SUMMARY:Palm Coast Holy Spirit Conference
DESCRIPTION:Tuesday 7pm\, Wednesday 10:30am & 7pm\, Thursday 10:30am & 7pm\, and\nFriday 10:30am & 7pm
URL:https://marktbarclay.com/event/palm-coast-holy-spirit-conference/
LOCATION:New Way Church\, 293 Old Moody Blvd\, Palm Coast\, FL\, 32164\, United States
CATEGORIES:Conference
END:VEVENT
BEGIN:VEVENT
DTSTART;VALUE=DATE:20230616
DTEND;VALUE=DATE:20230618
DTSTAMP:20260421T072834
CREATED:20230223T193811Z
LAST-MODIFIED:20230518T162215Z
UID:2646-1686873600-1687046399@marktbarclay.com
SUMMARY:Mark T. Barclay in Newark\, TX
DESCRIPTION:*MEN’S CONFERENCE- REGISTRATION IS REQUIRED*\nFRIDAY EVENING AND SATURDAY MORNING \nFRIDAY 7:00PM\nSATURDAY 9:00AM \n 
URL:https://marktbarclay.com/event/mark-t-barclay-in-newark-tx-2/
LOCATION:Eagle Mountain International Church\, 14355 Morris Dido Newark Rd\, Newark\, TX\, 76071\, United States
CATEGORIES:Mark T. Barclay
END:VEVENT
END:VCALENDAR