BEGIN:VCALENDAR
VERSION:2.0
PRODID:-//Mark T. Barclay | Preacher of Righteousness - ECPv6.15.20//NONSGML v1.0//EN
CALSCALE:GREGORIAN
METHOD:PUBLISH
X-ORIGINAL-URL:https://marktbarclay.com
X-WR-CALDESC:Events for Mark T. Barclay | Preacher of Righteousness
REFRESH-INTERVAL;VALUE=DURATION:PT1H
X-Robots-Tag:noindex
X-PUBLISHED-TTL:PT1H
BEGIN:VTIMEZONE
TZID:America/Detroit
BEGIN:DAYLIGHT
TZOFFSETFROM:-0500
TZOFFSETTO:-0400
TZNAME:EDT
DTSTART:20240310T070000
END:DAYLIGHT
BEGIN:STANDARD
TZOFFSETFROM:-0400
TZOFFSETTO:-0500
TZNAME:EST
DTSTART:20241103T060000
END:STANDARD
BEGIN:DAYLIGHT
TZOFFSETFROM:-0500
TZOFFSETTO:-0400
TZNAME:EDT
DTSTART:20250309T070000
END:DAYLIGHT
BEGIN:STANDARD
TZOFFSETFROM:-0400
TZOFFSETTO:-0500
TZNAME:EST
DTSTART:20251102T060000
END:STANDARD
BEGIN:DAYLIGHT
TZOFFSETFROM:-0500
TZOFFSETTO:-0400
TZNAME:EDT
DTSTART:20260308T070000
END:DAYLIGHT
BEGIN:STANDARD
TZOFFSETFROM:-0400
TZOFFSETTO:-0500
TZNAME:EST
DTSTART:20261101T060000
END:STANDARD
END:VTIMEZONE
BEGIN:VTIMEZONE
TZID:America/New_York
BEGIN:DAYLIGHT
TZOFFSETFROM:-0500
TZOFFSETTO:-0400
TZNAME:EDT
DTSTART:20240310T070000
END:DAYLIGHT
BEGIN:STANDARD
TZOFFSETFROM:-0400
TZOFFSETTO:-0500
TZNAME:EST
DTSTART:20241103T060000
END:STANDARD
BEGIN:DAYLIGHT
TZOFFSETFROM:-0500
TZOFFSETTO:-0400
TZNAME:EDT
DTSTART:20250309T070000
END:DAYLIGHT
BEGIN:STANDARD
TZOFFSETFROM:-0400
TZOFFSETTO:-0500
TZNAME:EST
DTSTART:20251102T060000
END:STANDARD
BEGIN:DAYLIGHT
TZOFFSETFROM:-0500
TZOFFSETTO:-0400
TZNAME:EDT
DTSTART:20260308T070000
END:DAYLIGHT
BEGIN:STANDARD
TZOFFSETFROM:-0400
TZOFFSETTO:-0500
TZNAME:EST
DTSTART:20261101T060000
END:STANDARD
END:VTIMEZONE
BEGIN:VTIMEZONE
TZID:America/Chicago
BEGIN:DAYLIGHT
TZOFFSETFROM:-0600
TZOFFSETTO:-0500
TZNAME:CDT
DTSTART:20240310T080000
END:DAYLIGHT
BEGIN:STANDARD
TZOFFSETFROM:-0500
TZOFFSETTO:-0600
TZNAME:CST
DTSTART:20241103T070000
END:STANDARD
BEGIN:DAYLIGHT
TZOFFSETFROM:-0600
TZOFFSETTO:-0500
TZNAME:CDT
DTSTART:20250309T080000
END:DAYLIGHT
BEGIN:STANDARD
TZOFFSETFROM:-0500
TZOFFSETTO:-0600
TZNAME:CST
DTSTART:20251102T070000
END:STANDARD
BEGIN:DAYLIGHT
TZOFFSETFROM:-0600
TZOFFSETTO:-0500
TZNAME:CDT
DTSTART:20260308T080000
END:DAYLIGHT
BEGIN:STANDARD
TZOFFSETFROM:-0500
TZOFFSETTO:-0600
TZNAME:CST
DTSTART:20261101T070000
END:STANDARD
END:VTIMEZONE
BEGIN:VEVENT
DTSTART;TZID=America/Detroit:20250817T100000
DTEND;TZID=America/Detroit:20250817T120000
DTSTAMP:20260419T091414
CREATED:20250410T174211Z
LAST-MODIFIED:20250715T140240Z
UID:16434-1755424800-1755432000@marktbarclay.com
SUMMARY:Mark T. Barclay in Apopka\, FL
DESCRIPTION:
URL:https://marktbarclay.com/event/mark-t-barclay-in-apopka-fl-2/
LOCATION:Victory Church World Outreach Center\, 509 South Park Avenue\, Apopka\, FL\, 32703\, United States
CATEGORIES:Mark T. Barclay
END:VEVENT
BEGIN:VEVENT
DTSTART;TZID=America/Detroit:20250817T183000
DTEND;TZID=America/Detroit:20250817T203000
DTSTAMP:20260419T091414
CREATED:20250212T021608Z
LAST-MODIFIED:20250715T140420Z
UID:15887-1755455400-1755462600@marktbarclay.com
SUMMARY:Mark T. Barclay in Kissimmee\, FL
DESCRIPTION:
URL:https://marktbarclay.com/event/mark-t-barclay-in-kissimmee-fl-3/
LOCATION:Freedom Life Church\, 1700 E Irlo Bronson Memorial Hwy\, Kissimmee\, FL\, 34744\, United States
CATEGORIES:Mark T. Barclay
END:VEVENT
BEGIN:VEVENT
DTSTART;TZID=America/Detroit:20250824T103000
DTEND;TZID=America/Detroit:20250824T123000
DTSTAMP:20260419T091414
CREATED:20250425T152108Z
LAST-MODIFIED:20250425T152108Z
UID:16643-1756031400-1756038600@marktbarclay.com
SUMMARY:Josh M. Barclay in Eaton\, OH
DESCRIPTION:
URL:https://marktbarclay.com/event/josh-m-barclay-in-eaton-oh-2/
LOCATION:Covenant of Peace Church\, 4745 US 127 North\, Eaton\, OH\, 45320\, United States
CATEGORIES:Josh M. Barclay
END:VEVENT
BEGIN:VEVENT
DTSTART;TZID=America/New_York:20250831T090000
DTEND;TZID=America/New_York:20250831T110000
DTSTAMP:20260419T091414
CREATED:20250227T194137Z
LAST-MODIFIED:20250812T191047Z
UID:16152-1756630800-1756638000@marktbarclay.com
SUMMARY:Mark T. Barclay in Phenix City\, AL
DESCRIPTION:
URL:https://marktbarclay.com/event/mark-t-barclay-in-phenix-city-al/
LOCATION:Oasis Church International\, 800 Highway 431 South\, Phenix City\, AL\, 31709\, United States
CATEGORIES:Mark T. Barclay
END:VEVENT
BEGIN:VEVENT
DTSTART;TZID=America/New_York:20250831T183000
DTEND;TZID=America/New_York:20250831T203000
DTSTAMP:20260419T091414
CREATED:20250401T160359Z
LAST-MODIFIED:20250430T220347Z
UID:16414-1756665000-1756672200@marktbarclay.com
SUMMARY:Mark T. Barclay in Mobile\, AL
DESCRIPTION:
URL:https://marktbarclay.com/event/mark-t-barclay-in-mobile-al/
LOCATION:Living Faith Bible Church\, 3988 Government Blvd Suite B\, Mobile\, AL\, 36693\, United States
CATEGORIES:Mark T. Barclay
END:VEVENT
BEGIN:VEVENT
DTSTART;TZID=America/Detroit:20250911T190000
DTEND;TZID=America/Detroit:20250911T210000
DTSTAMP:20260419T091414
CREATED:20250612T122736Z
LAST-MODIFIED:20250905T164122Z
UID:17321-1757617200-1757624400@marktbarclay.com
SUMMARY:**POSTPONED**Mark T. Barclay in Ludington\, MI
DESCRIPTION:Meeting postponed
URL:https://marktbarclay.com/event/mark-t-barclay-in-ludington-mi-3/
LOCATION:Living Word Church of Ludington\, 301 N. Jebavy Dr.\, Ludington\, MI\, 49431-1671\, United States
CATEGORIES:Mark T. Barclay
END:VEVENT
BEGIN:VEVENT
DTSTART;TZID=America/Detroit:20250914T103000
DTEND;TZID=America/Detroit:20250914T123000
DTSTAMP:20260419T091414
CREATED:20250802T002841Z
LAST-MODIFIED:20250822T211332Z
UID:17937-1757845800-1757853000@marktbarclay.com
SUMMARY:Mark T. Barclay in Eaton\, OH
DESCRIPTION:
URL:https://marktbarclay.com/event/mark-t-barclay-in-eaton-oh-7/
LOCATION:Covenant of Peace Church\, 4745 US 127 North\, Eaton\, OH\, 45320\, United States
CATEGORIES:Mark T. Barclay
END:VEVENT
BEGIN:VEVENT
DTSTART;TZID=America/Detroit:20250914T103000
DTEND;TZID=America/Detroit:20250914T123000
DTSTAMP:20260419T091414
CREATED:20250802T002841Z
LAST-MODIFIED:20250822T211332Z
UID:17937-1757845800-1757853000@marktbarclay.com
SUMMARY:Mark T. Barclay in Eaton\, OH
DESCRIPTION:
URL:https://marktbarclay.com/event/mark-t-barclay-in-eaton-oh-7/
LOCATION:Covenant of Peace Church\, 4745 US 127 North\, Eaton\, OH\, 45320\, United States
CATEGORIES:Mark T. Barclay
END:VEVENT
BEGIN:VEVENT
DTSTART;TZID=America/Detroit:20250915T190000
DTEND;TZID=America/Detroit:20250915T210000
DTSTAMP:20260419T091414
CREATED:20250817T214909Z
LAST-MODIFIED:20250817T214909Z
UID:18178-1757962800-1757970000@marktbarclay.com
SUMMARY:Mark T. Barclay in Mason\, OH
DESCRIPTION:
URL:https://marktbarclay.com/event/mark-t-barclay-in-mason-oh-3/
LOCATION:Faith World Outreach Center (Mason)\, 7308 Central Parke Blvd.\, Mason\, OH\, 45040-6802\, United States
CATEGORIES:Mark T. Barclay
END:VEVENT
BEGIN:VEVENT
DTSTART;TZID=America/Chicago:20250921T100000
DTEND;TZID=America/Chicago:20250921T120000
DTSTAMP:20260419T091414
CREATED:20250815T154420Z
LAST-MODIFIED:20250815T154420Z
UID:18174-1758448800-1758456000@marktbarclay.com
SUMMARY:Mark T. Barclay in Neligh\, NE
DESCRIPTION:
URL:https://marktbarclay.com/event/mark-t-barclay-in-neligh-ne-4/
LOCATION:Abundant Life Christian Center\, 1101 L Street\, Neligh\, NE\, 68756\, United States
CATEGORIES:Mark T. Barclay
END:VEVENT
BEGIN:VEVENT
DTSTART;TZID=America/Detroit:20250921T100000
DTEND;TZID=America/Detroit:20250921T120000
DTSTAMP:20260419T091414
CREATED:20250818T201645Z
LAST-MODIFIED:20250818T201735Z
UID:18180-1758448800-1758456000@marktbarclay.com
SUMMARY:Rev. Kenny Gatlin in Midland\, MI
DESCRIPTION:
URL:https://marktbarclay.com/event/rev-kenny-gatlin-in-midland-mi-4/
LOCATION:Living Word International\, 2010 Stark Rd.\, Midland\, MI\, 48642\, United States
CATEGORIES:Guest Minister
END:VEVENT
BEGIN:VEVENT
DTSTART;TZID=America/Chicago:20250921T183000
DTEND;TZID=America/Chicago:20250921T203000
DTSTAMP:20260419T091414
CREATED:20250815T154622Z
LAST-MODIFIED:20250815T154622Z
UID:18176-1758479400-1758486600@marktbarclay.com
SUMMARY:Mark T. Barclay in Sioux City\, IA
DESCRIPTION:
URL:https://marktbarclay.com/event/mark-t-barclay-in-sioux-city-ia-5/
LOCATION:Cornerstone World Outreach\, 1625 Glen Ellen Rd\, Sioux City\, IA\, 51106\, United States
CATEGORIES:Mark T. Barclay
END:VEVENT
BEGIN:VEVENT
DTSTART;VALUE=DATE:20250923
DTEND;VALUE=DATE:20250927
DTSTAMP:20260419T091414
CREATED:20240731T164859Z
LAST-MODIFIED:20241211T202327Z
UID:13206-1758585600-1758931199@marktbarclay.com
SUMMARY:Mark T. Barclay's National Ministry of Helps Conference
DESCRIPTION:
URL:https://marktbarclay.com/event/mark-t-barclays-national-ministry-of-helps-conference-4/
LOCATION:Living Word International\, 2010 Stark Rd.\, Midland\, MI\, 48642\, United States
CATEGORIES:Mark T. Barclay
END:VEVENT
BEGIN:VEVENT
DTSTART;TZID=America/Detroit:20250923T190000
DTEND;TZID=America/Detroit:20250923T210000
DTSTAMP:20260419T091414
CREATED:20250628T014754Z
LAST-MODIFIED:20250818T201300Z
UID:17442-1758654000-1758661200@marktbarclay.com
SUMMARY:Dr. Ingolf Schmidt in Midland\, MI
DESCRIPTION:
URL:https://marktbarclay.com/event/dr-ingolf-schmidt-in-midland-mi-3/
LOCATION:Living Word International\, 2010 Stark Rd.\, Midland\, MI\, 48642\, United States
CATEGORIES:Guest Minister
END:VEVENT
BEGIN:VEVENT
DTSTART;TZID=America/Detroit:20251004T103000
DTEND;TZID=America/Detroit:20251004T130000
DTSTAMP:20260419T091414
CREATED:20250609T154301Z
LAST-MODIFIED:20250609T154301Z
UID:17196-1759573800-1759582800@marktbarclay.com
SUMMARY:Rev. John George in Midland\, MI
DESCRIPTION:**MEN’S MEETING**
URL:https://marktbarclay.com/event/rev-john-george-in-midland-mi-4/
LOCATION:Living Word International\, 2010 Stark Rd.\, Midland\, MI\, 48642\, United States
CATEGORIES:Guest Minister
END:VEVENT
BEGIN:VEVENT
DTSTART;TZID=America/Detroit:20251005T100000
DTEND;TZID=America/Detroit:20251005T120000
DTSTAMP:20260419T091414
CREATED:20250609T154537Z
LAST-MODIFIED:20250609T154537Z
UID:17198-1759658400-1759665600@marktbarclay.com
SUMMARY:Rev. John George in Midland\, MI
DESCRIPTION:
URL:https://marktbarclay.com/event/rev-john-george-in-midland-mi-5/
LOCATION:Living Word International\, 2010 Stark Rd.\, Midland\, MI\, 48642\, United States
CATEGORIES:Guest Minister
END:VEVENT
BEGIN:VEVENT
DTSTART;TZID=America/Detroit:20251008T190000
DTEND;TZID=America/Detroit:20251008T210000
DTSTAMP:20260419T091414
CREATED:20250604T180038Z
LAST-MODIFIED:20250604T180038Z
UID:17189-1759950000-1759957200@marktbarclay.com
SUMMARY:Mark T. Barclay in Chesterfield\, MI
DESCRIPTION:
URL:https://marktbarclay.com/event/mark-t-barclay-in-chesterfield-mi-6/
LOCATION:Faith Christian Center\, 46000 N Gratiot Ave\, Chesterfield\, MI\, 48051\, United States
CATEGORIES:Mark T. Barclay
END:VEVENT
BEGIN:VEVENT
DTSTART;TZID=America/Chicago:20251012T100000
DTEND;TZID=America/Chicago:20251012T120000
DTSTAMP:20260419T091414
CREATED:20250604T165943Z
LAST-MODIFIED:20250604T165943Z
UID:17187-1760263200-1760270400@marktbarclay.com
SUMMARY:Mark T. Barclay in Tulsa\, OK
DESCRIPTION:
URL:https://marktbarclay.com/event/mark-t-barclay-in-tulsa-ok-3/
LOCATION:World Outreach Church of Tulsa\, 8863 E. 91st Str.\, Tulsa\, OK\, 74133-5519\, United States
CATEGORIES:Mark T. Barclay
END:VEVENT
BEGIN:VEVENT
DTSTART;VALUE=DATE:20251014
DTEND;VALUE=DATE:20251018
DTSTAMP:20260419T091414
CREATED:20240808T192434Z
LAST-MODIFIED:20250905T163822Z
UID:13236-1760400000-1760745599@marktbarclay.com
SUMMARY:**POSTPONED**Mark T. Barclay's Amarillo Holy Spirit Conference
DESCRIPTION:Conference Postponed
URL:https://marktbarclay.com/event/mark-t-barclays-amarillo-holy-spirit-conference/
LOCATION:Accelerate Church\, 4400 Crockett Str\, Amarillo\, 79110\, United States
CATEGORIES:Mark T. Barclay
END:VEVENT
BEGIN:VEVENT
DTSTART;TZID=America/Detroit:20251022T190000
DTEND;TZID=America/Detroit:20251022T210000
DTSTAMP:20260419T091414
CREATED:20250604T191601Z
LAST-MODIFIED:20250604T191601Z
UID:17191-1761159600-1761166800@marktbarclay.com
SUMMARY:Mark T. Barclay in Macomb\, MI
DESCRIPTION:
URL:https://marktbarclay.com/event/mark-t-barclay-in-macomb-mi-3/
LOCATION:Christian Life Church\, 24877 21 Mile Rd\, Macomb\, MI\, 48042\, United States
CATEGORIES:Mark T. Barclay
END:VEVENT
BEGIN:VEVENT
DTSTART;VALUE=DATE:20251025
DTEND;VALUE=DATE:20251026
DTSTAMP:20260419T091414
CREATED:20250213T160318Z
LAST-MODIFIED:20250213T160318Z
UID:15964-1761350400-1761436799@marktbarclay.com
SUMMARY:Josh M. Barclay in Muskegon\, MI
DESCRIPTION:*Youth Event*  Details to follow.
URL:https://marktbarclay.com/event/josh-m-barclay-in-muskegon-mi-7/
LOCATION:Living Word Muskegon\, 1551 Wood St.\, Muskegon\, MI\, 49442\, United States
CATEGORIES:Josh M. Barclay
END:VEVENT
BEGIN:VEVENT
DTSTART;TZID=America/Detroit:20251026T090000
DTEND;TZID=America/Detroit:20251026T103000
DTSTAMP:20260419T091414
CREATED:20250213T160522Z
LAST-MODIFIED:20250213T160522Z
UID:15976-1761469200-1761474600@marktbarclay.com
SUMMARY:Josh M. Barclay in Muskegon\, MI
DESCRIPTION:2 services~ 9am and 11am
URL:https://marktbarclay.com/event/josh-m-barclay-in-muskegon-mi-8/
LOCATION:Living Word Muskegon\, 1551 Wood St.\, Muskegon\, MI\, 49442\, United States
CATEGORIES:Josh M. Barclay
END:VEVENT
BEGIN:VEVENT
DTSTART;TZID=America/Chicago:20251026T093000
DTEND;TZID=America/Chicago:20251026T113000
DTSTAMP:20260419T091414
CREATED:20250611T193415Z
LAST-MODIFIED:20250611T193415Z
UID:17208-1761471000-1761478200@marktbarclay.com
SUMMARY:Mark T. Barclay in Eagle River\, WI
DESCRIPTION:
URL:https://marktbarclay.com/event/mark-t-barclay-in-eagle-river-wi-2/
LOCATION:Abundant Life Outreach Center\, 210 Capich Dr.\, Eagle River\, WI\, 54521\, United States
CATEGORIES:Mark T. Barclay
END:VEVENT
BEGIN:VEVENT
DTSTART;TZID=America/Detroit:20251026T090000
DTEND;TZID=America/Detroit:20251026T103000
DTSTAMP:20260419T091414
CREATED:20250213T160522Z
LAST-MODIFIED:20250213T160522Z
UID:15976-1761469200-1761474600@marktbarclay.com
SUMMARY:Josh M. Barclay in Muskegon\, MI
DESCRIPTION:2 services~ 9am and 11am
URL:https://marktbarclay.com/event/josh-m-barclay-in-muskegon-mi-8/
LOCATION:Living Word Muskegon\, 1551 Wood St.\, Muskegon\, MI\, 49442\, United States
CATEGORIES:Josh M. Barclay
END:VEVENT
BEGIN:VEVENT
DTSTART;TZID=America/Detroit:20251026T180000
DTEND;TZID=America/Detroit:20251026T200000
DTSTAMP:20260419T091414
CREATED:20250611T194630Z
LAST-MODIFIED:20250611T194630Z
UID:17210-1761501600-1761508800@marktbarclay.com
SUMMARY:Mark T. Barclay in Marion\, IN
DESCRIPTION:
URL:https://marktbarclay.com/event/mark-t-barclay-in-marion-in-6/
LOCATION:Tree of Life Church\, 2701 W 2nd St\, Marion\, IN\, 46952\, United States
CATEGORIES:Mark T. Barclay
END:VEVENT
BEGIN:VEVENT
DTSTART;VALUE=DATE:20251027
DTEND;VALUE=DATE:20251029
DTSTAMP:20260419T091414
CREATED:20250612T122219Z
LAST-MODIFIED:20250612T122219Z
UID:17314-1761523200-1761695999@marktbarclay.com
SUMMARY:Mark T. Barclay in Eaton\, OH
DESCRIPTION:FALL MISSIONS CONFERENCE\n**Registration will be available on August 1st**
URL:https://marktbarclay.com/event/mark-t-barclay-in-eaton-oh-6/
LOCATION:Covenant of Peace Church\, 4745 US 127 North\, Eaton\, OH\, 45320\, United States
CATEGORIES:Mark T. Barclay
END:VEVENT
BEGIN:VEVENT
DTSTART;TZID=America/Detroit:20251102T110000
DTEND;TZID=America/Detroit:20251102T130000
DTSTAMP:20260419T091414
CREATED:20250427T220814Z
LAST-MODIFIED:20250427T220814Z
UID:16652-1762081200-1762088400@marktbarclay.com
SUMMARY:Josh M. Barclay in Asheville\, NC
DESCRIPTION:
URL:https://marktbarclay.com/event/josh-m-barclay-in-asheville-nc-3/
LOCATION:Glory Tabernacle\, 1221 Sweeten Creek Rd\, Asheville\, NC\, 28803\, United States
CATEGORIES:Josh M. Barclay
END:VEVENT
BEGIN:VEVENT
DTSTART;TZID=America/Detroit:20251109T083000
DTEND;TZID=America/Detroit:20251109T100000
DTSTAMP:20260419T091414
CREATED:20250310T172621Z
LAST-MODIFIED:20250310T172621Z
UID:16180-1762677000-1762682400@marktbarclay.com
SUMMARY:Josh M. Barclay in Lexington\, KY
DESCRIPTION:*Two Morning Services*
URL:https://marktbarclay.com/event/josh-m-barclay-in-lexington-ky/
LOCATION:Grace Fellowship of Lexington\, 4514 Briar Hill Rd.\, Lexington\, KY\, 40516
CATEGORIES:Josh M. Barclay
END:VEVENT
BEGIN:VEVENT
DTSTART;TZID=America/Detroit:20251109T100000
DTEND;TZID=America/Detroit:20251109T120000
DTSTAMP:20260419T091414
CREATED:20250807T155749Z
LAST-MODIFIED:20250807T155749Z
UID:17941-1762682400-1762689600@marktbarclay.com
SUMMARY:Mark T. Barclay in Greendale\, IN
DESCRIPTION:
URL:https://marktbarclay.com/event/mark-t-barclay-in-greendale-in-3/
LOCATION:Grace Church of the Valley\, 1709 Nowlin Ave.\, Greendale\, IN\, 47025\, United States
CATEGORIES:Mark T. Barclay
END:VEVENT
BEGIN:VEVENT
DTSTART;TZID=America/Detroit:20251109T083000
DTEND;TZID=America/Detroit:20251109T100000
DTSTAMP:20260419T091414
CREATED:20250310T172621Z
LAST-MODIFIED:20250310T172621Z
UID:16180-1762677000-1762682400@marktbarclay.com
SUMMARY:Josh M. Barclay in Lexington\, KY
DESCRIPTION:*Two Morning Services*
URL:https://marktbarclay.com/event/josh-m-barclay-in-lexington-ky/
LOCATION:Grace Fellowship of Lexington\, 4514 Briar Hill Rd.\, Lexington\, KY\, 40516
CATEGORIES:Josh M. Barclay
END:VEVENT
END:VCALENDAR