BEGIN:VCALENDAR
VERSION:2.0
PRODID:-//Mark T. Barclay | Preacher of Righteousness - ECPv6.15.20//NONSGML v1.0//EN
CALSCALE:GREGORIAN
METHOD:PUBLISH
X-ORIGINAL-URL:https://marktbarclay.com
X-WR-CALDESC:Events for Mark T. Barclay | Preacher of Righteousness
REFRESH-INTERVAL;VALUE=DURATION:PT1H
X-Robots-Tag:noindex
X-PUBLISHED-TTL:PT1H
BEGIN:VTIMEZONE
TZID:America/Detroit
BEGIN:DAYLIGHT
TZOFFSETFROM:-0500
TZOFFSETTO:-0400
TZNAME:EDT
DTSTART:20240310T070000
END:DAYLIGHT
BEGIN:STANDARD
TZOFFSETFROM:-0400
TZOFFSETTO:-0500
TZNAME:EST
DTSTART:20241103T060000
END:STANDARD
BEGIN:DAYLIGHT
TZOFFSETFROM:-0500
TZOFFSETTO:-0400
TZNAME:EDT
DTSTART:20250309T070000
END:DAYLIGHT
BEGIN:STANDARD
TZOFFSETFROM:-0400
TZOFFSETTO:-0500
TZNAME:EST
DTSTART:20251102T060000
END:STANDARD
BEGIN:DAYLIGHT
TZOFFSETFROM:-0500
TZOFFSETTO:-0400
TZNAME:EDT
DTSTART:20260308T070000
END:DAYLIGHT
BEGIN:STANDARD
TZOFFSETFROM:-0400
TZOFFSETTO:-0500
TZNAME:EST
DTSTART:20261101T060000
END:STANDARD
END:VTIMEZONE
BEGIN:VTIMEZONE
TZID:America/Chicago
BEGIN:DAYLIGHT
TZOFFSETFROM:-0600
TZOFFSETTO:-0500
TZNAME:CDT
DTSTART:20240310T080000
END:DAYLIGHT
BEGIN:STANDARD
TZOFFSETFROM:-0500
TZOFFSETTO:-0600
TZNAME:CST
DTSTART:20241103T070000
END:STANDARD
BEGIN:DAYLIGHT
TZOFFSETFROM:-0600
TZOFFSETTO:-0500
TZNAME:CDT
DTSTART:20250309T080000
END:DAYLIGHT
BEGIN:STANDARD
TZOFFSETFROM:-0500
TZOFFSETTO:-0600
TZNAME:CST
DTSTART:20251102T070000
END:STANDARD
BEGIN:DAYLIGHT
TZOFFSETFROM:-0600
TZOFFSETTO:-0500
TZNAME:CDT
DTSTART:20260308T080000
END:DAYLIGHT
BEGIN:STANDARD
TZOFFSETFROM:-0500
TZOFFSETTO:-0600
TZNAME:CST
DTSTART:20261101T070000
END:STANDARD
END:VTIMEZONE
BEGIN:VEVENT
DTSTART;TZID=America/Detroit:20250303T190000
DTEND;TZID=America/Detroit:20250303T203000
DTSTAMP:20260421T090830
CREATED:20250102T193114Z
LAST-MODIFIED:20250102T193114Z
UID:15257-1741028400-1741033800@marktbarclay.com
SUMMARY:An Invasion Worship Experience with Josh M. Barclay
DESCRIPTION:
URL:https://marktbarclay.com/event/an-invasion-worship-experience-with-josh-m-barclay-2/
LOCATION:Living Word International\, 2010 Stark Rd.\, Midland\, MI\, 48642\, United States
CATEGORIES:Josh M. Barclay
END:VEVENT
BEGIN:VEVENT
DTSTART;VALUE=DATE:20250304
DTEND;VALUE=DATE:20250308
DTSTAMP:20260421T090830
CREATED:20240715T195258Z
LAST-MODIFIED:20240715T205232Z
UID:13024-1741046400-1741391999@marktbarclay.com
SUMMARY:Mark T. Barclay's National Holy Spirit Conference
DESCRIPTION:Tuesday\, March 4th @ 7pm\nWednesday\, March 5th @ 10:30am and 7pm\nThursday\, March 6th @ 10:30am and 7pm\nFriday\, March 7th @ 10:30am and 7pm \nMinisters\, please register prior to the conference.
URL:https://marktbarclay.com/event/mark-t-barclays-national-holy-spirit-conference-3/
LOCATION:Living Word International\, 2010 Stark Rd.\, Midland\, MI\, 48642\, United States
CATEGORIES:Mark T. Barclay
END:VEVENT
BEGIN:VEVENT
DTSTART;TZID=America/Detroit:20250313T190000
DTEND;TZID=America/Detroit:20250313T210000
DTSTAMP:20260421T090830
CREATED:20250221T233200Z
LAST-MODIFIED:20250221T233200Z
UID:16133-1741892400-1741899600@marktbarclay.com
SUMMARY:Rev. Dale Armstrong in Midland\, MI
DESCRIPTION:
URL:https://marktbarclay.com/event/rev-dale-armstrong-in-midland-mi-3/
LOCATION:Living Word International\, 2010 Stark Rd.\, Midland\, MI\, 48642\, United States
CATEGORIES:Guest Minister
END:VEVENT
BEGIN:VEVENT
DTSTART;TZID=America/Detroit:20250316T100000
DTEND;TZID=America/Detroit:20250316T120000
DTSTAMP:20260421T090830
CREATED:20241212T145641Z
LAST-MODIFIED:20241212T145641Z
UID:14417-1742119200-1742126400@marktbarclay.com
SUMMARY:Mark T. Barclay in Indianapolis\, IN
DESCRIPTION:
URL:https://marktbarclay.com/event/mark-t-barclay-in-indianapolis-in-8/
LOCATION:The Father’s House\, 1551 South Franklin Rd.\, Indianapolis\, IN\, 46239\, United States
CATEGORIES:Mark T. Barclay
END:VEVENT
BEGIN:VEVENT
DTSTART;TZID=America/Detroit:20250316T100000
DTEND;TZID=America/Detroit:20250316T120000
DTSTAMP:20260421T090830
CREATED:20241212T145641Z
LAST-MODIFIED:20241212T145641Z
UID:14417-1742119200-1742126400@marktbarclay.com
SUMMARY:Mark T. Barclay in Indianapolis\, IN
DESCRIPTION:
URL:https://marktbarclay.com/event/mark-t-barclay-in-indianapolis-in-8/
LOCATION:The Father’s House\, 1551 South Franklin Rd.\, Indianapolis\, IN\, 46239\, United States
CATEGORIES:Mark T. Barclay
END:VEVENT
BEGIN:VEVENT
DTSTART;TZID=America/Detroit:20250316T100000
DTEND;TZID=America/Detroit:20250316T120000
DTSTAMP:20260421T090830
CREATED:20241212T145641Z
LAST-MODIFIED:20241212T145641Z
UID:14417-1742119200-1742126400@marktbarclay.com
SUMMARY:Mark T. Barclay in Indianapolis\, IN
DESCRIPTION:
URL:https://marktbarclay.com/event/mark-t-barclay-in-indianapolis-in-8/
LOCATION:The Father’s House\, 1551 South Franklin Rd.\, Indianapolis\, IN\, 46239\, United States
CATEGORIES:Mark T. Barclay
END:VEVENT
BEGIN:VEVENT
DTSTART;TZID=America/Detroit:20250326T183000
DTEND;TZID=America/Detroit:20250326T203000
DTSTAMP:20260421T090830
CREATED:20250212T161106Z
LAST-MODIFIED:20250212T161106Z
UID:15909-1743013800-1743021000@marktbarclay.com
SUMMARY:Mark T. Barclay in Lapeer\, MI
DESCRIPTION:
URL:https://marktbarclay.com/event/mark-t-barclay-in-lapeer-mi-3/
LOCATION:Faith Christian Family Church of Lapeer\, 3440 Davison Road\, Lapeer\, MI\, 48446\, United States
CATEGORIES:Mark T. Barclay
END:VEVENT
BEGIN:VEVENT
DTSTART;TZID=America/Detroit:20250404T190000
DTEND;TZID=America/Detroit:20250404T210000
DTSTAMP:20260421T090830
CREATED:20250116T202451Z
LAST-MODIFIED:20250127T170120Z
UID:15342-1743793200-1743800400@marktbarclay.com
SUMMARY:Vickie L. Barclay in Clarksville\, IN
DESCRIPTION:Ladies Meeting  – please register! \n*EARLY BIRD REGISTRATION FEE OF $40* \nAfter March 5th it will increase to $45 and will be $50 at the door.
URL:https://marktbarclay.com/event/vickie-l-barclay-in-clarksville-in/
LOCATION:Resurrection Life Church\, 2804 Blackiston Mill Rd.\, Clarksville\, IN\, 47129\, United States
CATEGORIES:Vickie Barclay
END:VEVENT
BEGIN:VEVENT
DTSTART;TZID=America/Detroit:20250404T190000
DTEND;TZID=America/Detroit:20250404T210000
DTSTAMP:20260421T090830
CREATED:20250116T202451Z
LAST-MODIFIED:20250127T170120Z
UID:15342-1743793200-1743800400@marktbarclay.com
SUMMARY:Vickie L. Barclay in Clarksville\, IN
DESCRIPTION:Ladies Meeting  – please register! \n*EARLY BIRD REGISTRATION FEE OF $40* \nAfter March 5th it will increase to $45 and will be $50 at the door.
URL:https://marktbarclay.com/event/vickie-l-barclay-in-clarksville-in/
LOCATION:Resurrection Life Church\, 2804 Blackiston Mill Rd.\, Clarksville\, IN\, 47129\, United States
CATEGORIES:Vickie Barclay
END:VEVENT
BEGIN:VEVENT
DTSTART;TZID=America/Detroit:20250406T100000
DTEND;TZID=America/Detroit:20250406T120000
DTSTAMP:20260421T090830
CREATED:20250116T202722Z
LAST-MODIFIED:20250116T202722Z
UID:15345-1743933600-1743940800@marktbarclay.com
SUMMARY:Vickie L. Barclay in Clarksville\, IN
DESCRIPTION:Morning and Evening Services
URL:https://marktbarclay.com/event/vickie-l-barclay-in-clarksville-in-2/
LOCATION:Resurrection Life Church\, 2804 Blackiston Mill Rd.\, Clarksville\, IN\, 47129\, United States
CATEGORIES:Vickie Barclay
END:VEVENT
BEGIN:VEVENT
DTSTART;TZID=America/Detroit:20250406T100000
DTEND;TZID=America/Detroit:20250406T120000
DTSTAMP:20260421T090830
CREATED:20250303T214752Z
LAST-MODIFIED:20250303T214752Z
UID:16161-1743933600-1743940800@marktbarclay.com
SUMMARY:Mark T. Barclay in Cobbs Creek\, VA
DESCRIPTION:
URL:https://marktbarclay.com/event/mark-t-barclay-in-cobbs-creek-va-3/
LOCATION:Cornerstone Fellowship Church\, 2243 Buckley Hall Rd.\, Cobbs Creek\, VA\, 23035\, United States
CATEGORIES:Mark T. Barclay
END:VEVENT
BEGIN:VEVENT
DTSTART;TZID=America/Detroit:20250406T100000
DTEND;TZID=America/Detroit:20250406T120000
DTSTAMP:20260421T090830
CREATED:20250116T202722Z
LAST-MODIFIED:20250116T202722Z
UID:15345-1743933600-1743940800@marktbarclay.com
SUMMARY:Vickie L. Barclay in Clarksville\, IN
DESCRIPTION:Morning and Evening Services
URL:https://marktbarclay.com/event/vickie-l-barclay-in-clarksville-in-2/
LOCATION:Resurrection Life Church\, 2804 Blackiston Mill Rd.\, Clarksville\, IN\, 47129\, United States
CATEGORIES:Vickie Barclay
END:VEVENT
BEGIN:VEVENT
DTSTART;TZID=America/Detroit:20250406T100000
DTEND;TZID=America/Detroit:20250406T120000
DTSTAMP:20260421T090830
CREATED:20250303T214752Z
LAST-MODIFIED:20250303T214752Z
UID:16161-1743933600-1743940800@marktbarclay.com
SUMMARY:Mark T. Barclay in Cobbs Creek\, VA
DESCRIPTION:
URL:https://marktbarclay.com/event/mark-t-barclay-in-cobbs-creek-va-3/
LOCATION:Cornerstone Fellowship Church\, 2243 Buckley Hall Rd.\, Cobbs Creek\, VA\, 23035\, United States
CATEGORIES:Mark T. Barclay
END:VEVENT
BEGIN:VEVENT
DTSTART;TZID=America/Detroit:20250406T100000
DTEND;TZID=America/Detroit:20250406T120000
DTSTAMP:20260421T090830
CREATED:20250303T214752Z
LAST-MODIFIED:20250303T214752Z
UID:16161-1743933600-1743940800@marktbarclay.com
SUMMARY:Mark T. Barclay in Cobbs Creek\, VA
DESCRIPTION:
URL:https://marktbarclay.com/event/mark-t-barclay-in-cobbs-creek-va-3/
LOCATION:Cornerstone Fellowship Church\, 2243 Buckley Hall Rd.\, Cobbs Creek\, VA\, 23035\, United States
CATEGORIES:Mark T. Barclay
END:VEVENT
BEGIN:VEVENT
DTSTART;TZID=America/Detroit:20250410T190000
DTEND;TZID=America/Detroit:20250410T210000
DTSTAMP:20260421T090830
CREATED:20241118T171032Z
LAST-MODIFIED:20250211T201622Z
UID:13633-1744311600-1744318800@marktbarclay.com
SUMMARY:MBM Worship Conference
DESCRIPTION:With Josh M. Barclay\, Josh Smith and\nSpecial Guest\, Phil Driscoll \n 
URL:https://marktbarclay.com/event/mark-t-barclay-worship-conference/
LOCATION:Living Word International\, 2010 Stark Rd.\, Midland\, MI\, 48642\, United States
CATEGORIES:Josh M. Barclay
END:VEVENT
BEGIN:VEVENT
DTSTART;TZID=America/Detroit:20250410T190000
DTEND;TZID=America/Detroit:20250410T210000
DTSTAMP:20260421T090830
CREATED:20241118T171032Z
LAST-MODIFIED:20250211T201622Z
UID:13633-1744311600-1744318800@marktbarclay.com
SUMMARY:MBM Worship Conference
DESCRIPTION:With Josh M. Barclay\, Josh Smith and\nSpecial Guest\, Phil Driscoll \n 
URL:https://marktbarclay.com/event/mark-t-barclay-worship-conference/
LOCATION:Living Word International\, 2010 Stark Rd.\, Midland\, MI\, 48642\, United States
CATEGORIES:Josh M. Barclay
END:VEVENT
BEGIN:VEVENT
DTSTART;TZID=America/Detroit:20250410T190000
DTEND;TZID=America/Detroit:20250410T210000
DTSTAMP:20260421T090830
CREATED:20241118T171032Z
LAST-MODIFIED:20250211T201622Z
UID:13633-1744311600-1744318800@marktbarclay.com
SUMMARY:MBM Worship Conference
DESCRIPTION:With Josh M. Barclay\, Josh Smith and\nSpecial Guest\, Phil Driscoll \n 
URL:https://marktbarclay.com/event/mark-t-barclay-worship-conference/
LOCATION:Living Word International\, 2010 Stark Rd.\, Midland\, MI\, 48642\, United States
CATEGORIES:Josh M. Barclay
END:VEVENT
BEGIN:VEVENT
DTSTART;TZID=America/Detroit:20250426T073000
DTEND;TZID=America/Detroit:20250426T133000
DTSTAMP:20260421T090830
CREATED:20250212T012334Z
LAST-MODIFIED:20250409T004649Z
UID:15871-1745652600-1745674200@marktbarclay.com
SUMMARY:Mark T. Barclay in Muskegon\, MI
DESCRIPTION:Men’s Conference *registration required*\n*Includes 2 meals plus Continental Breakfast*
URL:https://marktbarclay.com/event/mark-t-barclay-in-muskegon-mi-11/
LOCATION:Living Word Muskegon\, 1551 Wood St.\, Muskegon\, MI\, 49442\, United States
CATEGORIES:Mark T. Barclay
END:VEVENT
BEGIN:VEVENT
DTSTART;TZID=America/Detroit:20250427T110000
DTEND;TZID=America/Detroit:20250427T130000
DTSTAMP:20260421T090830
CREATED:20250212T012523Z
LAST-MODIFIED:20250409T004729Z
UID:15873-1745751600-1745758800@marktbarclay.com
SUMMARY:Mark T. Barclay in Muskegon\, MI
DESCRIPTION:
URL:https://marktbarclay.com/event/mark-t-barclay-in-muskegon-mi-12/
LOCATION:Living Word Muskegon\, 1551 Wood St.\, Muskegon\, MI\, 49442\, United States
CATEGORIES:Mark T. Barclay
END:VEVENT
BEGIN:VEVENT
DTSTART;TZID=America/Chicago:20250427T180000
DTEND;TZID=America/Chicago:20250427T200000
DTSTAMP:20260421T090830
CREATED:20250401T175058Z
LAST-MODIFIED:20250401T175058Z
UID:16423-1745776800-1745784000@marktbarclay.com
SUMMARY:Mark T. Barclay in Bartlett\, IL
DESCRIPTION:
URL:https://marktbarclay.com/event/mark-t-barclay-in-bartlett-il-19/
LOCATION:Faith World Outreach Church\, 1280 S IL Route 59\, Bartlett\, IL\, 60103-3006\, United States
CATEGORIES:Mark T. Barclay
END:VEVENT
BEGIN:VEVENT
DTSTART;TZID=America/Detroit:20250504T083000
DTEND;TZID=America/Detroit:20250504T103000
DTSTAMP:20260421T090830
CREATED:20250214T181335Z
LAST-MODIFIED:20250409T130312Z
UID:16013-1746347400-1746354600@marktbarclay.com
SUMMARY:Mark T. Barclay in Lexington\, KY
DESCRIPTION:TWO morning services
URL:https://marktbarclay.com/event/mark-t-barclay-in-lexington-ky-7/
LOCATION:Grace Fellowship of Lexington\, 4514 Briar Hill Rd.\, Lexington\, KY\, 40516
CATEGORIES:Mark T. Barclay
END:VEVENT
BEGIN:VEVENT
DTSTART;TZID=America/Detroit:20250504T083000
DTEND;TZID=America/Detroit:20250504T103000
DTSTAMP:20260421T090830
CREATED:20250214T181335Z
LAST-MODIFIED:20250409T130312Z
UID:16013-1746347400-1746354600@marktbarclay.com
SUMMARY:Mark T. Barclay in Lexington\, KY
DESCRIPTION:TWO morning services
URL:https://marktbarclay.com/event/mark-t-barclay-in-lexington-ky-7/
LOCATION:Grace Fellowship of Lexington\, 4514 Briar Hill Rd.\, Lexington\, KY\, 40516
CATEGORIES:Mark T. Barclay
END:VEVENT
BEGIN:VEVENT
DTSTART;TZID=America/Chicago:20250504T180000
DTEND;TZID=America/Chicago:20250504T200000
DTSTAMP:20260421T090830
CREATED:20250427T214249Z
LAST-MODIFIED:20250427T214252Z
UID:16645-1746381600-1746388800@marktbarclay.com
SUMMARY:Mark T. Barclay in Cookeville\, TN
DESCRIPTION:
URL:https://marktbarclay.com/event/mark-t-barclay-in-cookeville-tn-7-2/
LOCATION:Engrafted Word Church\, 5 W Broad St\, Cookeville\, TN\, 38501\, United States
CATEGORIES:Mark T. Barclay
END:VEVENT
BEGIN:VEVENT
DTSTART;TZID=America/Chicago:20250505T190000
DTEND;TZID=America/Chicago:20250505T210000
DTSTAMP:20260421T090830
CREATED:20250212T013450Z
LAST-MODIFIED:20250427T214343Z
UID:15875-1746471600-1746478800@marktbarclay.com
SUMMARY:Mark T. Barclay in Cookeville\, TN
DESCRIPTION:
URL:https://marktbarclay.com/event/mark-t-barclay-in-cookeville-tn-7/
LOCATION:Engrafted Word Church\, 5 W Broad St\, Cookeville\, TN\, 38501\, United States
CATEGORIES:Mark T. Barclay
END:VEVENT
BEGIN:VEVENT
DTSTART;TZID=America/Detroit:20250509T190000
DTEND;TZID=America/Detroit:20250509T210000
DTSTAMP:20260421T090830
CREATED:20250401T175312Z
LAST-MODIFIED:20250401T175312Z
UID:16425-1746817200-1746824400@marktbarclay.com
SUMMARY:Mark T. Barclay in Bellaire\, MI
DESCRIPTION:
URL:https://marktbarclay.com/event/mark-t-barclay-in-bellaire-mi-4/
LOCATION:The Rock Church\, Aero Park Drive\, Bellaire\, Michigan\, 49615\, United States
CATEGORIES:Mark T. Barclay
END:VEVENT
BEGIN:VEVENT
DTSTART;TZID=America/Detroit:20250520T190000
DTEND;TZID=America/Detroit:20250520T210000
DTSTAMP:20260421T090830
CREATED:20250514T160335Z
LAST-MODIFIED:20250514T160335Z
UID:17062-1747767600-1747774800@marktbarclay.com
SUMMARY:Mark T. Barclay in Eaton\, OH
DESCRIPTION:2025 Spring Ministers Conference Registration\n\nEvent Timing: May 19-21\, 2025\nEvent Address: 4745 US 127 N\, Eaton\, OH 45320\nContact us at (937) 456-5577 or info@copiministries.org\n(ministers are asked to register; however\, anyone is welcome)
URL:https://marktbarclay.com/event/mark-t-barclay-in-eaton-oh-5/
LOCATION:Covenant of Peace Church\, 4745 US 127 North\, Eaton\, OH\, 45320\, United States
CATEGORIES:Mark T. Barclay
END:VEVENT
BEGIN:VEVENT
DTSTART;TZID=America/Chicago:20250523T183000
DTEND;TZID=America/Chicago:20250523T203000
DTSTAMP:20260421T090830
CREATED:20250325T161229Z
LAST-MODIFIED:20250402T220754Z
UID:16297-1748025000-1748032200@marktbarclay.com
SUMMARY:Mark T. Barclay in Chelsea\, AL
DESCRIPTION:
URL:https://marktbarclay.com/event/mark-t-barclay-in-chelsea-al/
LOCATION:Word of Life\, 10540 Chelsea Rd\, Chelsea\, AL\, 35043\, United States
CATEGORIES:Mark T. Barclay
END:VEVENT
BEGIN:VEVENT
DTSTART;TZID=America/Chicago:20250523T183000
DTEND;TZID=America/Chicago:20250523T203000
DTSTAMP:20260421T090830
CREATED:20250325T161229Z
LAST-MODIFIED:20250402T220754Z
UID:16297-1748025000-1748032200@marktbarclay.com
SUMMARY:Mark T. Barclay in Chelsea\, AL
DESCRIPTION:
URL:https://marktbarclay.com/event/mark-t-barclay-in-chelsea-al/
LOCATION:Word of Life\, 10540 Chelsea Rd\, Chelsea\, AL\, 35043\, United States
CATEGORIES:Mark T. Barclay
END:VEVENT
BEGIN:VEVENT
DTSTART;TZID=America/Chicago:20250523T183000
DTEND;TZID=America/Chicago:20250523T203000
DTSTAMP:20260421T090830
CREATED:20250325T161229Z
LAST-MODIFIED:20250402T220754Z
UID:16297-1748025000-1748032200@marktbarclay.com
SUMMARY:Mark T. Barclay in Chelsea\, AL
DESCRIPTION:
URL:https://marktbarclay.com/event/mark-t-barclay-in-chelsea-al/
LOCATION:Word of Life\, 10540 Chelsea Rd\, Chelsea\, AL\, 35043\, United States
CATEGORIES:Mark T. Barclay
END:VEVENT
BEGIN:VEVENT
DTSTART;VALUE=DATE:20250529
DTEND;VALUE=DATE:20250602
DTSTAMP:20260421T090830
CREATED:20240731T163414Z
LAST-MODIFIED:20250108T192313Z
UID:13191-1748476800-1748822399@marktbarclay.com
SUMMARY:*Postponed* Vickie L. Barclay's Women of Righteousness Conference
DESCRIPTION:Details regarding the Women of Righteousness Conference postponed until 2026 will be available soon!
URL:https://marktbarclay.com/event/vickie-l-barclays-women-of-righteousness-conference-3/
LOCATION:Living Word International\, 2010 Stark Rd.\, Midland\, MI\, 48642\, United States
END:VEVENT
END:VCALENDAR