BEGIN:VCALENDAR
VERSION:2.0
PRODID:-//Mark T. Barclay | Preacher of Righteousness - ECPv6.15.20//NONSGML v1.0//EN
CALSCALE:GREGORIAN
METHOD:PUBLISH
X-WR-CALNAME:Mark T. Barclay | Preacher of Righteousness
X-ORIGINAL-URL:https://marktbarclay.com
X-WR-CALDESC:Events for Mark T. Barclay | Preacher of Righteousness
REFRESH-INTERVAL;VALUE=DURATION:PT1H
X-Robots-Tag:noindex
X-PUBLISHED-TTL:PT1H
BEGIN:VTIMEZONE
TZID:America/Detroit
BEGIN:DAYLIGHT
TZOFFSETFROM:-0500
TZOFFSETTO:-0400
TZNAME:EDT
DTSTART:20220313T070000
END:DAYLIGHT
BEGIN:STANDARD
TZOFFSETFROM:-0400
TZOFFSETTO:-0500
TZNAME:EST
DTSTART:20221106T060000
END:STANDARD
BEGIN:DAYLIGHT
TZOFFSETFROM:-0500
TZOFFSETTO:-0400
TZNAME:EDT
DTSTART:20230312T070000
END:DAYLIGHT
BEGIN:STANDARD
TZOFFSETFROM:-0400
TZOFFSETTO:-0500
TZNAME:EST
DTSTART:20231105T060000
END:STANDARD
BEGIN:DAYLIGHT
TZOFFSETFROM:-0500
TZOFFSETTO:-0400
TZNAME:EDT
DTSTART:20240310T070000
END:DAYLIGHT
BEGIN:STANDARD
TZOFFSETFROM:-0400
TZOFFSETTO:-0500
TZNAME:EST
DTSTART:20241103T060000
END:STANDARD
END:VTIMEZONE
BEGIN:VTIMEZONE
TZID:America/Chicago
BEGIN:DAYLIGHT
TZOFFSETFROM:-0600
TZOFFSETTO:-0500
TZNAME:CDT
DTSTART:20220313T080000
END:DAYLIGHT
BEGIN:STANDARD
TZOFFSETFROM:-0500
TZOFFSETTO:-0600
TZNAME:CST
DTSTART:20221106T070000
END:STANDARD
BEGIN:DAYLIGHT
TZOFFSETFROM:-0600
TZOFFSETTO:-0500
TZNAME:CDT
DTSTART:20230312T080000
END:DAYLIGHT
BEGIN:STANDARD
TZOFFSETFROM:-0500
TZOFFSETTO:-0600
TZNAME:CST
DTSTART:20231105T070000
END:STANDARD
BEGIN:DAYLIGHT
TZOFFSETFROM:-0600
TZOFFSETTO:-0500
TZNAME:CDT
DTSTART:20240310T080000
END:DAYLIGHT
BEGIN:STANDARD
TZOFFSETFROM:-0500
TZOFFSETTO:-0600
TZNAME:CST
DTSTART:20241103T070000
END:STANDARD
END:VTIMEZONE
BEGIN:VEVENT
DTSTART;TZID=America/Detroit:20231210T103000
DTEND;TZID=America/Detroit:20231210T123000
DTSTAMP:20260421T132813
CREATED:20231117T213439Z
LAST-MODIFIED:20231117T213439Z
UID:3896-1702204200-1702211400@marktbarclay.com
SUMMARY:Vickie L. Barclay in Marietta\, GA
DESCRIPTION:
URL:https://marktbarclay.com/event/vickie-l-barclay-in-marietta-ga/
LOCATION:Hope Worship Center\, 2958 Powder Springs Rd.\, Marietta\, GA\, 30064\, United States
CATEGORIES:Vickie Barclay
END:VEVENT
BEGIN:VEVENT
DTSTART;TZID=America/Detroit:20231210T100000
DTEND;TZID=America/Detroit:20231210T100000
DTSTAMP:20260421T132813
CREATED:20230817T181535Z
LAST-MODIFIED:20231027T153936Z
UID:2914-1702202400-1702202400@marktbarclay.com
SUMMARY:Mark T. Barclay in St. Louis\, MI
DESCRIPTION:
URL:https://marktbarclay.com/event/mark-t-barclay-in-st-louis-mi/
LOCATION:Resurrection Life Church Mid Michigan\, 714 S. Main Str\, St. Louis\, MI\, 48880\, United States
CATEGORIES:Mark T. Barclay
END:VEVENT
BEGIN:VEVENT
DTSTART;TZID=America/Detroit:20231206T190000
DTEND;TZID=America/Detroit:20231206T190000
DTSTAMP:20260421T132813
CREATED:20230504T153758Z
LAST-MODIFIED:20230919T181659Z
UID:2782-1701889200-1701889200@marktbarclay.com
SUMMARY:Josh M. Barclay in Holt\, MI
DESCRIPTION:
URL:https://marktbarclay.com/event/josh-m-barclay-in-holt-mi/
LOCATION:Community Faith Church\, 4801 E. Willoughby Rd.\, Holt\, MI\, 48842\, United States
CATEGORIES:Josh M. Barclay
END:VEVENT
BEGIN:VEVENT
DTSTART;TZID=America/Detroit:20231206T180000
DTEND;TZID=America/Detroit:20231206T180000
DTSTAMP:20260421T132813
CREATED:20230821T184901Z
LAST-MODIFIED:20230821T184905Z
UID:2922-1701885600-1701885600@marktbarclay.com
SUMMARY:Mark T. Barclay in Sault Ste. Marie
DESCRIPTION:
URL:https://marktbarclay.com/event/mark-t-barclay-in-sault-ste-marie-2/
LOCATION:Soo Christian Fellowship Church\, 2920 Ashmun Street\, Sault St. Marie\, MI\, 49783\, United States
CATEGORIES:Mark T. Barclay
END:VEVENT
BEGIN:VEVENT
DTSTART;TZID=America/Chicago:20231203T180000
DTEND;TZID=America/Chicago:20231203T180000
DTSTAMP:20260421T132813
CREATED:20231027T154204Z
LAST-MODIFIED:20231027T154204Z
UID:3143-1701626400-1701626400@marktbarclay.com
SUMMARY:Mark T. Barclay in Bartlett\, IL
DESCRIPTION:
URL:https://marktbarclay.com/event/mark-t-barclay-in-bartlett-il-14/
LOCATION:Faith World Outreach Church\, 1280 S IL Route 59\, Bartlett\, IL\, 60103-3006\, United States
CATEGORIES:Mark T. Barclay
END:VEVENT
BEGIN:VEVENT
DTSTART;TZID=America/Chicago:20231203T103000
DTEND;TZID=America/Chicago:20231203T103000
DTSTAMP:20260421T132813
CREATED:20231019T162935Z
LAST-MODIFIED:20231027T154054Z
UID:3123-1701599400-1701599400@marktbarclay.com
SUMMARY:Mark T. Barclay in Bartlett\, IL
DESCRIPTION:
URL:https://marktbarclay.com/event/mark-t-barclay-in-bartlett-il-13/
LOCATION:Faith World Outreach Church\, 1280 S IL Route 59\, Bartlett\, IL\, 60103-3006\, United States
CATEGORIES:Mark T. Barclay
END:VEVENT
BEGIN:VEVENT
DTSTART;TZID=America/Detroit:20231203T100000
DTEND;TZID=America/Detroit:20231203T100000
DTSTAMP:20260421T132813
CREATED:20231101T202746Z
LAST-MODIFIED:20231101T202756Z
UID:3164-1701597600-1701597600@marktbarclay.com
SUMMARY:Dr. Terry Mize in Midland\, MI
DESCRIPTION:
URL:https://marktbarclay.com/event/dr-terry-mize-in-midland-mi/
LOCATION:Living Word International\, 2010 Stark Rd.\, Midland\, MI\, 48642\, United States
CATEGORIES:Guest Minister
END:VEVENT
BEGIN:VEVENT
DTSTART;TZID=America/Detroit:20231203T090000
DTEND;TZID=America/Detroit:20231203T090000
DTSTAMP:20260421T132813
CREATED:20230425T141527Z
LAST-MODIFIED:20230425T141541Z
UID:2741-1701594000-1701594000@marktbarclay.com
SUMMARY:Josh M. Barclay in Owosso\, MI
DESCRIPTION:
URL:https://marktbarclay.com/event/josh-m-barclay-in-owosso-mi-3/
LOCATION:New Creation Church\, 1800 Corunna Ave\, Owosso\, MI\, 48857\, United States
CATEGORIES:Josh M. Barclay
END:VEVENT
BEGIN:VEVENT
DTSTART;VALUE=DATE:20231129
DTEND;VALUE=DATE:20231202
DTSTAMP:20260421T132813
CREATED:20220831T155837Z
LAST-MODIFIED:20231114T183043Z
UID:2183-1701216000-1701475199@marktbarclay.com
SUMMARY:Mark T. Barclay's National Leadership Conference
DESCRIPTION:Join us for a powerful time in Word and Spirit as Dr. Barclay deals with the practical areas of leadership which relate to all of us! \n			\n			\n				\n				\n				\n				\n			\n				\n				\n				\n				\n				\n				\n				\n				\n				\n				\n				Service Times\n(all times ET): \nWednesday7:00 p.m. \nThursday10:30 a.m.7:00 p.m. \nFriday10:30 a.m.7:00 p.m. \nChildcare provided for evening services. \n			\n			\n				\n				\n				\n				\n				\n				\n				\n				\n				\n				Ministers\nWe love ministers! If you plan to attend any of these meetings\, please allow us to save a seat for you and care for you properly by registering in advance. \n			\n				Ministers' Registration
URL:https://marktbarclay.com/event/mark-t-barclays-national-leadership-conference-2/
LOCATION:Living Word International\, 2010 Stark Rd.\, Midland\, MI\, 48642\, United States
CATEGORIES:Conference
END:VEVENT
BEGIN:VEVENT
DTSTART;TZID=America/Chicago:20231119T110000
DTEND;TZID=America/Chicago:20231119T110000
DTSTAMP:20260421T132813
CREATED:20230503T204154Z
LAST-MODIFIED:20230503T204158Z
UID:2780-1700391600-1700391600@marktbarclay.com
SUMMARY:Josh M. Barclay in Cordova\, AL
DESCRIPTION:
URL:https://marktbarclay.com/event/josh-m-barclay-in-cordova-al/
LOCATION:Gathering Church\, 8090 Highway 78\, Cordova\, AL\, 35550\, United States
CATEGORIES:Josh M. Barclay
END:VEVENT
BEGIN:VEVENT
DTSTART;TZID=America/Chicago:20231116T183000
DTEND;TZID=America/Chicago:20231116T183000
DTSTAMP:20260421T132813
CREATED:20230420T154847Z
LAST-MODIFIED:20230420T154853Z
UID:2715-1700159400-1700159400@marktbarclay.com
SUMMARY:Josh M. Barclay in Clarksville\, TN
DESCRIPTION:
URL:https://marktbarclay.com/event/josh-m-barclay-in-clarksville-tn-3/
LOCATION:Faith Outreach Church\, 731 Windermere Dr\, Clarksville\, TN\, 37043-8415
CATEGORIES:Josh M. Barclay
END:VEVENT
BEGIN:VEVENT
DTSTART;TZID=America/Chicago:20231115T183000
DTEND;TZID=America/Chicago:20231115T183000
DTSTAMP:20260421T132813
CREATED:20230421T182856Z
LAST-MODIFIED:20230421T182859Z
UID:2732-1700073000-1700073000@marktbarclay.com
SUMMARY:Mark T. Barclay in Clarksville\, TN
DESCRIPTION:
URL:https://marktbarclay.com/event/mark-t-barclay-in-clarksville-tn-4/
LOCATION:Faith Outreach Church\, 731 Windermere Dr\, Clarksville\, TN\, 37043-8415
CATEGORIES:Mark T. Barclay
END:VEVENT
BEGIN:VEVENT
DTSTART;VALUE=DATE:20231113
DTEND;VALUE=DATE:20231115
DTSTAMP:20260421T132813
CREATED:20220831T155545Z
LAST-MODIFIED:20220831T155545Z
UID:2179-1699833600-1700006399@marktbarclay.com
SUMMARY:Mark T. Barclay in Gatlinburg\, TN
DESCRIPTION:Live Straight Talk for Ministers \nBy invitation only
URL:https://marktbarclay.com/event/mark-t-barclay-in-gatlinburg-tn-2/
LOCATION:Courtyard by Marriott Gatlinburg Downtown\, 315 Historic Nature Trail\, Gatlinburg\, TN\, 37738\, United States
CATEGORIES:Mark T. Barclay
END:VEVENT
BEGIN:VEVENT
DTSTART;TZID=America/Detroit:20231112T180000
DTEND;TZID=America/Detroit:20231112T180000
DTSTAMP:20260421T132813
CREATED:20230629T181031Z
LAST-MODIFIED:20230629T181036Z
UID:2842-1699812000-1699812000@marktbarclay.com
SUMMARY:Mark T. Barclay in Richmond\, KY
DESCRIPTION:
URL:https://marktbarclay.com/event/mark-t-barclay-in-richmond-ky/
LOCATION:Victory World Outreach Center\, 2233 Lexington Rd.\, Richmond\, KY\, 40475\, United States
CATEGORIES:Mark T. Barclay
END:VEVENT
BEGIN:VEVENT
DTSTART;TZID=America/Detroit:20231112T103000
DTEND;TZID=America/Detroit:20231112T123000
DTSTAMP:20260421T132813
CREATED:20230915T173334Z
LAST-MODIFIED:20231019T144004Z
UID:3042-1699785000-1699792200@marktbarclay.com
SUMMARY:Mark T. Barclay in Lebanon\, OH
DESCRIPTION:
URL:https://marktbarclay.com/event/mark-t-barclay-in-lebanon-oh-7/
LOCATION:Solid Rock Church\, 903 Union Rd.\, Lebanon\, OH\, 45036\, United States
CATEGORIES:Mark T. Barclay
END:VEVENT
BEGIN:VEVENT
DTSTART;TZID=America/Detroit:20231112T100000
DTEND;TZID=America/Detroit:20231112T100000
DTSTAMP:20260421T132813
CREATED:20230825T160520Z
LAST-MODIFIED:20230825T160523Z
UID:2960-1699783200-1699783200@marktbarclay.com
SUMMARY:Josh M. Barclay in Indianapolis\, IN
DESCRIPTION:
URL:https://marktbarclay.com/event/josh-m-barclay-in-indianapolis-in-2/
LOCATION:The Father’s House\, 1551 South Franklin Rd.\, Indianapolis\, IN\, 46239\, United States
CATEGORIES:Josh M. Barclay
END:VEVENT
BEGIN:VEVENT
DTSTART;TZID=America/Detroit:20231110T190000
DTEND;TZID=America/Detroit:20231110T190000
DTSTAMP:20260421T132813
CREATED:20230322T145208Z
LAST-MODIFIED:20230322T145212Z
UID:2656-1699642800-1699642800@marktbarclay.com
SUMMARY:Mark T. Barclay in Adrian\, MI
DESCRIPTION:
URL:https://marktbarclay.com/event/mark-t-barclay-in-adrian-mi/
LOCATION:Cornerstone Church\, 1055 West US-223\, Adrian\, MI\, 49221\, United States
CATEGORIES:Mark T. Barclay
END:VEVENT
BEGIN:VEVENT
DTSTART;TZID=America/Detroit:20231108T183000
DTEND;TZID=America/Detroit:20231108T203000
DTSTAMP:20260421T132813
CREATED:20231009T171508Z
LAST-MODIFIED:20231009T171508Z
UID:3071-1699468200-1699475400@marktbarclay.com
SUMMARY:Mark T. Barclay in Lapeer\, MI
DESCRIPTION:
URL:https://marktbarclay.com/event/mark-t-barclay-in-lapeer-mi-2/
LOCATION:Faith Christian Family Church of Lapeer\, 3440 Davison Road\, Lapeer\, MI\, 48446\, United States
CATEGORIES:Mark T. Barclay
END:VEVENT
BEGIN:VEVENT
DTSTART;TZID=America/Detroit:20231030T190000
DTEND;TZID=America/Detroit:20231030T190000
DTSTAMP:20260421T132813
CREATED:20230823T183409Z
LAST-MODIFIED:20230823T183620Z
UID:2956-1698692400-1698692400@marktbarclay.com
SUMMARY:Mark T. Barclay in Eaton\, OH
DESCRIPTION:Missions Conference – registration required \nMonday and Tuesday evening\nSpecific Times TBD
URL:https://marktbarclay.com/event/mark-t-barclay-in-eaton-oh-3-2/
LOCATION:Covenant of Peace Church\, 4745 US 127 North\, Eaton\, OH\, 45320\, United States
CATEGORIES:Mark T. Barclay
END:VEVENT
BEGIN:VEVENT
DTSTART;TZID=America/Detroit:20231030T190000
DTEND;TZID=America/Detroit:20231030T190000
DTSTAMP:20260421T132813
CREATED:20230823T183409Z
LAST-MODIFIED:20230823T183620Z
UID:2956-1698692400-1698692400@marktbarclay.com
SUMMARY:Mark T. Barclay in Eaton\, OH
DESCRIPTION:Missions Conference – registration required \nMonday and Tuesday evening\nSpecific Times TBD
URL:https://marktbarclay.com/event/mark-t-barclay-in-eaton-oh-3-2/
LOCATION:Covenant of Peace Church\, 4745 US 127 North\, Eaton\, OH\, 45320\, United States
CATEGORIES:Mark T. Barclay
END:VEVENT
BEGIN:VEVENT
DTSTART;TZID=America/Chicago:20231029T180000
DTEND;TZID=America/Chicago:20231029T180000
DTSTAMP:20260421T132813
CREATED:20230712T154339Z
LAST-MODIFIED:20230712T154345Z
UID:2871-1698602400-1698602400@marktbarclay.com
SUMMARY:Mark T. Barclay in Cookeville\, TN
DESCRIPTION:
URL:https://marktbarclay.com/event/mark-t-barclay-in-cookeville-tn-4/
LOCATION:Engrafted Word Church\, 5 W Broad St\, Cookeville\, TN\, 38501\, United States
CATEGORIES:Mark T. Barclay
END:VEVENT
BEGIN:VEVENT
DTSTART;TZID=America/Detroit:20231029T110000
DTEND;TZID=America/Detroit:20231029T110000
DTSTAMP:20260421T132813
CREATED:20230616T160351Z
LAST-MODIFIED:20230616T160354Z
UID:2833-1698577200-1698577200@marktbarclay.com
SUMMARY:Mark T. Barclay in Asheville\, NC
DESCRIPTION:
URL:https://marktbarclay.com/event/mark-t-barclay-in-asheville-nc-3/
LOCATION:Glory Tabernacle\, 1221 Sweeten Creek Rd\, Asheville\, NC\, 28803\, United States
CATEGORIES:Mark T. Barclay
END:VEVENT
BEGIN:VEVENT
DTSTART;TZID=America/Detroit:20231029T100000
DTEND;TZID=America/Detroit:20231029T120000
DTSTAMP:20260421T132813
CREATED:20230921T152126Z
LAST-MODIFIED:20230921T152126Z
UID:3050-1698573600-1698580800@marktbarclay.com
SUMMARY:James P. Randolph in Indianapolis\, IN
DESCRIPTION:
URL:https://marktbarclay.com/event/james-p-randolph-in-indianapolis-in-2/
LOCATION:The Father’s House\, 1551 South Franklin Rd.\, Indianapolis\, IN\, 46239\, United States
CATEGORIES:James Randolph
END:VEVENT
BEGIN:VEVENT
DTSTART;TZID=America/Detroit:20231026T190000
DTEND;TZID=America/Detroit:20231026T210000
DTSTAMP:20260421T132813
CREATED:20231017T195454Z
LAST-MODIFIED:20231017T195454Z
UID:3120-1698346800-1698354000@marktbarclay.com
SUMMARY:Rev. Kurt Holthus in Midland\, MI
DESCRIPTION:
URL:https://marktbarclay.com/event/rev-kurt-holthus-in-midland-mi/
LOCATION:Living Word International\, 2010 Stark Rd.\, Midland\, MI\, 48642\, United States
CATEGORIES:Guest Minister
END:VEVENT
BEGIN:VEVENT
DTSTART;TZID=America/Detroit:20231026T180000
DTEND;TZID=America/Detroit:20231026T200000
DTSTAMP:20260421T132813
CREATED:20230921T171955Z
LAST-MODIFIED:20230921T171955Z
UID:3055-1698343200-1698350400@marktbarclay.com
SUMMARY:Josh M. Barclay in Muskegon\, MI
DESCRIPTION:*YOUTH Meeting*
URL:https://marktbarclay.com/event/josh-m-barclay-in-muskegon-mi-5/
LOCATION:Living Word Muskegon\, 1551 Wood St.\, Muskegon\, MI\, 49442\, United States
CATEGORIES:Josh M. Barclay
END:VEVENT
BEGIN:VEVENT
DTSTART;TZID=America/Detroit:20231025T190000
DTEND;TZID=America/Detroit:20231025T210000
DTSTAMP:20260421T132813
CREATED:20230921T171822Z
LAST-MODIFIED:20230921T171822Z
UID:3053-1698260400-1698267600@marktbarclay.com
SUMMARY:Josh M. Barclay in Muskegon\, MI
DESCRIPTION:
URL:https://marktbarclay.com/event/josh-m-barclay-in-muskegon-mi-4/
LOCATION:Living Word Muskegon\, 1551 Wood St.\, Muskegon\, MI\, 49442\, United States
CATEGORIES:Josh M. Barclay
END:VEVENT
BEGIN:VEVENT
DTSTART;TZID=America/Detroit:20231025T190000
DTEND;TZID=America/Detroit:20231025T190000
DTSTAMP:20260421T132813
CREATED:20230828T200848Z
LAST-MODIFIED:20230828T200851Z
UID:2965-1698260400-1698260400@marktbarclay.com
SUMMARY:Mark T. Barclay in Indianapolis\, IN
DESCRIPTION:
URL:https://marktbarclay.com/event/mark-t-barclay-in-indianapolis-in-5/
LOCATION:The Father’s House\, 1551 South Franklin Rd.\, Indianapolis\, IN\, 46239\, United States
CATEGORIES:Mark T. Barclay
END:VEVENT
BEGIN:VEVENT
DTSTART;TZID=America/Chicago:20231021T140000
DTEND;TZID=America/Chicago:20231021T160000
DTSTAMP:20260421T132813
CREATED:20230322T191444Z
LAST-MODIFIED:20230322T194234Z
UID:2666-1697896800-1697904000@marktbarclay.com
SUMMARY:Mark T. Barclay in Autaugaville\, AL
DESCRIPTION:*No registration required but please call ahead if Minister or attending with Ministry group* \n 
URL:https://marktbarclay.com/event/mark-t-barclay-in-autaugaville-al/
LOCATION:Canaan Land Ministries\, 449 CR 165\, Autaugaville\, AL\, 36003\, United States
CATEGORIES:Mark T. Barclay
END:VEVENT
BEGIN:VEVENT
DTSTART;VALUE=DATE:20231017
DTEND;VALUE=DATE:20231021
DTSTAMP:20260421T132813
CREATED:20220830T210120Z
LAST-MODIFIED:20220830T210120Z
UID:2176-1697500800-1697846399@marktbarclay.com
SUMMARY:Amarillo Holy Spirit Conference
DESCRIPTION:Tuesday 7pm\, Wednesday 10:30am & 7pm\, Thursday 10:30am & 7pm\, and \nFriday 10:30am & 7pm
URL:https://marktbarclay.com/event/amarillo-holy-spirit-conference-2/
LOCATION:Accelerate Church\, 4400 Crockett Str\, Amarillo\, 79110\, United States
CATEGORIES:Conference
END:VEVENT
BEGIN:VEVENT
DTSTART;TZID=America/Chicago:20231015T100000
DTEND;TZID=America/Chicago:20231015T120000
DTSTAMP:20260421T132813
CREATED:20230929T150832Z
LAST-MODIFIED:20231015T122544Z
UID:3060-1697364000-1697371200@marktbarclay.com
SUMMARY:(CANCELED) Mark T. Barclay in Benton\, AR
DESCRIPTION:
URL:https://marktbarclay.com/event/mark-t-barclay-in-benton-ar-3/
LOCATION:CenterPoint Church\, 20383 I-30\, Benton\, AR\, 72015\, United States
CATEGORIES:Mark T. Barclay
END:VEVENT
END:VCALENDAR