BEGIN:VCALENDAR
VERSION:2.0
PRODID:-//Mark T. Barclay | Preacher of Righteousness - ECPv6.15.20//NONSGML v1.0//EN
CALSCALE:GREGORIAN
METHOD:PUBLISH
X-WR-CALNAME:Mark T. Barclay | Preacher of Righteousness
X-ORIGINAL-URL:https://marktbarclay.com
X-WR-CALDESC:Events for Mark T. Barclay | Preacher of Righteousness
REFRESH-INTERVAL;VALUE=DURATION:PT1H
X-Robots-Tag:noindex
X-PUBLISHED-TTL:PT1H
BEGIN:VTIMEZONE
TZID:America/Detroit
BEGIN:DAYLIGHT
TZOFFSETFROM:-0500
TZOFFSETTO:-0400
TZNAME:EDT
DTSTART:20200308T070000
END:DAYLIGHT
BEGIN:STANDARD
TZOFFSETFROM:-0400
TZOFFSETTO:-0500
TZNAME:EST
DTSTART:20201101T060000
END:STANDARD
BEGIN:DAYLIGHT
TZOFFSETFROM:-0500
TZOFFSETTO:-0400
TZNAME:EDT
DTSTART:20210314T070000
END:DAYLIGHT
BEGIN:STANDARD
TZOFFSETFROM:-0400
TZOFFSETTO:-0500
TZNAME:EST
DTSTART:20211107T060000
END:STANDARD
BEGIN:DAYLIGHT
TZOFFSETFROM:-0500
TZOFFSETTO:-0400
TZNAME:EDT
DTSTART:20220313T070000
END:DAYLIGHT
BEGIN:STANDARD
TZOFFSETFROM:-0400
TZOFFSETTO:-0500
TZNAME:EST
DTSTART:20221106T060000
END:STANDARD
END:VTIMEZONE
BEGIN:VEVENT
DTSTART;TZID=America/Detroit:20210516T180000
DTEND;TZID=America/Detroit:20210516T200000
DTSTAMP:20260421T141849
CREATED:20210430T015500Z
LAST-MODIFIED:20210430T015500Z
UID:963-1621188000-1621195200@marktbarclay.com
SUMMARY:Feed Store Family Church
DESCRIPTION:
URL:https://marktbarclay.com/event/feed-store-family-church/
LOCATION:Feed Store Family Church\, 4900 E. County Rd. 2 South\, Monte Vista\, CO\, 81144\, United States
CATEGORIES:Mark T. Barclay
END:VEVENT
BEGIN:VEVENT
DTSTART;TZID=America/Detroit:20210514T190000
DTEND;TZID=America/Detroit:20210514T210000
DTSTAMP:20260421T141849
CREATED:20210430T013927Z
LAST-MODIFIED:20210504T175115Z
UID:956-1621018800-1621026000@marktbarclay.com
SUMMARY:Muskegon\, MI - MEN'S MEETING
DESCRIPTION:* Men only\nRegistration – call the church for more details and to register.
URL:https://marktbarclay.com/event/muskegon-mi-mens-meeting/
LOCATION:Living Word Muskegon\, 1551 Wood St.\, Muskegon\, MI\, 49442\, United States
CATEGORIES:Mark T. Barclay
END:VEVENT
END:VCALENDAR