BEGIN:VCALENDAR
VERSION:2.0
PRODID:-//Mark T. Barclay | Preacher of Righteousness - ECPv6.15.20//NONSGML v1.0//EN
CALSCALE:GREGORIAN
METHOD:PUBLISH
X-WR-CALNAME:Mark T. Barclay | Preacher of Righteousness
X-ORIGINAL-URL:https://marktbarclay.com
X-WR-CALDESC:Events for Mark T. Barclay | Preacher of Righteousness
REFRESH-INTERVAL;VALUE=DURATION:PT1H
X-Robots-Tag:noindex
X-PUBLISHED-TTL:PT1H
BEGIN:VTIMEZONE
TZID:America/Chicago
BEGIN:DAYLIGHT
TZOFFSETFROM:-0600
TZOFFSETTO:-0500
TZNAME:CDT
DTSTART:20230312T080000
END:DAYLIGHT
BEGIN:STANDARD
TZOFFSETFROM:-0500
TZOFFSETTO:-0600
TZNAME:CST
DTSTART:20231105T070000
END:STANDARD
BEGIN:DAYLIGHT
TZOFFSETFROM:-0600
TZOFFSETTO:-0500
TZNAME:CDT
DTSTART:20240310T080000
END:DAYLIGHT
BEGIN:STANDARD
TZOFFSETFROM:-0500
TZOFFSETTO:-0600
TZNAME:CST
DTSTART:20241103T070000
END:STANDARD
BEGIN:DAYLIGHT
TZOFFSETFROM:-0600
TZOFFSETTO:-0500
TZNAME:CDT
DTSTART:20250309T080000
END:DAYLIGHT
BEGIN:STANDARD
TZOFFSETFROM:-0500
TZOFFSETTO:-0600
TZNAME:CST
DTSTART:20251102T070000
END:STANDARD
END:VTIMEZONE
BEGIN:VTIMEZONE
TZID:America/Detroit
BEGIN:DAYLIGHT
TZOFFSETFROM:-0500
TZOFFSETTO:-0400
TZNAME:EDT
DTSTART:20230312T070000
END:DAYLIGHT
BEGIN:STANDARD
TZOFFSETFROM:-0400
TZOFFSETTO:-0500
TZNAME:EST
DTSTART:20231105T060000
END:STANDARD
BEGIN:DAYLIGHT
TZOFFSETFROM:-0500
TZOFFSETTO:-0400
TZNAME:EDT
DTSTART:20240310T070000
END:DAYLIGHT
BEGIN:STANDARD
TZOFFSETFROM:-0400
TZOFFSETTO:-0500
TZNAME:EST
DTSTART:20241103T060000
END:STANDARD
BEGIN:DAYLIGHT
TZOFFSETFROM:-0500
TZOFFSETTO:-0400
TZNAME:EDT
DTSTART:20250309T070000
END:DAYLIGHT
BEGIN:STANDARD
TZOFFSETFROM:-0400
TZOFFSETTO:-0500
TZNAME:EST
DTSTART:20251102T060000
END:STANDARD
END:VTIMEZONE
BEGIN:VTIMEZONE
TZID:America/Los_Angeles
BEGIN:DAYLIGHT
TZOFFSETFROM:-0800
TZOFFSETTO:-0700
TZNAME:PDT
DTSTART:20230312T100000
END:DAYLIGHT
BEGIN:STANDARD
TZOFFSETFROM:-0700
TZOFFSETTO:-0800
TZNAME:PST
DTSTART:20231105T090000
END:STANDARD
BEGIN:DAYLIGHT
TZOFFSETFROM:-0800
TZOFFSETTO:-0700
TZNAME:PDT
DTSTART:20240310T100000
END:DAYLIGHT
BEGIN:STANDARD
TZOFFSETFROM:-0700
TZOFFSETTO:-0800
TZNAME:PST
DTSTART:20241103T090000
END:STANDARD
BEGIN:DAYLIGHT
TZOFFSETFROM:-0800
TZOFFSETTO:-0700
TZNAME:PDT
DTSTART:20250309T100000
END:DAYLIGHT
BEGIN:STANDARD
TZOFFSETFROM:-0700
TZOFFSETTO:-0800
TZNAME:PST
DTSTART:20251102T090000
END:STANDARD
END:VTIMEZONE
BEGIN:VEVENT
DTSTART;TZID=America/Chicago:20240707T083000
DTEND;TZID=America/Chicago:20240707T103000
DTSTAMP:20260421T075527
CREATED:20231129T153712Z
LAST-MODIFIED:20231129T153712Z
UID:4914-1720341000-1720348200@marktbarclay.com
SUMMARY:Mark T. Barclay in La Crosse\, WI
DESCRIPTION:
URL:https://marktbarclay.com/event/mark-t-barclay-in-la-crosse-wi-2/
LOCATION:Living Word Christian Church  – WI\, 2015 Ward Avenue\, La Crosse\, WI\, 54601
CATEGORIES:Mark T. Barclay
END:VEVENT
BEGIN:VEVENT
DTSTART;TZID=America/Chicago:20240707T180000
DTEND;TZID=America/Chicago:20240707T200000
DTSTAMP:20260421T075527
CREATED:20240614T221229Z
LAST-MODIFIED:20240614T221229Z
UID:12853-1720375200-1720382400@marktbarclay.com
SUMMARY:Mark T. Barclay in Bartlett\, IL
DESCRIPTION:
URL:https://marktbarclay.com/event/mark-t-barclay-in-bartlett-il-18/
LOCATION:Faith World Outreach Church\, 1280 S IL Route 59\, Bartlett\, IL\, 60103-3006\, United States
CATEGORIES:Mark T. Barclay
END:VEVENT
BEGIN:VEVENT
DTSTART;TZID=America/Detroit:20240709T190000
DTEND;TZID=America/Detroit:20240709T210000
DTSTAMP:20260421T075527
CREATED:20240309T141817Z
LAST-MODIFIED:20240309T141817Z
UID:9422-1720551600-1720558800@marktbarclay.com
SUMMARY:Mark T. Barclay in Lake Leelanau\, MI
DESCRIPTION:
URL:https://marktbarclay.com/event/mark-t-barclay-in-lake-leelanau-mi-3/
LOCATION:Leelanau Community Church\, 245 S. Lake Leelanau Dr.\, Lake Leelanau\, MI\, 49653\, United States
CATEGORIES:Mark T. Barclay
END:VEVENT
BEGIN:VEVENT
DTSTART;VALUE=DATE:20240716
DTEND;VALUE=DATE:20240720
DTSTAMP:20260421T075527
CREATED:20231031T184955Z
LAST-MODIFIED:20231031T184955Z
UID:3160-1721088000-1721433599@marktbarclay.com
SUMMARY:Josh M. Barclay's Invasion 2024 Conference - FREEDOM
DESCRIPTION:
URL:https://marktbarclay.com/event/josh-m-barclays-invasion-2024-conference-freedom/
LOCATION:MI
CATEGORIES:Conference
END:VEVENT
BEGIN:VEVENT
DTSTART;TZID=America/Detroit:20240725T190000
DTEND;TZID=America/Detroit:20240725T210000
DTSTAMP:20260421T075527
CREATED:20240123T184442Z
LAST-MODIFIED:20240123T184442Z
UID:7374-1721934000-1721941200@marktbarclay.com
SUMMARY:Rev. and Mrs. Jean-Paul Engler in Midland\, MI
DESCRIPTION:
URL:https://marktbarclay.com/event/rev-and-mrs-jean-paul-engler-in-midland-mi/
LOCATION:Living Word International\, 2010 Stark Rd.\, Midland\, MI\, 48642\, United States
CATEGORIES:Guest Minister
END:VEVENT
BEGIN:VEVENT
DTSTART;TZID=America/Chicago:20240728T103000
DTEND;TZID=America/Chicago:20240728T123000
DTSTAMP:20260421T075527
CREATED:20240319T203825Z
LAST-MODIFIED:20240319T203825Z
UID:10021-1722162600-1722169800@marktbarclay.com
SUMMARY:Josh M. Barclay in Evansville\, IN
DESCRIPTION:
URL:https://marktbarclay.com/event/josh-m-barclay-in-evansville-in/
LOCATION:Oasis Church\, 4919 Plaza East Blvd\, Evansville\, IN\, 47715\, United States
CATEGORIES:Josh M. Barclay
END:VEVENT
BEGIN:VEVENT
DTSTART;TZID=America/Chicago:20240817T110000
DTEND;TZID=America/Chicago:20240817T140000
DTSTAMP:20260421T075527
CREATED:20240415T141524Z
LAST-MODIFIED:20240805T145745Z
UID:11570-1723892400-1723903200@marktbarclay.com
SUMMARY:Vickie L. Barclay in Bartlett\, IL
DESCRIPTION:Ladies Meeting **\nRegistration required
URL:https://marktbarclay.com/event/vickie-l-barclay-in-bartlett-il-2/
LOCATION:Faith World Outreach Church\, 1280 S IL Route 59\, Bartlett\, IL\, 60103-3006\, United States
CATEGORIES:Vickie Barclay
END:VEVENT
BEGIN:VEVENT
DTSTART;TZID=America/Chicago:20240818T103000
DTEND;TZID=America/Chicago:20240818T123000
DTSTAMP:20260421T075527
CREATED:20240415T143123Z
LAST-MODIFIED:20240415T143123Z
UID:11573-1723977000-1723984200@marktbarclay.com
SUMMARY:Mark and Vickie Barclay in Bartlett\, IL
DESCRIPTION:
URL:https://marktbarclay.com/event/mark-and-vickie-barclay-in-bartlett-il/
LOCATION:Faith World Outreach Church\, 1280 S IL Route 59\, Bartlett\, IL\, 60103-3006\, United States
CATEGORIES:Mark T. Barclay,Vickie Barclay
END:VEVENT
BEGIN:VEVENT
DTSTART;TZID=America/Chicago:20240818T180000
DTEND;TZID=America/Chicago:20240818T200000
DTSTAMP:20260421T075527
CREATED:20240415T143302Z
LAST-MODIFIED:20240415T143302Z
UID:11575-1724004000-1724011200@marktbarclay.com
SUMMARY:Mark T. Barclay in Bartlett\, IL
DESCRIPTION:
URL:https://marktbarclay.com/event/mark-t-barclay-in-bartlett-il-17/
LOCATION:Faith World Outreach Church\, 1280 S IL Route 59\, Bartlett\, IL\, 60103-3006\, United States
CATEGORIES:Mark T. Barclay
END:VEVENT
BEGIN:VEVENT
DTSTART;VALUE=DATE:20240819
DTEND;VALUE=DATE:20240821
DTSTAMP:20260421T075527
CREATED:20230905T200727Z
LAST-MODIFIED:20230905T200817Z
UID:2996-1724025600-1724198399@marktbarclay.com
SUMMARY:Mark T. Barclay in Louisville\, KY
DESCRIPTION:Live Straight Talk for Ministers By invitation only
URL:https://marktbarclay.com/event/mark-t-barclay-in-louisville-ky-2/
LOCATION:Marriott Louisville East\, 1903 Embassy Square Blvd.\, Louisville\, KY\, 40299
CATEGORIES:Mark T. Barclay
END:VEVENT
BEGIN:VEVENT
DTSTART;TZID=America/Detroit:20240825T100000
DTEND;TZID=America/Detroit:20240825T120000
DTSTAMP:20260421T075527
CREATED:20240610T171441Z
LAST-MODIFIED:20240610T171441Z
UID:12742-1724580000-1724587200@marktbarclay.com
SUMMARY:Mark T. Barclay in Greendale\, IN
DESCRIPTION:
URL:https://marktbarclay.com/event/mark-t-barclay-in-greendale-in-2/
LOCATION:Grace Church of the Valley\, 1709 Nowlin Ave.\, Greendale\, IN\, 47025\, United States
CATEGORIES:Mark T. Barclay
END:VEVENT
BEGIN:VEVENT
DTSTART;TZID=America/Detroit:20240825T180000
DTEND;TZID=America/Detroit:20240825T200000
DTSTAMP:20260421T075527
CREATED:20240610T175348Z
LAST-MODIFIED:20240611T145402Z
UID:12744-1724608800-1724616000@marktbarclay.com
SUMMARY:Mark T. Barclay in Mason\, OH
DESCRIPTION:
URL:https://marktbarclay.com/event/mark-t-barclay-in-mason-oh/
LOCATION:Faith World Outreach Center (Mason)\, 7308 Central Parke Blvd.\, Mason\, OH\, 45040-6802\, United States
CATEGORIES:Mark T. Barclay
END:VEVENT
BEGIN:VEVENT
DTSTART;TZID=America/Detroit:20240826T190000
DTEND;TZID=America/Detroit:20240826T210000
DTSTAMP:20260421T075527
CREATED:20240726T153958Z
LAST-MODIFIED:20240726T153959Z
UID:13036-1724698800-1724706000@marktbarclay.com
SUMMARY:Mark T. Barclay in Mason\, OH
DESCRIPTION:
URL:https://marktbarclay.com/event/mark-t-barclay-in-mason-oh-2/
LOCATION:Faith World Outreach Center (Mason)\, 7308 Central Parke Blvd.\, Mason\, OH\, 45040-6802\, United States
CATEGORIES:Mark T. Barclay
END:VEVENT
BEGIN:VEVENT
DTSTART;TZID=America/Chicago:20240911T190000
DTEND;TZID=America/Chicago:20240913T210000
DTSTAMP:20260421T075527
CREATED:20240524T163352Z
LAST-MODIFIED:20240604T224843Z
UID:12594-1726081200-1726261200@marktbarclay.com
SUMMARY:Mark T. Barclay in Cookeville\, TN
DESCRIPTION:
URL:https://marktbarclay.com/event/mark-t-barclay-in-cookeville-tn-6/
LOCATION:Engrafted Word Church\, 5 W Broad St\, Cookeville\, TN\, 38501\, United States
CATEGORIES:Mark T. Barclay
END:VEVENT
BEGIN:VEVENT
DTSTART;TZID=America/Chicago:20240912T190000
DTEND;TZID=America/Chicago:20240912T210000
DTSTAMP:20260421T075527
CREATED:20240604T225142Z
LAST-MODIFIED:20240604T225142Z
UID:12606-1726167600-1726174800@marktbarclay.com
SUMMARY:Mark T. Barclay in Sparta\, TN
DESCRIPTION:
URL:https://marktbarclay.com/event/mark-t-barclay-in-sparta-tn/
LOCATION:Abundant Grace Church\, 740 Crosslin Str.\, Sparta\, TN\, 38583\, United States
CATEGORIES:Mark T. Barclay
END:VEVENT
BEGIN:VEVENT
DTSTART;TZID=America/Chicago:20240913T190000
DTEND;TZID=America/Chicago:20240913T210000
DTSTAMP:20260421T075527
CREATED:20240604T225649Z
LAST-MODIFIED:20240604T225649Z
UID:12609-1726254000-1726261200@marktbarclay.com
SUMMARY:Mark T. Barclay in Sparta\, TN
DESCRIPTION:
URL:https://marktbarclay.com/event/mark-t-barclay-in-sparta-tn-2/
LOCATION:Faith Family Church – Sparta\, Overpass Rd.\, Sparta\, TN\, 38583\, United States
CATEGORIES:Mark T. Barclay
END:VEVENT
BEGIN:VEVENT
DTSTART;VALUE=DATE:20240917
DTEND;VALUE=DATE:20240921
DTSTAMP:20260421T075527
CREATED:20230905T201005Z
LAST-MODIFIED:20240821T154807Z
UID:2998-1726531200-1726876799@marktbarclay.com
SUMMARY:Mark T. Barclay's National Ministry of Helps Conference
DESCRIPTION:Tuesday 7pm\, Wednesday 10:30am & 7pm\, Thursday 10:30am & 7pm\, and Friday 10:30am & 7pm
URL:https://marktbarclay.com/event/mark-t-barclays-national-ministry-of-helps-conference-3/
LOCATION:Living Word International\, 2010 Stark Rd.\, Midland\, MI\, 48642\, United States
CATEGORIES:Conference
END:VEVENT
BEGIN:VEVENT
DTSTART;TZID=America/Los_Angeles:20240928T103000
DTEND;TZID=America/Los_Angeles:20240928T123000
DTSTAMP:20260421T075527
CREATED:20240819T140642Z
LAST-MODIFIED:20240905T181629Z
UID:13254-1727519400-1727526600@marktbarclay.com
SUMMARY:Vickie L. Barclay in San Marcos\, CA
DESCRIPTION:Ladies’ Brunch. Registration is required – event being held at a restaurant. Please see registration link for further details.
URL:https://marktbarclay.com/event/vickie-l-barclay-in-vista-ca/
LOCATION:Life Christian Church\, 1132 N. Melrose Dr.\, Ste 502\, Vista\, CA\, 92083\, United States
CATEGORIES:Vickie Barclay
END:VEVENT
BEGIN:VEVENT
DTSTART;TZID=America/Detroit:20240928T190000
DTEND;TZID=America/Detroit:20240928T190000
DTSTAMP:20260421T075527
CREATED:20240715T143245Z
LAST-MODIFIED:20240715T143456Z
UID:13018-1727550000-1727550000@marktbarclay.com
SUMMARY:Mark T. Barclay in Muncie\, IN
DESCRIPTION:
URL:https://marktbarclay.com/event/mark-t-barclay-in-muncie-in/
LOCATION:Faith Life Church\, West Williamsburg Boulevard\, Muncie\, IN\, 47304\, United States
CATEGORIES:Mark T. Barclay
END:VEVENT
BEGIN:VEVENT
DTSTART;TZID=America/Detroit:20240928T190000
DTEND;TZID=America/Detroit:20240928T190000
DTSTAMP:20260421T075527
CREATED:20240715T143245Z
LAST-MODIFIED:20240715T143456Z
UID:13018-1727550000-1727550000@marktbarclay.com
SUMMARY:Mark T. Barclay in Muncie\, IN
DESCRIPTION:
URL:https://marktbarclay.com/event/mark-t-barclay-in-muncie-in/
LOCATION:Faith Life Church\, West Williamsburg Boulevard\, Muncie\, IN\, 47304\, United States
CATEGORIES:Mark T. Barclay
END:VEVENT
BEGIN:VEVENT
DTSTART;TZID=America/Detroit:20240929T180000
DTEND;TZID=America/Detroit:20240929T200000
DTSTAMP:20260421T075527
CREATED:20240723T145808Z
LAST-MODIFIED:20240723T145808Z
UID:13032-1727632800-1727640000@marktbarclay.com
SUMMARY:Mark T. Barclay in Marion\, IN
DESCRIPTION:
URL:https://marktbarclay.com/event/mark-t-barclay-in-marion-in-5/
LOCATION:Tree of Life Church\, 2701 W 2nd St\, Marion\, IN\, 46952\, United States
CATEGORIES:Mark T. Barclay
END:VEVENT
BEGIN:VEVENT
DTSTART;TZID=America/Detroit:20241005T103000
DTEND;TZID=America/Detroit:20241005T120000
DTSTAMP:20260421T075527
CREATED:20240322T171335Z
LAST-MODIFIED:20240322T171335Z
UID:10068-1728124200-1728129600@marktbarclay.com
SUMMARY:Rev. John George in Midland\, MI
DESCRIPTION:MENS MEETING (13 AND OVER)\nNO REGISTRATION COST\nNO CHILDCARE PROVIDED
URL:https://marktbarclay.com/event/rev-john-george-in-midland-mi-2/
LOCATION:Living Word International\, 2010 Stark Rd.\, Midland\, MI\, 48642\, United States
CATEGORIES:Guest Minister
END:VEVENT
BEGIN:VEVENT
DTSTART;TZID=America/Detroit:20241006T100000
DTEND;TZID=America/Detroit:20241006T120000
DTSTAMP:20260421T075527
CREATED:20240322T171510Z
LAST-MODIFIED:20240322T171510Z
UID:10070-1728208800-1728216000@marktbarclay.com
SUMMARY:Rev. John George in Midland\, MI
DESCRIPTION:
URL:https://marktbarclay.com/event/rev-john-george-in-midland-mi-3/
LOCATION:Living Word International\, 2010 Stark Rd.\, Midland\, MI\, 48642\, United States
CATEGORIES:Guest Minister
END:VEVENT
BEGIN:VEVENT
DTSTART;TZID=America/Detroit:20241009T190000
DTEND;TZID=America/Detroit:20241009T210000
DTSTAMP:20260421T075527
CREATED:20240808T194034Z
LAST-MODIFIED:20240808T194034Z
UID:13240-1728500400-1728507600@marktbarclay.com
SUMMARY:Mark T. Barclay in Chesterfield\, MI
DESCRIPTION:
URL:https://marktbarclay.com/event/mark-t-barclay-in-chesterfield-mi-5/
LOCATION:Faith Christian Center\, 46000 N Gratiot Ave\, Chesterfield\, MI\, 48051\, United States
CATEGORIES:Mark T. Barclay
END:VEVENT
BEGIN:VEVENT
DTSTART;TZID=America/Detroit:20241010T190000
DTEND;TZID=America/Detroit:20241010T210000
DTSTAMP:20260421T075527
CREATED:20240908T181808Z
LAST-MODIFIED:20240908T181808Z
UID:13309-1728586800-1728594000@marktbarclay.com
SUMMARY:Rev. Dale Armstrong in Midland\, MI
DESCRIPTION:
URL:https://marktbarclay.com/event/rev-dale-armstrong-in-midland-mi/
LOCATION:Living Word International\, 2010 Stark Rd.\, Midland\, MI\, 48642\, United States
CATEGORIES:Guest Minister
END:VEVENT
BEGIN:VEVENT
DTSTART;TZID=America/Chicago:20241012T183000
DTEND;TZID=America/Chicago:20241012T203000
DTSTAMP:20260421T075527
CREATED:20240227T163556Z
LAST-MODIFIED:20240227T163609Z
UID:9380-1728757800-1728765000@marktbarclay.com
SUMMARY:Mark T. Barclay in Tulsa\, OK
DESCRIPTION:
URL:https://marktbarclay.com/event/mark-t-barclay-in-tulsa-ok-2/
LOCATION:Life Revolution Church\, 1111 S. Detroit Ave.\, Tulsa\, OK\, 74120\, United States
CATEGORIES:Mark T. Barclay
END:VEVENT
BEGIN:VEVENT
DTSTART;TZID=America/Chicago:20241013T100000
DTEND;TZID=America/Chicago:20241013T120000
DTSTAMP:20260421T075527
CREATED:20240129T203513Z
LAST-MODIFIED:20240129T203513Z
UID:8010-1728813600-1728820800@marktbarclay.com
SUMMARY:Mark T. Barclay in Tulsa\, OK
DESCRIPTION:
URL:https://marktbarclay.com/event/mark-t-barclay-in-tulsa-ok/
LOCATION:World Outreach Church of Tulsa\, 8863 E. 91st Str.\, Tulsa\, OK\, 74133-5519\, United States
CATEGORIES:Mark T. Barclay
END:VEVENT
BEGIN:VEVENT
DTSTART;TZID=America/Chicago:20241013T180000
DTEND;TZID=America/Chicago:20241013T200000
DTSTAMP:20260421T075527
CREATED:20241009T190120Z
LAST-MODIFIED:20241009T190120Z
UID:13488-1728842400-1728849600@marktbarclay.com
SUMMARY:Mark T. Barclay in Ponder\, TX
DESCRIPTION:
URL:https://marktbarclay.com/event/mark-t-barclay-in-ponder-tx-6/
LOCATION:Christian Faith Fellowship\, 114 West James Street\, Ponder\, TX\, 76259\, United States
CATEGORIES:Mark T. Barclay
END:VEVENT
BEGIN:VEVENT
DTSTART;VALUE=DATE:20241015
DTEND;VALUE=DATE:20241019
DTSTAMP:20260421T075527
CREATED:20230905T201246Z
LAST-MODIFIED:20240911T162750Z
UID:3001-1728950400-1729295999@marktbarclay.com
SUMMARY:Amarillo Holy Spirit Conference
DESCRIPTION:Tuesday 7pm\, Wednesday 10:30am & 7pm\, Thursday 10:30am & 7pm\, and Friday 10:30am & 7pm
URL:https://marktbarclay.com/event/amarillo-holy-spirit-conference-3/
LOCATION:Accelerate Church\, 4400 Crockett Str\, Amarillo\, 79110\, United States
CATEGORIES:Conference
END:VEVENT
BEGIN:VEVENT
DTSTART;TZID=America/Detroit:20241020T110000
DTEND;TZID=America/Detroit:20241020T130000
DTSTAMP:20260421T075527
CREATED:20240925T154643Z
LAST-MODIFIED:20241013T163452Z
UID:13473-1729422000-1729429200@marktbarclay.com
SUMMARY:Mark T. Barclay in Asheville\, NC
DESCRIPTION:
URL:https://marktbarclay.com/event/mark-t-barclay-in-asheville-nc-5/
LOCATION:Glory Tabernacle\, 1221 Sweeten Creek Rd\, Asheville\, NC\, 28803\, United States
CATEGORIES:Mark T. Barclay
END:VEVENT
END:VCALENDAR